Workbook

Sheet Pl 2016-20 PFC
A1: Część...............................................................
A2: (nr, nazwa)
A3: Dział...............................................................
A4: (nr, nazwa)
A5: Rozdział...........................................................
A6: (nr, nazwa)
A8: Nazwa funduszu...........................................................
A12: PLAN FINANSOWY FUNDUSZU CELOWEGO
A13: Część A
A14: Lp. | B14: Treść | D14: Plan wg Ustawy Budżetowej na | E14: Zmiany | F14: Plan po zmianach
D15: 2017 | F15: 2017
A19: I. | B19: Zadania wynikające z ustawy tworzącej fundusz celowy | D19: =SUM(D20:D21) -> 4913734000 | E19: =SUM(E20:E21) -> 0 | F19: =SUM(F20:F21) -> 4913734000
B20: - wydatki bieżące | D20: =SUM(D24,D27,D28,D29,D31,D35,D37,D40,D42,D44,D46:D47,D58,D60,D33,D62) -> 4771609000 | E20: =SUM(E24,E27,E28,E29,E31,E35,E37,E40,E42,E44,E46:E47,E58,E60,E33,E62) -> 0 | F20: =SUM(F24,F27,F28,F29,F31,F35,F37,F40,F42,F44,F46:F47,F58,F60,F33,F62) -> 4771609000
B21: - wydatki inwestycyjne | D21: =SUM(D25,D32,D36,D59,D45,D41) -> 142125000 | E21: =SUM(E25,E32,E36,E59,E45,E41) -> 0 | F21: =SUM(F25,F32,F36,F59,F45,F41) -> 142125000
A23: 1. | B23: Realizacja działań wyrównujących różnice między regionami - art. 47 ust. 1 pkt 1 | D23: =SUM(D24:D25) -> 50000000 | E23: =SUM(E24:E25) -> 0 | F23: =SUM(F24:F25) -> 50000000
A24: 1.1 | B24: - wydatki bieżące | D24: =D132+D170 -> 3000000 | E24: =E132+E170 -> 0 | F24: =F132+F170 -> 3000000
A25: 1.2 | B25: - wydatki inwestycyjne | D25: =SUM(D305+D324) -> 47000000 | E25: =SUM(E305+E324) -> 0 | F25: =SUM(F305+F324) -> 47000000
A26: 2. | B26: Realizacja programów wspieranych ze środków pomocowych Unii Europejskiej - art. 47 ust. 1 pkt 2 | D26: =SUM(D27:D27) -> 3000000 | E26: =SUM(E27:E27) -> 0 | F26: =SUM(F27:F27) -> 3000000
A27: 2.1 | B27: - wydatki bieżące | D27: =SUM(D131,D169,D215,D216) -> 3000000 | E27: =SUM(E131,E169,E215,E216) -> 0 | F27: =SUM(F131,F169,F215,F216) -> 3000000
A28: 3. | B28: Dofinansowanie do wynagrodzeń pracowników niepełnosprawnych - art. 26a | D28: =SUM(D173) -> 3000000000 | E28: =SUM(E173) -> 0 | F28: =SUM(F173) -> 3000000000
A29: 4. | B29: Zrekompensowanie gminom dochodów utraconych z tytułu zastosowania ustawowych zwolnień dla prowadzacych zakłady pracy chronionej lub zakłady aktywności zawodowej z podatku od nieruchomości, rolnego,leśnego i od czynności cywilnoprawnych - art. 47 ust. 2 | D29: =SUM(D133) -> 57000000 | E29: =SUM(E133) -> 0 | F29: =SUM(F133) -> 57000000
A30: 5. | B30: Finansowanie w części lub całości badań, ekspertyz i analiz - art. 47 ust. 1 pkt 4 lit.b | D30: =SUM(D31:D32) -> 3000000 | E30: =SUM(E31:E32) -> 0 | F30: =SUM(F31:F32) -> 3000000
A31: 5.1 | B31: - wydatki bieżące | D31: =SUM(D134,D175) -> 2800000 | E31: =SUM(E134,E175) -> 0 | F31: =SUM(F134,F175) -> 2800000
A32: 5.2 | B32: - wydatki inwestycyjne | D32: =SUM(D307,D325) -> 200000 | E32: =SUM(E307,E325) -> 0 | F32: =SUM(F307,F325) -> 200000
A33: 6. | B33: Refundacja kosztów wydawania certyfikatów przez podmioty uprawnione do szkolenia psów asystujących art. 20b | D33: =D174 -> 15000 | E33: =E174 -> 0 | F33: =F174 -> 15000
A34: 7. | B34: Programy zatwierdzone przez Radę Nadzorczą, służące rehabilitacji społecznej i zawodowej - art. 47 ust. 1 pkt 4 lit.a | D34: =SUM(D35:D36) -> 128000000 | E34: =SUM(E35:E36) -> 0 | F34: =SUM(F35:F36) -> 128000000
A35: 7.1 | B35: - wydatki bieżące | D35: =SUM(D136,D177,D197) -> 87800000 | E35: =SUM(E136,E177,E197) -> 0 | F35: =SUM(F136,F177,F197) -> 87800000
A36: 7.2 | B36: - wydatki inwestycyjne | D36: =SUM(D308,D328) -> 40200000 | E36: =SUM(E308,E328) -> 0 | F36: =SUM(F308,F328) -> 40200000
A37: 8. | B37: Dofinansowanie oprocentowania kredytów bankowych - art. 32 ust. 1 pkt 1 | D37: =SUM(D38) -> 2500000 | E37: =SUM(E38) -> 0 | F37: =SUM(F38) -> 2500000
A38: 8.1 | B38: - wydatki bieżące | D38: =D171 -> 2500000 | E38: =E171 -> 0 | F38: =F171 -> 2500000
A39: 9. | B39: Zwrot kosztów budowy lub rozbudowy obiektów i pomieszczeń zakładu, transportowych i administracyjnych - art. 32 ust. 1 pkt 2 | D39: =SUM(D40:D41) -> 7206000 | E39: =SUM(E40:E41) -> 0 | F39: =SUM(F40:F41) -> 7206000
A40: 9.1 | B40: - wydatki bieżące | D40: =D172 -> 6128000 | E40: =E172 -> 0 | F40: =F172 -> 6128000
A41: 9.2 | B41: - wydatki inwestycyjne | D41: =D326 -> 1078000 | E41: =E326 -> 0 | F41: =F326 -> 1078000
A42: 10. | B42: Refundacja składek na ubezpieczenia społeczne - art. 25a | D42: =SUM(D165) -> 103000000 | E42: =SUM(E165) -> 0 | F42: =SUM(F165) -> 103000000
A43: 11. | B43: Zadania zlecane - art. 36 | D43: =SUM(D44:D45) -> 246981000 | E43: =SUM(E44:E45) -> 0 | F43: =SUM(F44:F45) -> 246981000
A44: 11.1 | B44: - wydatki bieżące | D44: =SUM(D135+D176) -> 244831000 | E44: =SUM(E135+E176) -> 0 | F44: =SUM(F135+F176) -> 244831000
A45: 11.2 | B45: - wydatki inwestycyjne | D45: =SUM(D327+D306) -> 2150000 | E45: =SUM(E327+E306) -> 0 | F45: =SUM(F327+F306) -> 2150000
A46: 12. | B46: Przelewy redystrybucyjne wymienione w części B pkt III ppkt 6 | D46: =D342 -> 930000000 | E46: =E342 -> 0 | F46: =F342 -> 930000000
A47: 13. | B47: Wydatki bieżące (własne), z tego: | D47: =SUM(D48:D52,D57) -> 324604000 | E47: =SUM(E48:E52,E57) -> 0 | F47: =SUM(F48:F52,F57) -> 324604000
A48: 13.1 | B48: - wynagrodzenia | D48: =SUM(D240)+D217 -> 59616000 | E48: =SUM(E240)+E217 -> 0 | F48: =SUM(F240)+F217 -> 59616000
A49: 13.2 | B49: - składki na ubezpieczenia społeczne | D49: =SUM(D246)+D219 -> 11616000 | E49: =SUM(E246)+E219 -> 0 | F49: =SUM(F246)+F219 -> 11616000
A50: 13.3 | B50: - składki na Fundusz Pracy | D50: =SUM(D249)+D220 -> 1616000 | E50: =SUM(E249)+E220 -> 0 | F50: =SUM(F249)+F220 -> 1616000
A51: 13.4 | B51: - wynagrodzenia bezosobowe | D51: =SUM(D243)+D221+D218 -> 999000 | E51: =SUM(E243)+E221+E218 -> 0 | F51: =SUM(F243)+F221+F218 -> 999000
A52: 13.5 | B52: - pozostałe, w tym: | D52: =D252+D222 -> 76757000 | E52: =E252+E222 -> 0 | F52: =F252+F222 -> 76757000
A53: 13.5.1 | B53: - zakup usług | D53: =D255+D223 -> 43066000 | E53: =E255+E223 -> 0 | F53: =F255+F223 -> 43066000
A54: 13.5.2 | B54: ='Pl 2014-17 PFC MF'!B53 -> - pozostałe, z tego: | D54: ='Pl 2016-20 PFC'!D272 -> 33691000 | E54: ='Pl 2016-20 PFC'!E272 -> 0 | F54: ='Pl 2016-20 PFC'!F272 -> 33691000
A55: 13.5.3 | B55: - amortyzacja majątku trwałego | D55: =D290 -> 18463000 | E55: =E290 -> 0 | F55: =F290 -> 18463000
A56: 13.5.4 | B56: ='Pl 2014-17 PFC MF'!B55 -> - inne | D56: =D273+D229 -> 15228000 | E56: =E273+E229 -> 0 | F56: =F273+F229 -> 15228000
A57: 13.6 | B57: - odpis aktualizujący wartość należności z tytułu wpłat na PFRON, pożyczek, odsetek od pożyczek oraz innych należności | D57: =SUM(D291) -> 174000000 | E57: =SUM(E291) -> 0 | F57: =SUM(F291) -> 174000000
A58: 14. | B58: Wydatki osobowe nie zaliczane do wynagrodzeń | D58: =SUM(D210) -> 3831000 | E58: =SUM(E210) -> 0 | F58: =SUM(F210) -> 3831000
A59: 15. | B59: Wydatki inwestycyjne (własne) i zakupy inwestycyjne (własne) | D59: =SUM(D297:D299)+D233 -> 51497000 | E59: =SUM(E297:E299)+E233 -> 0 | F59: =SUM(F297:F299)+F233 -> 51497000
A60: 16. | B60: Zwrot dotacji wykorzystanych niezgodnie z przeznaczeniem lub pobranych w nadmiernej wysokości | D60: =SUM(D352) -> 300000 | E60: =SUM(E352) -> 0 | F60: =SUM(F352) -> 300000
A61: 17. | B61: Dofinansowanie kosztów szkolenia, o których mowa w art. 18 ustawy o języku migowym i innych środkach komunikowania się - art. 47 ust 1 pkt. 4 lit. c | D61: =SUM(D62) -> 2800000 | E61: =SUM(E62) -> 0 | F61: =SUM(F62) -> 2800000
A62: 17.1 | B62: - wydatki bieżące | D62: =SUM(D196) -> 2800000 | E62: =SUM(E196) -> 0 | F62: =SUM(F196) -> 2800000
A63: 17.2 | B63: - wydatki inwestycyjne
A66: Część B
A67: Lp. | B67: Treść | C67: Paragrafy | D67: =D14&" "&D15& " r." -> Plan wg Ustawy Budżetowej na 2017 r. | E67: =E14&" "&E15& " " -> Zmiany | F67: =F14&" "&F15& "" -> Plan po zmianach 2017
A71: I. | B71: Stan funduszu na początek roku (FAKTYCZNY NA PW) | C71: x | D71: =SUM(D73:D76,D79)+SUM(D83:D89) -> 358197000 | E71: =SUM(E73:E76,E79)+SUM(E83:E89) -> 0 | F71: =SUM(F73:F76,F79)+SUM(F83:F89) -> 358197000
B72: w tym:
A73: 1. | B73: Środki pieniężne (z lokatami) | C73: x | D73: 305014000 | F73: =D73+E73 -> 305014000
A74: 2. | B74: Udziały i akcje | C74: x | D74: 0 | F74: =D74+E74 -> 0
A75: 3. | B75: Papiery wartościowe Skarbu Państwa | C75: x | D75: 0 | F75: =D75+E75 -> 0
A76: 4. | B76: Należności, w tym: | C76: x | D76: 50490000 | F76: =D76+E76 -> 50490000
A77: 4.1 | B77: - należności z tytułu wpłat obowiązkowych | C77: x | D77: 40392000 | F77: =D77+E77 -> 40392000
A78: 4.2 | B78: - należności z tytułu udzielonych pożyczek | C78: x | D78: 2200000 | F78: =D78+E78 -> 2200000
A79: 5. | B79: Zobowiązania (minus), z tego: | C79: x | D79: -54993000 | F79: =D79+E79 -> -54993000
A80: 5.1 | B80: pozostałe | C80: x | D80: -54993000 | F80: =D80+E80 -> -54993000
A81: 5.1.1 | B81: - wymagalne | C81: x | D81: 0 | F81: =D81+E81 -> 0
A82: 5.1.2 | B82: w tym: niewymagalne | C82: x | D82: -54993000 | F82: =D82+E82 -> -54993000
A83: 6. | B83: Wartości niematerialne i prawne | C83: x | D83: 34751000 | F83: =D83+E83 -> 34751000
A84: 7. | B84: Rzeczowe aktywa trwałe | C84: x | D84: 27988000 | F84: =D84+E84 -> 27988000
... A86: 9. | B86: Rozliczenia międzyokresowe przychodów | C86: x | D86: 0 | F86: =D86+E86 -> 0
A87: 10. | B87: Aktywa do zbycia | D87: 0 | F87: =D87+E87 -> 0
A88: 11. | B88: Rezerwy (minus) | C88: x | D88: 0 | F88: =D88+E88 -> 0 | G88: UE | H88: 9406000 | I88: 11353000 | J88: 983000
A89: 12. | B89: Fundusze specjalne (ZFŚS) (minus) | C89: x | D89: -2800000 | F89: =D89+E89 -> -2800000 | G89: 15.38 | H89: =H88*15.38% -> 1446642.8 | I89: =I88*15.38% -> 1746091.4 | J89: =J88*15.38% -> 151185.4
G90: 84.62 | H90: =H88*84.62% -> 7959357.2 | I90: =I88*84.62% -> 9606908.6 | J90: =J88*84.62% -> 831814.6
A91: II. | B91: Przychody | C91: x | D91: =SUM(D93,D100,D102,D104,D106) -> 4737639000 | E91: =SUM(E93,E100,E102,E104,E106) -> 0 | F91: =SUM(F93,F100,F102,F104,F106) -> 4737639000
A93: 1. | B93: Dotacje z budżetu państwa | C93: 2007, 2430 | D93: =SUM(D95:D98) -> 747007000 | E93: =SUM(E94:E96) -> 0 | F93: =SUM(F95:F98) -> 747007000
B94: dla panstwowych funduszy celowych | D94: =D95+D96 -> 745360000 | F94: =D94+E94 -> 745360000
A95: 1.1 | B95: - zrekompensowanie gminom dochodów utraconych z tytułu zastosowania ustawowych zwolnień dla prowadzacych zakłady pracy chronionej lub zakłady aktywności zawodowej z podatku od nieruchomości, rolnego,leśnego i od czynności cywilnoprawnych - art. 47 ust. 2 | C95: 2430 | D95: 28500000 | F95: =D95+E95 -> 28500000
A96: 1.2 | B96: - dofinansowanie do wynagrodzeń pracowników niepełnosprawnych | C96: 2430 | D96: 716860000 | F96: =D96+E96 -> 716860000 | H96: 2016 UB | I96: 2016 PW | J96: 2017 | M96: 2018 | N96: 2019 | O96: 2020
B97: celowe na finansowanie projektów z udziałem środków UE | C97: 2009 | D97: 339000 | F97: =D97+E97 -> 339000 | H97: =#REF!/#REF!% -> #REF! | I97: =#REF!/#REF!% -> #REF! | J97: =#REF!/#REF!% -> #REF! | K97: =#REF!/#REF!% -> #REF! | L97: =#REF!/#REF!% -> #REF! | M97: =#REF!/#REF!% -> #REF! | N97: =#REF!/#REF!% -> #REF! | O97: =#REF!/#REF!% -> #REF!
B98: celowe na finansowanie projektów z udziałem środków UE | C98: 2009 | D98: 1308000 | F98: =D98+E98 -> 1308000
F99: =D99+E99 -> 0 | H99: procent Dotacji SOD
A100: 2. | B100: Środki otrzymane z Unii Europejskiej | C100: 2007 | D100: 9062000 | F100: =D100+E100 -> 9062000
F101: =D101+E101 -> 0
A102: 3. | B102: Składki i opłaty (wpłaty zakładów pracy) | C102: 0850 | D102: 3781878000 | F102: =D102+E102 -> 3781878000
A104: 4. | B104: Przelewy redystrybucyjne (zwroty przez samorządy wojewódzkie i powiatowe środków niewykorzystanych w poprzednim roku) | C104: 2960 | D104: 1559000 | F104: =D104+E104 -> 1559000
A106: 5. | B106: Pozostałe przychody (przypis) | C106: x | D106: =SUM(D107:D118)+D123 -> 198133000 | E106: =SUM(E107:E118)+E123 -> 0 | F106: =SUM(F107:F118)+F123 -> 198133000
A107: 5.1 | B107: - dochody z najmu i dzierżawy składników majątkowych | C107: 0750 | D107: 35000 | F107: =D107+E107 -> 35000
A108: 5.2 | B108: - wpływy z tytułu grzywien i innych kar pieniężnych od osób fizycznych | C108: 0570 | D108: 1000 | F108: =D108+E108 -> 1000
A109: 5.3 | B109: - wpływy z tytułu grzywien i innych kar pieniężnych od osób prawnych i innych jednostek organizacyjnych | C109: 0580 | F109: =D109+E109 -> 0
C110: 0640
A111: 5.4 | B111: - wpływy ze sprzedaży składników majątkowych | C111: 0870 | D111: 68000 | F111: =D111+E111 -> 68000
A112: 5.5 | B112: - odsetki od nieterminowych wpłat zakładów pracy | C112: 0910 | D112: 15000000 | F112: =D112+E112 -> 15000000
A113: 5.6 | B113: - pozostałe odsetki | C113: 0920 | D113: 40396000 | F113: =D113+E113 -> 40396000
C114: 0940
C115: 0950
A116: 5.7 | B116: - otrzymane spadki, zapisy i darowizny w postaci pieniężnej | C116: 0960 | F116: =D116+E116 -> 0
A117: 5.8 | B117: - wpływy z różnych tytułów | C117: 0970 | D117: 140096000 | F117: =D117+E117 -> 140096000
...

Sheet Pl 2014-17 PFC MF
A1: Część...............................................................
A2: (nr, nazwa)
A3: Dział............................................................... | H3: Załącznik nr 1 do Uchwały nr /2016 Zarządu PFRON z dnia kwietnia 2016 r.
A4: (nr, nazwa)
A5: Rozdział...........................................................
A6: (nr, nazwa)
A8: Nazwa funduszu........................................................... | I8: PROJEKT
A11: BUDŻET PAŃSTWA NA 2016 r.
A12: PLAN FINANSOWY PAŃSTWOWEGO FUNDUSZU REHABILITACJI OSÓB NIEPEŁNOSPRAWNYCH
A13: Część A
A14: Lp. | B14: Treść | D14: Plan po zmianach 2015 | E14: ='Pl 2016-20 PFC'!#REF! -> #REF! | F14: ='Pl 2016-20 PFC'!#REF! -> #REF! | G14: Plan wg. Ustawy Budżetowej zmieniony za zgodą MF z dnia 6 kwietnia 2017 r. i opinią KFP z dnia 7 kwietnia 2017 r. | H14: ='Pl 2016-20 PFC'!E67 -> Zmiany | I14: ='Pl 2016-20 PFC'!F67 -> Plan po zmianach 2017 | J14: ='Pl 2016-20 PFC'!#REF! -> #REF!
E15: ='Pl 2016-20 PFC'!D16:F16 -> 0 | G15: w tysiącach złotych
A16: 1 | B16: 2 | E16: 3 | F16: 4 | G16: 3 | H16: 4 | I16: 5 | J16: 7 | O16: =I18-I384 -> 192463000 | P16: =I56+I54 -> 192463000 | Q16: =P16-O16 -> 0
A18: I | B18: Zadania wynikające z ustawy tworzącej fundusz celowy | D18: =SUM(D19:D20) -> #REF! | E18: =SUM(E19:E20) -> #REF! | F18: =SUM(F19:F20) -> #REF! | G18: =SUM(G19:G20) -> 4913734000 | H18: =SUM(H19:H20) -> 0 | I18: =SUM(I19:I20) -> 4913734000 | J18: =SUM(J19:J20) -> #REF!
A19: 1. | B19: - wydatki bieżące | D19: =SUM(D23,D26,D27,D28,D30,D32,D34,D36,D39,D41,D43,D45:D46,D57,D59,D61) -> #REF! | E19: =SUM(E23,E26,E27,E28,E30,E32,E34,E36,E39,E41,E43,E45:E46,E57,E59,E61) -> #REF! | F19: =SUM(F23,F26,F27,F28,F30,F32,F34,F36,F39,F41,F43,F45:F46,F57,F59,F61) -> #REF! | G19: =SUM(G23,G26,G27,G28,G30,G32,G34,G36,G39,G41,G43,G45:G46,G57,G59,G61) -> 4771609000 | H19: =SUM(H23,H26,H27,H28,H30,H32,H34,H36,H39,H41,H43,H45:H46,H57,H59,H61) -> 0 | I19: =SUM(I23,I26,I27,I28,I30,I32,I34,I36,I39,I41,I43,I45:I46,I57,I59,I61) -> 4771609000 | J19: =SUM(J23,J26,J27,J28,J30,J32,J34,J36,J39,J41,J43,J45:J46,J57,J59,J61) -> #REF!
A20: 2. | B20: - wydatki inwestycyjne | D20: =SUM(D24,D31,D35,D58,D44,D40) -> #REF! | E20: =SUM(E24,E31,E35,E58,E44,E40) -> #REF! | F20: =SUM(F24,F31,F35,F58,F44,F40) -> #REF! | G20: =SUM(G24,G31,G35,G58,G44,G40) -> 142125000 | H20: =SUM(H24,H31,H35,H58,H44,H40) -> 0 | I20: =SUM(I24,I31,I35,I58,I44,I40) -> 142125000 | J20: =SUM(J24,J31,J35,J58,J44,J40) -> #REF!
A22: 1 | B22: Realizacja działań wyrównujących różnice między regionami - art. 47 ust. 1 pkt 1 ustawy z dnia 27 sierpnia 1997 r. o rehabilitacji zawodowej i społecznej oraz zatrudnianiu osób niepełnosprawnych (Dz. U z 2011 r. Nr 127, poz. 721, z póżn. zm.) | D22: =SUM(D23:D24) -> #REF! | E22: =SUM(E23:E24) -> #REF! | F22: =SUM(F23:F24) -> #REF! | G22: =SUM(G23:G24) -> 50000000 | H22: =SUM(H23:H24) -> 0 | I22: =SUM(I23:I24) -> 50000000 | J22: =SUM(J23:J24) -> #REF!
A23: 1.1 | B23: - wydatki bieżące | D23: =D123+D161 -> #REF! | E23: =E123+E161 -> #REF! | F23: =F123+F161 -> #REF! | G23: =G123+G161 -> 3000000 | H23: =H123+H161 -> 0 | I23: =I123+I161 -> 3000000 | J23: =J123+J161 -> #REF!
A24: 1.2 | B24: - wydatki inwestycyjne | D24: =SUM(D288+D307) -> #REF! | E24: =SUM(E288+E307) -> #REF! | F24: =SUM(F288+F307) -> #REF! | G24: =SUM(G288+G307) -> 47000000 | H24: =SUM(H288+H307) -> 0 | I24: =SUM(I288+I307) -> 47000000 | J24: =SUM(J288+J307) -> #REF!
A25: 2 | B25: Realizacja programów wspieranych ze środków pomocowych Unii Europejskiej - art. 47 ust. 1 pkt 2 | D25: =SUM(D26:D26) -> #REF! | E25: =SUM(E26:E26) -> #REF! | F25: =SUM(F26:F26) -> #REF! | G25: =SUM(G26:G26) -> 3000000 | H25: =SUM(H26:H26) -> 0 | I25: =SUM(I26:I26) -> 3000000 | J25: =SUM(J26:J26) -> #REF!
B26: - wydatki bieżące | D26: =SUM(D122,D160,D206,D207) -> #REF! | E26: =SUM(E122,E160,E206,E207) -> #REF! | F26: =SUM(F122,F160,F206,F207) -> #REF! | G26: =SUM(G122,G160,G206,G207) -> 3000000 | H26: =SUM(H122,H160,H206,H207) -> 0 | I26: =SUM(I122,I160,I206,I207) -> 3000000 | J26: =SUM(J122,J160,J206,J207) -> #REF!
A27: 3 | B27: Dofinansowanie do wynagrodzeń pracowników niepełnosprawnych - art. 26a | D27: =SUM(D164) -> #REF! | E27: =SUM(E164) -> #REF! | F27: =SUM(F164) -> #REF! | G27: =SUM(G164) -> 3000000000 | H27: =SUM(H164) -> 0 | I27: =SUM(I164) -> 3000000000 | J27: =SUM(J164) -> #REF!
A28: 4 | B28: Zrekompensowanie gminom dochodów utraconych z tytułu zastosowania ustawowych zwolnień dla prowadzacych zakłady pracy chronionej lub zakłady aktywności zawodowej z podatku od nieruchomości, rolnego,leśnego i od czynności cywilnoprawnych - art. 47 ust. 2 | D28: =SUM(D124) -> #REF! | E28: =SUM(E124) -> #REF! | F28: =SUM(F124) -> #REF! | G28: =SUM(G124) -> 57000000 | H28: =SUM(H124) -> 0 | I28: =SUM(I124) -> 57000000 | J28: =SUM(J124) -> #REF!
A29: 5 | B29: Finansowanie w części lub całości badań, ekspertyz i analiz - art. 47 ust. 1 pkt 5 lit.a | D29: =SUM(D30:D31) -> #REF! | E29: =SUM(E30:E31) -> #REF! | F29: =SUM(F30:F31) -> #REF! | G29: =SUM(G30:G31) -> 3000000 | H29: =SUM(H30:H31) -> 0 | I29: =SUM(I30:I31) -> 3000000 | J29: =SUM(J30:J31) -> #REF!
A30: 5.1 | B30: - wydatki bieżące | D30: =SUM(D125,D165) -> #REF! | E30: =SUM(E125,E165) -> #REF! | F30: =SUM(F125,F165) -> #REF! | G30: =SUM(G125,G165) -> 2800000 | H30: =SUM(H125,H165) -> 0 | I30: =SUM(I125,I165) -> 2800000 | J30: =SUM(J125,J165) -> #REF!
A31: 5.2 | B31: - wydatki inwestycyjne | D31: =SUM(D289,D308) -> #REF! | E31: =SUM(E289,E308) -> #REF! | F31: =SUM(F289,F308) -> #REF! | G31: =SUM(G289,G308) -> 200000 | H31: =SUM(H289,H308) -> 0 | I31: =SUM(I289,I308) -> 200000 | J31: =SUM(J289,J308) -> #REF!
A32: 6 | B32: Refundacja kosztów wydawania certyfikatów przez podmioty uprawnione do szkolenia psów asystujących art. 20b | D32: =D167 -> #REF! | E32: =E167 -> #REF! | F32: =F167 -> #REF! | G32: =G167 -> 15000 | H32: =H167 -> 0 | I32: =I167 -> 15000 | J32: =J167 -> #REF!
A33: 7 | B33: Programy zatwierdzone przez Radę Nadzorczą, służące rehabilitacji społecznej i zawodowej - art. 47 ust. 1 pkt 4 | D33: =SUM(D34:D35) -> #REF! | E33: =SUM(E34:E35) -> #REF! | F33: =SUM(F34:F35) -> #REF! | G33: =SUM(G34:G35) -> 128000000 | H33: =SUM(H34:H35) -> 0 | I33: =SUM(I34:I35) -> 128000000 | J33: =SUM(J34:J35) -> #REF!
A34: 7.1 | B34: - wydatki bieżące | D34: =SUM(D127,D168,D188) -> #REF! | E34: =SUM(E127,E168,E188) -> #REF! | F34: =SUM(F127,F168,F188) -> #REF! | G34: =SUM(G127,G168,G188) -> 87800000 | H34: =SUM(H127,H168,H188) -> 0 | I34: =SUM(I127,I168,I188) -> 87800000 | J34: =SUM(J127,J168,J188) -> #REF!
A35: 7.2 | B35: - wydatki inwestycyjne | D35: =SUM(D291,D311) -> #REF! | E35: =SUM(E291,E311) -> #REF! | F35: =SUM(F291,F311) -> #REF! | G35: =SUM(G291,G311) -> 40200000 | H35: =SUM(H291,H311) -> 0 | I35: =SUM(I291,I311) -> 40200000 | J35: =SUM(J291,J311) -> #REF!
A36: 8 | B36: Dofinansowanie oprocentowania kredytów bankowych - art. 32 ust. 1 pkt 1 | D36: =SUM(D37) -> #REF! | E36: =SUM(E37) -> #REF! | F36: =SUM(F37) -> #REF! | G36: =SUM(G37) -> 2500000 | H36: =SUM(H37) -> 0 | I36: =SUM(I37) -> 2500000 | J36: =SUM(J37) -> #REF!
A37: 8.1. | B37: - wydatki bieżące | D37: =D162 -> #REF! | E37: =E162 -> #REF! | F37: =F162 -> #REF! | G37: =G162 -> 2500000 | H37: =H162 -> 0 | I37: =I162 -> 2500000 | J37: =J162 -> #REF!
A38: 9 | B38: Zwrot kosztów budowy lub przebudowy związanej z modernizacją obiektów i pomieszczeń zakładu, transportowych i administracyjnych - art. 32 ust. 1 pkt 2 | D38: =SUM(D39:D40) -> #REF! | E38: =SUM(E39:E40) -> #REF! | F38: =SUM(F39:F40) -> #REF! | G38: =SUM(G39:G40) -> 7206000 | H38: =SUM(H39:H40) -> 0 | I38: =SUM(I39:I40) -> 7206000 | J38: =SUM(J39:J40) -> #REF!
A39: 9.1 | B39: - wydatki bieżące | D39: =D163 -> #REF! | E39: =E163 -> #REF! | F39: =F163 -> #REF! | G39: =G163 -> 6128000 | H39: =H163 | I39: =I163 -> 6128000 | J39: =J163 -> #REF!
A40: 9.2 | B40: - wydatki inwestycyjne | D40: =D309 -> #REF! | E40: =E309 -> #REF! | F40: =F309 -> #REF! | G40: =G309 -> 1078000 | H40: =H309 | I40: =I309 -> 1078000 | J40: =J309 -> #REF!
A41: 10 | B41: Refundacja składek na ubezpieczenia społeczne - art. 25a | D41: =SUM(D156) -> #REF! | E41: =SUM(E156) -> #REF! | F41: =SUM(F156) -> #REF! | G41: =SUM(G156) -> 103000000 | H41: =SUM(H156) -> 0 | I41: =SUM(I156) -> 103000000 | J41: =SUM(J156) -> #REF!
A42: 11 | B42: Zadania zlecane - art. 36 | D42: =SUM(D43:D44) -> #REF! | E42: =SUM(E43:E44) -> #REF! | F42: =SUM(F43:F44) -> #REF! | G42: =SUM(G43:G44) -> 246981000 | H42: =SUM(H43:H44) -> 0 | I42: =SUM(I43:I44) -> 246981000 | J42: =SUM(J43:J44) -> #REF!
A43: 11.1 | B43: - wydatki bieżące | D43: =D126+D166 -> #REF! | E43: =E126+E166 -> #REF! | F43: =F126+F166 -> #REF! | G43: =G126+G166 -> 244831000 | H43: =H126+H166 -> 0 | I43: =I126+I166 -> 244831000 | J43: =J126+J166 -> #REF!
A44: 11.2 | B44: - wydatki inwestycyjne | D44: =D310+D290 -> #REF! | E44: =E310+E290 -> #REF! | F44: =F310+F290 -> #REF! | G44: =G310+G290 -> 2150000 | H44: =H310+H290 -> 0 | I44: =I310+I290 -> 2150000 | J44: =J310+J290 -> #REF!
A45: 12 | B45: Przelewy redystrybucyjne | D45: =D325 -> #REF! | E45: =E325 -> #REF! | F45: =F325 -> #REF! | G45: =G325 -> 930000000 | H45: =H325 -> 0 | I45: =I325 -> 930000000 | J45: =J325 -> #REF!
A46: 13 | B46: Wydatki bieżące | D46: =SUM(D47:D51,D56,D53) -> #REF! | E46: =SUM(E47:E51,E56,E53) -> #REF! | F46: =SUM(F47:F51,F56,F53) -> #REF! | G46: =SUM(G47:G51,G56,G53) -> 324604000 | H46: =SUM(H47:H51,H56,H53) -> 0 | I46: =SUM(I47:I51,I56,I53) -> 324604000 | J46: =SUM(J47:J51,J56,J53) -> #REF!
A47: 13.1 | B47: - wynagrodzenia osobowe | D47: =SUM(D231) -> #REF! | E47: ='Pl 2016-20 PFC'!#REF! -> #REF! | F47: ='Pl 2016-20 PFC'!#REF! -> #REF! | G47: ='Pl 2016-20 PFC'!D240+'Pl 2016-20 PFC'!D217 -> 59616000 | H47: ='Pl 2016-20 PFC'!E240+'Pl 2016-20 PFC'!E217 -> 0 | I47: ='Pl 2016-20 PFC'!F240+'Pl 2016-20 PFC'!F217 -> 59616000 | J47: ='Pl 2016-20 PFC'!#REF! -> #REF!
A48: 13.2 | B48: - wynagrodzenia bezosobowe | D48: =SUM(D237) -> #REF! | E48: =SUM(E237) -> #REF! | F48: =SUM(F237) -> #REF! | G48: =G237+G211 -> 999000 | H48: =H237+H211 -> 0 | I48: =I237+I211 -> 999000 | J48: =SUM(J237) -> #REF!
A49: 13.3 | B49: - składki na ubezpieczenia społeczne | D49: =SUM(D233) -> #REF! | E49: ='Pl 2016-20 PFC'!#REF! -> #REF! | F49: ='Pl 2016-20 PFC'!#REF! -> #REF! | G49: ='Pl 2016-20 PFC'!D246+'Pl 2016-20 PFC'!D219 -> 11616000 | H49: ='Pl 2016-20 PFC'!E246+'Pl 2016-20 PFC'!E219 -> 0 | I49: ='Pl 2016-20 PFC'!F246+'Pl 2016-20 PFC'!F219 -> 11616000 | J49: ='Pl 2016-20 PFC'!#REF! -> #REF!
A50: 13.4 | B50: - składki na Fundusz Pracy | D50: =SUM(D235) -> #REF! | E50: ='Pl 2016-20 PFC'!#REF! -> #REF! | F50: =SUM(F235) -> #REF! | G50: ='Pl 2016-20 PFC'!D249+'Pl 2016-20 PFC'!D220 -> 1616000 | H50: ='Pl 2016-20 PFC'!E249+'Pl 2016-20 PFC'!E220 -> 0 | I50: ='Pl 2016-20 PFC'!F249+'Pl 2016-20 PFC'!F220 -> 1616000 | J50: ='Pl 2016-20 PFC'!#REF! -> #REF!
A51: 13.5 | B51: - zakup usług | D51: =D240 -> #REF! | E51: =E240 -> #REF! | F51: =F240 -> #REF! | G51: ='Pl 2016-20 PFC'!D53 -> 43066000 | H51: ='Pl 2016-20 PFC'!E53 -> 0 | I51: ='Pl 2016-20 PFC'!F53 -> 43066000 | J51: =J240 -> #REF!
A52: 13.5.1 | B52: - remonty | D52: =D249 -> #REF! | E52: =E249 -> #REF! | F52: =F249 -> #REF! | G52: =G249 -> 1987000 | H52: =H249 -> 0 | I52: =I249 -> 1987000 | J52: =J249 -> #REF!
A53: 13.6 | B53: - pozostałe, z tego: | D53: =SUM(D242) -> #REF! | E53: =SUM(E242) -> #REF! | F53: =SUM(F242) -> #REF! | G53: =SUM(G242) -> 33691000 | H53: =SUM(H242) -> 0 | I53: =SUM(I242) -> 33691000 | J53: =SUM(J242) -> #REF!
A54: 13.6.1 | B54: - amortyzacja (umorzenia) | D54: =SUM(D275) -> #REF! | E54: =SUM(E275) -> #REF! | F54: =SUM(F275) -> #REF! | G54: =SUM(G275) -> 18463000 | H54: =SUM(H275) -> 0 | I54: =SUM(I275) -> 18463000 | J54: =SUM(J275) -> #REF!
A55: 13.6.2 | B55: - inne | D55: =D276 -> #REF! | E55: =E276 -> #REF! | F55: =F276 -> #REF! | G55: =G276 -> 15228000 | H55: =H276 -> 0 | I55: =I276 -> 15228000 | J55: =J276 -> #REF!
A56: 13.7 | B56: - odpis aktualizujący wartość należności z tytułu wpłat na PFRON, pożyczek, odsetek od pożyczek oraz innych należności | D56: =SUM(D277) -> #REF! | E56: =SUM(E277) -> #REF! | F56: =SUM(F277) -> #REF! | G56: =SUM(G277) -> 174000000 | H56: =SUM(H277) -> 0 | I56: =SUM(I277) -> 174000000 | J56: =SUM(J277) -> #REF!
A57: 14 | B57: Wydatki osobowe nie zaliczane do wynagrodzeń | D57: =SUM(D201) -> #REF! | E57: =SUM(E201) -> #REF! | F57: =SUM(F201) -> #REF! | G57: =SUM(G201) -> 3831000 | H57: =SUM(H201) -> 0 | I57: =SUM(I201) -> 3831000 | J57: =SUM(J201) -> #REF!
A58: 15 | B58: Wydatki inwestycyjne (własne) i zakupy inwestycyjne (własne) | D58: =SUM(D281:D283) -> #REF! | E58: =SUM(E281:E283) -> #REF! | F58: =SUM(F281:F283) -> #REF! | G58: =SUM(G281:G283)+G222 -> 51497000 | H58: =SUM(H281:H283)+H222 -> 0 | I58: =SUM(I281:I283)+I222 -> 51497000 | J58: =SUM(J281:J283) -> #REF!
A59: 16 | B59: Zwrot dotacji wykorzystanych niezgodnie z przeznaczeniem lub pobranych w nadmiernej wysokości | D59: =SUM(D330) -> #REF! | E59: =SUM(E330) -> #REF! | F59: =SUM(F330) -> #REF! | G59: =SUM(G330) -> 300000 | H59: =SUM(H330) -> 0 | I59: =SUM(I330) -> 300000 | J59: =SUM(J330) -> #REF!
A60: 17 | B60: Dofinansowanie kosztów szkolenia, o których mowa w art. 18 ustawy o języku migowym i innych środkach komunikowania się - (Dz.U Nr 209, poz 1243, z póżn. zm) - art. 47 ust 1 pkt. 5 lit. b | D60: =SUM(D61:D63) -> #REF! | E60: =SUM(E61:E63) -> #REF! | F60: =SUM(F61:F63) -> #REF! | G60: =SUM(G61:G63) -> 2800000 | H60: =SUM(H61:H63) -> 0 | I60: =SUM(I61:I63) -> 2800000 | J60: =SUM(J61:J63) -> #REF!
A61: 17.1 | B61: - wydatki bieżące | D61: ='Pl 2016-20 PFC'!#REF! -> #REF! | E61: ='Pl 2016-20 PFC'!#REF! -> #REF! | F61: ='Pl 2016-20 PFC'!#REF! -> #REF! | G61: ='Pl 2016-20 PFC'!D62 -> 2800000 | H61: ='Pl 2016-20 PFC'!E62 -> 0 | I61: ='Pl 2016-20 PFC'!F62 -> 2800000 | J61: ='Pl 2016-20 PFC'!#REF! -> #REF!
A62: 17.2 | B62: - wydatki inwestycyjne
A65: Część B Plan finansowy w układzie memoriałowym
A66: Lp. | B66: Treść | C66: Paragrafy | D66: =D14 -> Plan po zmianach 2015 | E66: =E14 -> #REF! | F66: =F14 -> #REF! | G66: =G14 -> Plan wg. Ustawy Budżetowej zmieniony za zgodą MF z dnia 6 kwietnia 2017 r. i opinią KFP z dnia 7 kwietnia 2017 r. | H66: =H14 -> Zmiany | I66: =I14 -> Plan po zmianach 2017 | J66: =J14 -> #REF!
E67: =G15 -> w tysiącach złotych
A68: 1 | B68: 2 | C68: 3 | E68: 4 | F68: 5 | G68: 3 | H68: 4 | I68: 5 | J68: 8
A70: I | B70: Stan funduszu na początek roku | C70: x | D70: =SUM(D72:D73,D76)+SUM(D80:D86) -> #REF! | E70: =SUM(E72:E73,E76)+SUM(E80:E86) -> #REF! | F70: =SUM(F72:F73,F76)+SUM(F80:F86) -> #REF! | G70: =SUM(G72:G73,G76)+SUM(G80:G86) -> 358197000 | H70: =SUM(H72:H73,H76)+SUM(H80:H86) -> 0 | I70: =SUM(I72:I73,I76)+SUM(I80:I86) -> 358197000 | J70: =SUM(J72:J73,J76)+SUM(J80:J86) -> #REF!
B71: w tym:
A72: 1 | B72: Środki pieniężne | C72: x | D72: ='Pl 2016-20 PFC'!#REF! -> #REF! | E72: ='Pl 2016-20 PFC'!#REF! -> #REF! | F72: ='Pl 2016-20 PFC'!#REF! -> #REF! | G72: ='Pl 2016-20 PFC'!D73 -> 305014000 | H72: ='Pl 2016-20 PFC'!E73 -> 0 | I72: ='Pl 2016-20 PFC'!F73 -> 305014000 | J72: ='Pl 2016-20 PFC'!#REF! -> #REF!
A73: 2 | B73: Należności, w tym: | C73: x | D73: ='Pl 2016-20 PFC'!#REF! -> #REF! | E73: ='Pl 2016-20 PFC'!#REF! -> #REF! | F73: ='Pl 2016-20 PFC'!#REF! -> #REF! | G73: ='Pl 2016-20 PFC'!D76 -> 50490000 | H73: ='Pl 2016-20 PFC'!E76 -> 0 | I73: ='Pl 2016-20 PFC'!F76 -> 50490000 | J73: ='Pl 2016-20 PFC'!#REF! -> #REF!
A74: 2.1 | B74: - należności z tytułu wpłat obowiązkowych | C74: x | D74: ='Pl 2016-20 PFC'!#REF! -> #REF! | E74: ='Pl 2016-20 PFC'!#REF! -> #REF! | F74: ='Pl 2016-20 PFC'!#REF! -> #REF! | G74: ='Pl 2016-20 PFC'!D77 -> 40392000 | H74: ='Pl 2016-20 PFC'!E77 -> 0 | I74: ='Pl 2016-20 PFC'!F77 -> 40392000 | J74: ='Pl 2016-20 PFC'!#REF! -> #REF!
A75: 2.2 | B75: - należności z tytułu udzielonych pożyczek | C75: x | D75: ='Pl 2016-20 PFC'!#REF! -> #REF! | E75: ='Pl 2016-20 PFC'!#REF! -> #REF! | F75: ='Pl 2016-20 PFC'!#REF! -> #REF! | G75: ='Pl 2016-20 PFC'!D78 -> 2200000 | H75: ='Pl 2016-20 PFC'!E78 -> 0 | I75: ='Pl 2016-20 PFC'!F78 -> 2200000 | J75: ='Pl 2016-20 PFC'!#REF! -> #REF!
A76: 3 | B76: Zobowiązania, z tego: | C76: x | D76: ='Pl 2016-20 PFC'!#REF! -> #REF! | E76: ='Pl 2016-20 PFC'!#REF! -> #REF! | F76: ='Pl 2016-20 PFC'!#REF! -> #REF! | G76: ='Pl 2016-20 PFC'!D79 -> -54993000 | H76: ='Pl 2016-20 PFC'!E79 -> 0 | I76: ='Pl 2016-20 PFC'!F79 -> -54993000 | J76: ='Pl 2016-20 PFC'!#REF! -> #REF!
A77: 3.1 | B77: =+'Pl 2016-20 PFC'!B80 -> pozostałe | C77: x | D77: ='Pl 2016-20 PFC'!#REF! -> #REF! | E77: ='Pl 2016-20 PFC'!#REF! -> #REF! | F77: ='Pl 2016-20 PFC'!#REF! -> #REF! | G77: ='Pl 2016-20 PFC'!D80 -> -54993000 | H77: ='Pl 2016-20 PFC'!E80 -> 0 | I77: ='Pl 2016-20 PFC'!F80 -> -54993000 | J77: ='Pl 2016-20 PFC'!#REF! -> #REF!
A78: 5.1.1 | B78: =+'Pl 2016-20 PFC'!B81 -> - wymagalne | C78: x | D78: ='Pl 2016-20 PFC'!#REF! -> #REF! | E78: ='Pl 2016-20 PFC'!#REF! -> #REF! | F78: ='Pl 2016-20 PFC'!#REF! -> #REF! | G78: ='Pl 2016-20 PFC'!D81 -> 0 | H78: ='Pl 2016-20 PFC'!E81 -> 0 | I78: ='Pl 2016-20 PFC'!F81 -> 0 | J78: ='Pl 2016-20 PFC'!#REF! -> #REF!
A79: 3.1.1 | B79: w tym: wymagalne | C79: x
A80: 4. | B80: Wartości niematerialne i prawne | C80: x | D80: ='Pl 2016-20 PFC'!#REF! -> #REF! | E80: ='Pl 2016-20 PFC'!#REF! -> #REF! | F80: ='Pl 2016-20 PFC'!#REF! -> #REF! | G80: ='Pl 2016-20 PFC'!D83 -> 34751000 | H80: ='Pl 2016-20 PFC'!E83 -> 0 | I80: ='Pl 2016-20 PFC'!F83 -> 34751000 | J80: ='Pl 2016-20 PFC'!#REF! -> #REF!
A81: 5. | B81: Rzeczowe aktywa trwałe | C81: x | D81: ='Pl 2016-20 PFC'!#REF! -> #REF! | E81: ='Pl 2016-20 PFC'!#REF! -> #REF! | F81: ='Pl 2016-20 PFC'!#REF! -> #REF! | G81: ='Pl 2016-20 PFC'!D84 -> 27988000 | H81: ='Pl 2016-20 PFC'!E84 -> 0 | I81: ='Pl 2016-20 PFC'!F84 -> 27988000 | J81: ='Pl 2016-20 PFC'!#REF! -> #REF!
A82: 6. | B82: Rozliczenia międzyokresowe kosztów | C82: x | D82: ='Pl 2016-20 PFC'!#REF! -> #REF! | E82: ='Pl 2016-20 PFC'!#REF! -> #REF! | F82: ='Pl 2016-20 PFC'!#REF! -> #REF! | G82: ='Pl 2016-20 PFC'!D85 -> -2253000 | H82: ='Pl 2016-20 PFC'!E85 -> 0 | I82: ='Pl 2016-20 PFC'!F85 -> -2253000 | J82: ='Pl 2016-20 PFC'!#REF! -> #REF!
A83: 7. | B83: Rozliczenia międzyokresowe przychodów | C83: x | D83: ='Pl 2016-20 PFC'!#REF! -> #REF! | E83: ='Pl 2016-20 PFC'!#REF! -> #REF! | F83: ='Pl 2016-20 PFC'!#REF! -> #REF! | G83: ='Pl 2016-20 PFC'!D86 -> 0 | H83: ='Pl 2016-20 PFC'!E86 -> 0 | I83: ='Pl 2016-20 PFC'!F86 -> 0 | J83: ='Pl 2016-20 PFC'!#REF! -> #REF!
A84: 8. | B84: Aktywa do zbycia | G84: ='Pl 2016-20 PFC'!D87 -> 0 | H84: ='Pl 2016-20 PFC'!E87 -> 0 | I84: ='Pl 2016-20 PFC'!F87 -> 0
A85: 9. | B85: Rezerwy (minus) | C85: x | D85: ='Pl 2016-20 PFC'!#REF! -> #REF! | E85: ='Pl 2016-20 PFC'!#REF! -> #REF! | F85: ='Pl 2016-20 PFC'!#REF! -> #REF! | G85: ='Pl 2016-20 PFC'!D88 -> 0 | H85: ='Pl 2016-20 PFC'!E88 -> 0 | I85: ='Pl 2016-20 PFC'!F88 -> 0 | J85: ='Pl 2016-20 PFC'!#REF! -> #REF!
A86: 10. | B86: Fundusze specjalne (ZFŚS) (minus) | C86: x | D86: ='Pl 2016-20 PFC'!#REF! -> #REF! | E86: ='Pl 2016-20 PFC'!#REF! -> #REF! | F86: ='Pl 2016-20 PFC'!#REF! -> #REF! | G86: ='Pl 2016-20 PFC'!D89 -> -2800000 | H86: ='Pl 2016-20 PFC'!E89 -> 0 | I86: ='Pl 2016-20 PFC'!F89 -> -2800000 | J86: ='Pl 2016-20 PFC'!#REF! -> #REF!
A88: II | B88: Przychody | C88: x | D88: =SUM(D90,D96,D97,D98,D99) -> #REF! | E88: =SUM(E90,E96,E97,E98,E99) -> #REF! | F88: =SUM(F90,F96,F97,F98,F99) -> #REF! | G88: =SUM(G90,G96,G97,G98,G99) -> 4737639000 | H88: =SUM(H90,H96,H97,H98,H99) -> 0 | I88: =SUM(I90,I96,I97,I98,I99) -> 4737639000 | J88: =SUM(J90,J96,J97,J98,J99) -> #REF!
A90: 1 | B90: Dotacje z budżetu państwa, z tego: | C90: x | D90: =D91 -> #REF! | E90: =E91 -> #REF! | F90: =F91 -> #REF! | G90: ='Pl 2016-20 PFC'!D93 -> 747007000 | H90: ='Pl 2016-20 PFC'!E93 -> 0 | I90: ='Pl 2016-20 PFC'!F93 -> 747007000 | J90: =J91 -> #REF!
A91: 1.1 | B91: - dla państwowego funduszu celowego | C91: 2430 | D91: ='Pl 2016-20 PFC'!#REF!+'Pl 2016-20 PFC'!#REF! -> #REF! | E91: ='Pl 2016-20 PFC'!#REF!+'Pl 2016-20 PFC'!#REF! -> #REF! | F91: ='Pl 2016-20 PFC'!#REF!+'Pl 2016-20 PFC'!#REF! -> #REF! | G91: ='Pl 2016-20 PFC'!D95+'Pl 2016-20 PFC'!D96 -> 745360000 | H91: ='Pl 2016-20 PFC'!E95+'Pl 2016-20 PFC'!E96 -> 0 | I91: ='Pl 2016-20 PFC'!F95+'Pl 2016-20 PFC'!F96 -> 745360000 | J91: ='Pl 2016-20 PFC'!#REF!+'Pl 2016-20 PFC'!#REF! -> #REF!
A92: 1.1.1 | B92: - zrekompensowanie gminom dochodów utraconych z tytułu zastosowania ustawowych zwolnień dla prowadzacych zakłady pracy chronionej lub zakłady aktywności zawodowej z podatku od nieruchomości, rolnego,leśnego i od czynności cywilnoprawnych - art. 46a ust. 1 pkt 2 | C92: 2430 | D92: ='Pl 2016-20 PFC'!#REF! -> #REF! | E92: ='Pl 2016-20 PFC'!#REF! -> #REF! | F92: ='Pl 2016-20 PFC'!#REF! -> #REF! | G92: ='Pl 2016-20 PFC'!D95 -> 28500000 | H92: ='Pl 2016-20 PFC'!E95 -> 0 | I92: ='Pl 2016-20 PFC'!F95 -> 28500000 | J92: ='Pl 2016-20 PFC'!#REF! -> #REF!
A93: 1.1.2 | B93: - dofinansowanie do wynagrodzeń pracowników niepełnosprawnych - art. 46a ust. 1 pkt 1 | C93: 2430 | D93: ='Pl 2016-20 PFC'!#REF! -> #REF! | E93: ='Pl 2016-20 PFC'!#REF! -> #REF! | F93: ='Pl 2016-20 PFC'!#REF! -> #REF! | G93: ='Pl 2016-20 PFC'!D96 -> 716860000 | H93: ='Pl 2016-20 PFC'!E96 -> 0 | I93: ='Pl 2016-20 PFC'!F96 -> 716860000 | J93: ='Pl 2016-20 PFC'!#REF! -> #REF!
A94: 1.2 | B94: - celowe na finansowanie projektów z udziałem środków UE - bieżące | G94: ='Pl 2016-20 PFC'!D97 -> 339000 | H94: ='Pl 2016-20 PFC'!E97 -> 0 | I94: ='Pl 2016-20 PFC'!F97 -> 339000
A95: 1.3 | B95: - celowe na finansowanie projektów z udziałem środków ue - majątkowe | G95: ='Pl 2016-20 PFC'!D98 -> 1308000 | H95: ='Pl 2016-20 PFC'!E98 -> 0 | I95: ='Pl 2016-20 PFC'!F98 -> 1308000
A96: 2 | B96: Środki otrzymane z Unii Europejskiej | C96: 2007 | D96: ='Pl 2016-20 PFC'!#REF! -> #REF! | E96: ='Pl 2016-20 PFC'!#REF! -> #REF! | F96: ='Pl 2016-20 PFC'!#REF! -> #REF! | G96: ='Pl 2016-20 PFC'!D100 -> 9062000 | H96: ='Pl 2016-20 PFC'!E100 -> 0 | I96: ='Pl 2016-20 PFC'!F100 -> 9062000 | J96: ='Pl 2016-20 PFC'!#REF! -> #REF!
A97: 3 | B97: Składki i opłaty | C97: 0850 | D97: ='Pl 2016-20 PFC'!#REF! -> #REF! | E97: ='Pl 2016-20 PFC'!#REF! -> #REF! | F97: ='Pl 2016-20 PFC'!#REF! -> #REF! | G97: ='Pl 2016-20 PFC'!D102 -> 3781878000 | H97: ='Pl 2016-20 PFC'!E102 -> 0 | I97: ='Pl 2016-20 PFC'!F102 -> 3781878000 | J97: ='Pl 2016-20 PFC'!#REF! -> #REF!
A98: 4 | B98: Przelewy redystrybucyjne | C98: 2960 | D98: ='Pl 2016-20 PFC'!#REF! -> #REF! | E98: ='Pl 2016-20 PFC'!#REF! -> #REF! | F98: ='Pl 2016-20 PFC'!#REF! -> #REF! | G98: ='Pl 2016-20 PFC'!D104 -> 1559000 | H98: ='Pl 2016-20 PFC'!E104 -> 0 | I98: ='Pl 2016-20 PFC'!F104 -> 1559000 | J98: ='Pl 2016-20 PFC'!#REF! -> #REF!
A99: 5 | B99: Pozostałe przychody, w tym: | C99: x | D99: ='Pl 2016-20 PFC'!#REF! -> #REF! | E99: ='Pl 2016-20 PFC'!#REF! -> #REF! | F99: ='Pl 2016-20 PFC'!#REF! -> #REF! | G99: ='Pl 2016-20 PFC'!D106 -> 198133000 | H99: ='Pl 2016-20 PFC'!E106 -> 0 | I99: ='Pl 2016-20 PFC'!F106 -> 198133000 | J99: ='Pl 2016-20 PFC'!#REF! -> #REF!
B100: - dochody z najmu i dzierżawy składników majątkowych | C100: 0750 | D100: ='Pl 2016-20 PFC'!#REF! -> #REF! | E100: ='Pl 2016-20 PFC'!#REF! -> #REF! | F100: ='Pl 2016-20 PFC'!#REF! -> #REF! | G100: ='Pl 2016-20 PFC'!D107 -> 35000 | H100: ='Pl 2016-20 PFC'!E107 -> 0 | I100: ='Pl 2016-20 PFC'!F107 -> 35000 | J100: ='Pl 2016-20 PFC'!#REF! -> #REF!
B101: ='Pl 2016-20 PFC'!B108 -> - wpływy z tytułu grzywien i innych kar pieniężnych od osób fizycznych | G101: ='Pl 2016-20 PFC'!D108 -> 1000 | H101: ='Pl 2016-20 PFC'!E108 -> 0 | I101: ='Pl 2016-20 PFC'!F108 -> 1000
B102: ='Pl 2016-20 PFC'!B109 -> - wpływy z tytułu grzywien i innych kar pieniężnych od osób prawnych i innych jednostek organizacyjnych | G102: ='Pl 2016-20 PFC'!D109 -> 0 | H102: ='Pl 2016-20 PFC'!E109 -> 0 | I102: ='Pl 2016-20 PFC'!F109 -> 0
G103: ='Pl 2016-20 PFC'!D110 -> 0 | H103: ='Pl 2016-20 PFC'!E110 -> 0 | I103: ='Pl 2016-20 PFC'!F110 -> 0
B104: - wpływy ze sprzedaży składników majątkowych | C104: 0870 | D104: ='Pl 2016-20 PFC'!#REF! -> #REF! | E104: ='Pl 2016-20 PFC'!#REF! -> #REF! | F104: ='Pl 2016-20 PFC'!#REF! -> #REF! | G104: ='Pl 2016-20 PFC'!D111 -> 68000 | H104: ='Pl 2016-20 PFC'!E111 -> 0 | I104: ='Pl 2016-20 PFC'!F111 -> 68000 | J104: ='Pl 2016-20 PFC'!#REF! -> #REF!
B105: - odsetki od nieterminowych wpłat zakładów pracy | C105: 0910 | D105: ='Pl 2016-20 PFC'!#REF! -> #REF! | E105: ='Pl 2016-20 PFC'!#REF! -> #REF! | F105: ='Pl 2016-20 PFC'!#REF! -> #REF! | G105: ='Pl 2016-20 PFC'!D112 -> 15000000 | H105: ='Pl 2016-20 PFC'!E112 -> 0 | I105: ='Pl 2016-20 PFC'!F112 -> 15000000 | J105: ='Pl 2016-20 PFC'!#REF! -> #REF!
A106: 5.1 | B106: odsetki | C106: 0920 | D106: ='Pl 2016-20 PFC'!#REF! -> #REF! | E106: ='Pl 2016-20 PFC'!#REF! -> #REF! | F106: ='Pl 2016-20 PFC'!#REF! -> #REF! | G106: ='Pl 2016-20 PFC'!D113 -> 40396000 | H106: ='Pl 2016-20 PFC'!E113 -> 0 | I106: ='Pl 2016-20 PFC'!F113 -> 40396000 | J106: ='Pl 2016-20 PFC'!#REF! -> #REF!
A107: 5.2 | B107: inne, w tym: | G107: =G99-G106 -> 157737000 | H107: =H99-H106 -> 0 | I107: =I99-I106 -> 157737000
A108: 5.2.1 | B108: =B105 -> - odsetki od nieterminowych wpłat zakładów pracy | G108: =G105 -> 15000000 | I108: =I105 -> 15000000
B109: - otrzymane spadki, zapisy i darowizny w postaci pieniężnej | C109: 0960 | E109: ='Pl 2016-20 PFC'!#REF! -> #REF! | F109: ='Pl 2016-20 PFC'!#REF! -> #REF! | G109: ='Pl 2016-20 PFC'!D116 -> 0 | H109: ='Pl 2016-20 PFC'!E116 -> 0 | I109: ='Pl 2016-20 PFC'!F116 -> 0 | J109: ='Pl 2016-20 PFC'!#REF! -> #REF!
G110: ='Pl 2016-20 PFC'!D114 -> 0 | H110: ='Pl 2016-20 PFC'!E114 -> 0 | I110: ='Pl 2016-20 PFC'!F114 -> 0
...

Sheet czysty
A1: Część...............................................................
A2: (nr, nazwa)
A3: Dział...............................................................
A4: (nr, nazwa)
A5: Rozdział........................................................... | K5: PROJEKT
A6: (nr, nazwa)
J7: Załącznik nr 34
A8: Nazwa funduszu........................................................... | J8: PFC
J10: Wersja I - UE w kosztach wynagr. 10 mln
A11: PROJEKT BUDŻETU PAŃSTWA NA 2016 r.
A12: PROJEKT PLANU FINANSOWEGO PAŃSWOWEGO FUNDUSZU CELOWEGO Z DODATKOWYMI INFORMACJAMI UZUPEŁNIAJĄCYMI
A13: Część A
A14: Lp. | B14: Treść | D14: Plan po zmianach 2015 | E14: ='Pl 2016-20 PFC'!#REF! -> #REF! | F14: ='Pl 2016-20 PFC'!#REF! -> #REF! | G14: ='Pl 2016-20 PFC'!D67 -> Plan wg Ustawy Budżetowej na 2017 r. | H14: różnice | I14: ='Pl 2016-20 PFC'!E67 -> Zmiany | J14: ='Pl 2016-20 PFC'!F67 -> Plan po zmianach 2017 | K14: ='Pl 2016-20 PFC'!#REF! -> #REF! | L14: % | P14: =G18-G41-G39 -> 4668646500 | R14: =I18-I41-I39 -> 4623897500 | S14: =J18-J41-J39 -> 4674575500 | T14: =K18-K41-K39 -> 4704267500 | U14: =L18-L41-L39 -> -116.80381 | V14: =M18-M41-M39 -> 0 | W14: =N18-N41-N39 -> 4.7526778e+09 | X14: =O18-O41-O39 -> 5073344226 | Y14: =P18-P41-P39 -> 4825237600 | Z14: =Q18-Q41-Q39 -> 4876830600
E15: ='Pl 2016-20 PFC'!D16:F16 -> 0 | P15: =G147 -> 4668646500 | R15: =I147 -> 4623897500 | S15: =J147 -> 4674575500 | T15: =K147 -> 4704267500 | U15: =L147 -> 102.88682
A16: 1 | B16: 2 | E16: 3 | F16: 4 | G16: 4 | I16: 5 | J16: 6 | K16: 7
A18: I | B18: Zadania wynikające z ustawy tworzącej fundusz celowy | D18: =SUM(#REF!) -> #REF! | E18: 4.7526778e+09 | F18: 5063344226 | G18: 4874087500 | H18: 189256726 | I18: 4825237600 | J18: 4876830600 | K18: 4906947600 | L18: 102.55455 | N18: =E147+E41+E39 -> 4.7526778e+09 | O18: =F147+F41+F39 -> 5073344226 | P18: =I147+I41+I39 -> 4825237600 | Q18: =J147+J41+J39 -> 4876830600 | R18: =K147+K41+K39 -> 4906947600 | T18: =G147+G41+G39 -> 4874087500 | AA18: =E18-E81 -> #REF!
N19: =E18-N18 -> 0 | O19: =F18-O18 -> -10000000 | P19: =I18-P18 -> 0 | Q19: =J18-Q18 -> 0 | R19: =K18-R18 -> 0 | T19: =G18-G18 -> 0
A20: 1 | B20: Realizacja działań wyrównujących różnice między regionami - art. 47 ust. 1 pkt 1 ustawy z dnia 27 sierpnia 1997 r. o rehabilitacji zawodowej i społecznej oraz zatrudnianiu osób niepełnosprawnych (Dz. U z 2011 r. Nr 127, poz. 721, z póżn. zm.) | D20: =SUM(#REF!) -> #REF! | E20: 3338649.7 | G20: 49500000 | I20: 49500000 | J20: 49500000 | K20: 49500000 | L20: 1482.6353
A21: 2 | B21: Realizacja programów wspieranych ze środków pomocowych Unii Europejskiej - art. 47 ust. 1 pkt 2 | D21: =SUM(#REF!) -> #REF! | E21: 33274809 | G21: 0 | I21: 0 | J21: 0 | K21: 0 | L21: =G21/E21% -> 0
A22: 3 | B22: Dofinansowanie do wynagrodzeń pracowników niepełnosprawnych - art. 26a | D22: =SUM(#REF!) -> #REF! | E22: 2980196000 | G22: 3020000000 | I22: 3020000000 | J22: 3020000000 | K22: 3020000000 | L22: =G22/E22% -> 101.33562
A23: 4 | B23: Zrekompensowanie gminom dochodów utraconych z tytułu zastosowania ustawowych zwolnień dla prowadzacych zakłady pracy chronionej lub zakłady aktywności zawodowej z podatku od nieruchomości, rolnego,leśnego i od czynności cywilnoprawnych - art. 47 ust. 2 | D23: =SUM(#REF!) -> #REF! | E23: 56000000 | G23: 57000000 | I23: 58000000 | J23: 59000000 | K23: 60000000 | L23: =G23/E23% -> 101.78571
A24: 5 | B24: Finansowanie w części lub całości badań, ekspertyz i analiz - art. 47 ust. 1 pkt 4 lit.b | D24: =SUM(#REF!) -> #REF! | E24: 3281673.5 | F24: 4220000 | G24: 3220000 | H24: -1000000 | I24: 3000000 | J24: 3000000 | K24: 3000000 | L24: =G24/E24% -> 98.120669
A25: 6 | B25: Refundacja kosztów wydawania certyfikatów przez podmioty uprawnione do szkolenia psów asystujących art. 20b | D25: =#REF! -> #REF! | E25: 3000 | F25: 3000 | G25: 3000 | H25: 0 | I25: 3000 | J25: 3000 | K25: 3000 | L25: =G25/E25% -> 100
A26: 7 | B26: Programy zatwierdzone przez Radę Nadzorczą, służące rehabilitacji społecznej i zawodowej - art. 47 ust. 1 pkt 4 lit.a | D26: =SUM(#REF!) -> #REF! | E26: 1.1008922e+08 | F26: 182120000 | G26: 142120000 | H26: -40000000 | I26: 84320000 | J26: 135320000 | K26: 165320000 | L26: =G26/E26% -> 129.09529
A27: 8 | B27: Dofinansowanie oprocentowania kredytów bankowych - art. 32 ust. 1 pkt 1 | D27: =SUM(#REF!) -> #REF! | E27: 2000000 | F27: 3000000 | G27: 2500000 | H27: -500000 | I27: 2500000 | J27: 2500000 | K27: 2500000 | L27: =G27/E27% -> 125
A28: 9 | B28: Zwrot kosztów budowy lub rozbudowy obiektów i pomieszczeń zakładu, transportowych i administracyjnych - art. 32 ust. 1 pkt 2 | D28: =SUM(#REF!) -> #REF! | E28: 7000000 | F28: 14000000 | G28: 10000000 | H28: -4000000 | I28: 10000000 | J28: 10000000 | K28: 10000000 | L28: =G28/E28% -> 142.85714
A29: 10 | B29: Refundacja składek na ubezpieczenia społeczne - art. 25a | D29: =SUM(#REF!) -> #REF! | E29: 94610000 | F29: 105837000 | G29: 97600000 | H29: -8237000 | I29: 111593000 | J29: 117675000 | K29: 124102000 | L29: =G29/E29% -> 103.16034
A30: 11 | B30: Zadania zlecane - art. 36 | D30: =SUM(#REF!) -> #REF! | E30: 173145000 | F30: 275000000 | G30: 175000000 | H30: -100000000 | I30: 175000000 | J30: 175000000 | K30: 175000000 | L30: =G30/E30% -> 101.07136
A31: 12 | B31: Przelewy redystrybucyjne wymienione w części B pkt III ppkt 6 | D31: =D108 -> #REF! | E31: 915783000 | F31: 922378500 | G31: 922378500 | H31: 0 | I31: 922378500 | J31: 922378500 | K31: 922378500 | L31: =G31/E31% -> 100.7202
A32: 13 | B32: Wydatki bieżące (własne), z tego: | D32: =SUM(D33:D37,D41,D38) -> #REF! | E32: 334602000 | F32: 330953726 | G32: 340934000 | H32: 9980274 | I32: 338673100 | J32: 342608100 | K32: 345580100 | L32: =G32/E32% -> 101.8924
A33: 13.1 | B33: - wynagrodzenia osobowe | D33: =SUM(#REF!) -> #REF! | E33: 52282000 | F33: 52282000 | G33: 62282000 | H33: 1312000 | I33: 63405000 | J33: 64993000 | K33: 66621000 | L33: =G33/E33% -> 119.12704
A34: 13.2 | B34: - wynagrodzenia bezosobowe | D34: =SUM(#REF!) -> #REF! | E34: 1200000 | F34: 1220000 | G34: 1200000 | H34: -20000 | I34: 1222000 | J34: 1253000 | K34: 1284000 | L34: =G34/E34% -> 100
A35: 13.3 | B35: - składki na ubezpieczenia społeczne | D35: =SUM(D97) -> #REF! | E35: 9392000 | F35: 11866000 | G35: 11866000 | H35: 434000 | I35: 12078000 | J35: 12384000 | K35: 12690000 | L35: =G35/E35% -> 126.34157
A36: 13.4 | B36: - składki na Fundusz Pracy | D36: =SUM(D98) -> #REF! | E36: 1311000 | F36: 1660000 | G36: 1660000 | H36: 254000 | I36: 1691000 | J36: 1731000 | K36: 1772000 | L36: =G36/E36% -> 126.6209
A37: 13.5 | B37: - zakup usług | D37: =D99 -> #REF! | E37: 46509000 | F37: 47338000 | G37: 47338000 | H37: 0 | I37: 47845000 | J37: 48872000 | K37: 49385000 | L37: =G37/E37% -> 101.78245
A38: 13.6 | B38: - pozostałe, z tego: | D38: =SUM(D100) -> #REF! | E38: 28908000 | F38: 36588726 | G38: 36589000 | H38: 274 | I38: 47433000 | J38: 53376000 | K38: 53829000 | L38: =G38/E38% -> 126.5705
A39: 13.6.1 | B39: - amortyzacja (umorzenia) | D39: =SUM(D101) -> #REF! | E39: 20025000 | F39: 25442000 | G39: 25442000 | H39: 0 | I39: 36341000 | J39: 42256000 | K39: 42681000 | L39: =G39/E39% -> 127.05119
A40: 13.6.2 | B40: - inne | D40: =D102 -> #REF! | E40: 8883000 | F40: 11146726 | G40: 11147000 | H40: 274 | I40: 11092000 | J40: 11120000 | K40: 11148000 | L40: =G40/E40% -> 125.48689
A41: 13.7 | B41: - odpis aktualizujący wartość należności z tytułu wpłat na PFRON, pożyczek, odsetek od pożyczek oraz innych należności | D41: =SUM(D103) -> #REF! | E41: 195000000 | F41: 179999000 | G41: 179999000 | H41: 0 | I41: 164999100 | J41: 159999100 | K41: 159999100 | L41: =G41/E41% -> 92.307179
A42: 14 | B42: Wydatki osobowe nie zaliczane do wynagrodzeń | D42: =SUM(D91) -> #REF! | E42: 3716000 | F42: 3782000 | G42: 3782000 | H42: 0 | I42: 3850000 | J42: 3946000 | K42: 4044000 | L42: =G42/E42% -> 101.7761
A43: 15 | B43: Wydatki inwestycyjne (własne) i zakupy inwestycyjne (własne) | D43: =SUM(#REF!) -> #REF! | E43: 29870000 | F43: 45900000 | G43: 45900000 | H43: 0 | I43: 42020000 | J43: 32050000 | K43: 21670000 | L43: =G43/E43% -> 153.66589
A44: 16 | B44: Zwrot dotacji wykorzystanych niezgodnie z przeznaczeniem lub pobranych w nadmiernej wysokości | D44: =SUM(D113) -> #REF! | E44: 4118496.3 | F44: 1650000 | G44: 1650000 | H44: 0 | I44: 1900000 | J44: 1350000 | K44: 1350000 | L44: =G44/E44% -> 40.063166
A45: 17 | B45: Dofinansowanie kosztów szkolenia, o których mowa w art. 18 ustawy o języku migowym i innych środkach komunikowania się - (Dz.U Nr 209, poz 1243, z póżn. zm) - art. 47 ust 1 pkt. 4 lit. c | D45: =SUM(D46:D46) -> 0 | E45: 1650000 | F45: 2500000 | G45: 2500000 | H45: 0 | I45: 2500000 | J45: 2500000 | K45: 2500000 | L45: =G45/E45% -> 151.51515
A48: Część B Plan finansowy w układzie memoriałowym
A49: Lp. | B49: Treść | C49: Paragrafy | D49: =D14 -> Plan po zmianach 2015 | E49: =E14 -> #REF! | F49: =F14 -> #REF! | G49: =G14 -> Plan wg Ustawy Budżetowej na 2017 r. | H49: =H14 -> różnice | I49: =I14 -> Zmiany | J49: =J14 -> Plan po zmianach 2017 | K49: =K14 -> #REF! | L49: =L14 -> %
E50: =E15 -> 0
A51: 1 | B51: 2 | C51: 3 | E51: 4 | G51: 5 | I51: 6 | J51: 7 | K51: 8
A53: I | B53: Stan funduszu na początek roku | C53: x | D53: =SUM(D55:D56,D59)+SUM(D62:D67) -> #REF! | E53: 3.7611527e+08 | F53: 294248396 | G53: 294248396 | H53: 0 | I53: 84619002 | J53: 26783456 | K53: 77690992 | L53: =G53/E53% -> 78.233569
B54: z tego:
A55: 1 | B55: Środki pieniężne | C55: x | D55: ='Pl 2016-20 PFC'!#REF! -> #REF! | E55: 3.6513055e+08 | F55: 340014874 | G55: 340014874 | H55: 0 | I55: 167124739 | J55: 145381175 | K55: 239998325 | L55: =G55/E55% -> 93.121453
A56: 2 | B56: Należności, w tym: | C56: x | D56: ='Pl 2016-20 PFC'!#REF! -> #REF! | E56: 7.7052142e+08 | F56: 830552939 | G56: 830552939 | H56: 0 | I56: 813040530 | J56: 8.0219409e+08 | K56: 801980858 | L56: =G56/E56% -> 107.79102
A57: 2.1 | B57: - należności z tytułu wpłat obowiązkowych | C57: x | D57: ='Pl 2016-20 PFC'!#REF! -> #REF! | E57: 5.3073991e+08 | F57: 550000000 | G57: 550000000 | H57: 0 | I57: 530000000 | J57: 530000000 | K57: 530000000 | L57: =G57/E57% -> 103.62891
A58: 2.2 | B58: - należności z tytułu udzielonych pożyczek | C58: x | D58: ='Pl 2016-20 PFC'!#REF! -> #REF! | E58: 2112586.1 | F58: 3345790 | G58: 3345790 | H58: 0 | I58: 3301804 | J58: 3366365.5 | K58: 3286332 | L58: =G58/E58% -> 158.37414
A59: 3 | B59: Zobowiązania, z tego: | C59: x | D59: ='Pl 2016-20 PFC'!#REF! -> #REF! | E59: -71810332 | F59: -58345552 | G59: -58345552 | H59: 0 | I59: -55132004 | J59: -52022121 | K59: -51652667 | L59: =G59/E59% -> 81.249523
A60: 3.1 | B60: =+'Pl 2016-20 PFC'!B80 -> pozostałe | C60: x | D60: ='Pl 2016-20 PFC'!#REF! -> #REF! | E60: -71810332 | F60: -58345552 | G60: -58345552 | H60: 0 | I60: -55132004 | J60: -52022121 | K60: -51652667 | L60: =G60/E60% -> 81.249523
A61: 3.1.1 | B61: w tym: wymagalne | C61: x
A62: 4. | B62: Wartości niematerialne i prawne | C62: x | D62: ='Pl 2016-20 PFC'!#REF! -> #REF! | E62: 17178687 | F62: 25809042 | G62: 25809042 | H62: 0 | I62: 35906342 | J62: 29269500 | K62: 23653900 | L62: =G62/E62% -> 150.23873
A63: 5. | B63: Rzeczowe aktywa trwałe | C63: x | D63: ='Pl 2016-20 PFC'!#REF! -> #REF! | E63: 34120630 | F63: 45361598 | G63: 45361598 | H63: 0 | I63: 44982155 | J63: 41679622 | K63: 33019915 | L63: =G63/E63% -> 132.94478
A64: 6. | B64: Rozliczenia międzyokresowe kosztów | C64: x | D64: ='Pl 2016-20 PFC'!#REF! -> #REF! | E64: -1936139 | F64: -1450000 | G64: -1450000 | H64: 0 | I64: -1530000 | J64: -1530000 | K64: -1430000 | L64: =G64/E64% -> 74.891318
A65: 7. | B65: Rozliczenia międzyokresowe przychodów | C65: x | D65: ='Pl 2016-20 PFC'!#REF! -> #REF!
A66: 8. | B66: Rezerwy (minus) | C66: x | D66: ='Pl 2016-20 PFC'!#REF! -> #REF! | E66: -7.3487767e+08 | F66: -884394505 | G66: -884394505 | H66: 0 | I66: -915972760 | J66: -9.3438881e+08 | K66: -964079339 | L66: =G66/E66% -> 120.34581
A67: 9. | B67: Fundusze specjalne (ZFŚS) (minus) | C67: x | D67: ='Pl 2016-20 PFC'!#REF! -> #REF! | E67: -2211879.9 | F67: -3300000 | G67: -3300000 | H67: 0 | I67: -3800000 | J67: -3800000 | K67: -3800000 | L67: =G67/E67% -> 149.19436
A69: II | B69: Przychody | C69: x | D69: =SUM(D71,D75,D76,D77,D78) -> #REF! | E69: 4.640941e+09 | F69: 4619643508 | G69: 4618558106 | H69: -1085402 | I69: 4725382054 | J69: 4895688136 | K69: 5053185141 | L69: =G69/E69% -> 99.517708
A71: 1 | B71: Dotacje z budżetu państwa, z tego: | C71: x | D71: =D72 -> #REF! | E71: 743360000 | F71: 745360000 | G71: 745360000 | H71: 0 | I71: 745360000 | J71: 745360000 | K71: 745360000 | L71: =G71/E71% -> 100.26905
A72: 1.1 | B72: - dla państwowego funduszu celowego | C72: 2430 | D72: ='Pl 2016-20 PFC'!#REF!+'Pl 2016-20 PFC'!#REF! -> #REF! | E72: 743360000 | F72: 745360000 | G72: 745360000 | H72: 0 | I72: 745360000 | J72: 745360000 | K72: 745360000 | L72: =G72/E72% -> 100.26905
A73: 1.1.1 | B73: - zrekompensowanie gminom dochodów utraconych z tytułu zastosowania ustawowych zwolnień dla prowadzacych zakłady pracy chronionej lub zakłady aktywności zawodowej z podatku od nieruchomości, rolnego,leśnego i od czynności cywilnoprawnych - art. 46a ust. 1 pkt 2 | C73: 2430 | D73: ='Pl 2016-20 PFC'!#REF! -> #REF! | E73: 28000000 | F73: 28500000 | G73: 28500000 | H73: 0 | I73: 29000000 | J73: 29500000 | K73: 30000000 | L73: =G73/E73% -> 101.78571
A74: 1.1.2 | B74: - dofinansowanie do wynagrodzeń pracowników niepełnosprawnych - art. 46a ust. 1 pkt 1 | C74: 2430 | D74: ='Pl 2016-20 PFC'!#REF! -> #REF! | E74: 715360000 | F74: 716860000 | G74: 716860000 | H74: 0 | I74: 716360000 | J74: 715860000 | K74: 715360000 | L74: =G74/E74% -> 100.20968
A75: 2 | B75: Środki otrzymane z Unii Europejskiej | C75: 2007 | D75: ='Pl 2016-20 PFC'!#REF! -> #REF! | E75: 46900000 | F75: 14167000 | G75: 0 | H75: -14167000 | I75: 0 | J75: 0 | K75: 0 | L75: =G75/E75% -> 0
A76: 3 | B76: Składki i opłaty | C76: 0850 | D76: ='Pl 2016-20 PFC'!#REF! -> #REF! | E76: 3620789367 | F76: 3648380374 | G76: 3648380374 | H76: 0 | I76: 3785138406 | J76: 3961484288 | K76: 4119835693 | L76: =G76/E76% -> 100.76202
A77: 4 | B77: Przelewy redystrybucyjne | C77: 2960 | D77: ='Pl 2016-20 PFC'!#REF! -> #REF! | E77: 2103794.8 | F77: 2155000 | G77: 2155000 | H77: 0 | I77: 2155000 | J77: 2155000 | K77: 2155000 | L77: =G77/E77% -> 102.43395
A78: 5 | B78: Pozostałe przychody | C78: x | D78: ='Pl 2016-20 PFC'!#REF! -> #REF! | E78: 2.2778781e+08 | F78: 209581134 | G78: 222662732 | H78: 13081598 | I78: 192728648 | J78: 186688848 | K78: 185834448 | L78: =G78/E78% -> 97.750063
A79: 5.1 | B79: w tym: odsetki | C79: 0920 | D79: ='Pl 2016-20 PFC'!#REF! -> #REF! | E79: 62781460 | F79: 49198250 | G79: 52279848 | H79: 3081598 | I79: 50531998 | J79: 50334448 | K79: 50213898 | L79: =G79/E79% -> 83.27275
A81: III | B81: Koszty realizacji zadań | C81: x | D81: =SUM(D83,D89,D92,D93,D104,D108,D113) -> #REF! | E81: ='Pl 2014-17 PFC MF'!E116 -> #REF! | G81: ='Pl 2014-17 PFC MF'!G116 -> 4913734000 | I81: ='Pl 2014-17 PFC MF'!H116 -> 0 | J81: ='Pl 2014-17 PFC MF'!I116 -> 4913734000 | K81: ='Pl 2014-17 PFC MF'!J116 -> #REF! | L81: =G81/E81% -> #REF!
A83: 1 | B83: Dotacje na realizację zadań bieżących | C83: x | D83: =SUM(D84,D87) -> #REF! | E83: 3.4076688e+09 | F83: 3577080000 | G83: 3452643000 | H83: -124437000 | I83: 3459616000 | J83: 3472698000 | K83: 3480125000 | L83: =G83/E83% -> 101.31979
A84: 1.1 | B84: dotacje dla jednostek sektora finansów publicznych | C84: x | D84: =SUM(D85:D86) -> #REF! | E84: 1.4453579e+08 | F84: 159140000 | G84: 146640000 | H84: -12500000 | I84: 141220000 | J84: 148220000 | K84: 149220000 | L84: =G84/E84% -> 101.45584
A85: 1.1.1 | B85: - środki na zadania ustawowe (bez współfinansowania) | C85: 2440 | D85: =SUM(#REF!) -> #REF! | E85: 1.3954457e+08 | F85: 159140000 | G85: 146640000 | H85: -12500000 | I85: 141220000 | J85: 148220000 | K85: 149220000 | L85: =G85/E85% -> 105.0847
A86: 1.1.2 | B86: - środki na współfinansowanie programów i projektów realizowanych ze środków UE | C86: 2449 | D86: =SUM(#REF!) -> #REF! | E86: 4991221.3 | F86: 0 | G86: 0 | H86: 0 | I86: 0 | J86: 0 | K86: 0 | L86: =G86/E86% -> 0
A87: 1.2 | B87: dotacje dla jednostek niezaliczanych do sektora finansów publicznych | C87: x | D87: =SUM(D88:D88) -> #REF! | E87: 3263133000 | F87: 3417940000 | G87: 3306003000 | H87: -111937000 | I87: 3318396000 | J87: 3324478000 | K87: 3330905000 | L87: =G87/E87% -> 101.31377
A88: 1.2.1 | B88: - środki na zadania ustawowe (bez współfinansowania) | C88: 2450 | D88: =SUM(#REF!,#REF!,#REF!,#REF!,#REF!,#REF!,#REF!,#REF!,#REF!) -> #REF! | E88: 3263133000 | F88: 3417940000 | G88: 3306003000 | H88: -111937000 | I88: 3318396000 | J88: 3324478000 | K88: 3330905000 | L88: =G88/E88% -> 101.31377
A89: 2 | B89: Transfery na rzecz ludności, z tego na: | C89: x | D89: =D90+D91 -> #REF! | E89: 5366000 | F89: 6282000 | G89: 6282000 | H89: 0 | I89: 6350000 | J89: 6446000 | K89: 6544000 | L89: =G89/E89% -> 117.07044
A90: 2.1 | B90: - różne wydatki na rzecz osób fizycznych | C90: 3030 | D90: =SUM(#REF!,#REF!)+'Pl 2016-20 PFC'!#REF! -> #REF! | E90: 1650000 | F90: 2500000 | G90: 2500000 | H90: 0 | I90: 2500000 | J90: 2500000 | K90: 2500000 | L90: =G90/E90% -> 151.51515
A91: 2.2 | B91: - wydatki osobowe nie zaliczone do wynagrodzeń | C91: 3020 | D91: =SUM(#REF!) -> #REF! | E91: 3716000 | F91: 3782000 | G91: 3782000 | H91: 0 | I91: 3850000 | J91: 3946000 | K91: 4044000 | L91: =G91/E91% -> 101.7761
A92: 3 | B92: Środki z Unii Europejskiej | C92: x | D92: =SUM(#REF!) -> #REF! | E92: 28283588 | F92: 17000000 | G92: 0 | H92: -17000000 | I92: 0 | J92: 0 | K92: 0 | L92: =G92/E92% -> 0
A93: 4 | B93: Koszty własne | C93: x | D93: =SUM(D95,D96,D97,D98,D99,D100,D103) -> #REF! | E93: 334602000 | F93: 340953726 | G93: 340934000 | H93: -19726 | I93: 338673100 | J93: 342608100 | K93: 345580100 | L93: =G93/E93% -> 101.8924
A94: 4.1 | B94: wynagrodzenia, z tego: | C94: x | D94: =SUM(D95:D96) -> #REF! | E94: 53482000 | F94: 63502000 | G94: 63482000 | H94: -20000 | I94: 64627000 | J94: 66246000 | K94: 67905000 | L94: =G94/E94% -> 118.69788
A95: 4.1.1 | B95: - osobowe | C95: 4010-4019 | D95: =#REF! -> #REF! | E95: 52282000 | F95: 62282000 | G95: 62282000 | H95: 1312000 | I95: 63405000 | J95: 64993000 | K95: 66621000 | L95: =G95/E95% -> 119.12704
A96: 4.1.2 | B96: - bezosobowe | C96: 4170 | D96: =#REF! -> #REF! | E96: 1200000 | F96: 1220000 | G96: 1200000 | H96: -20000 | I96: 1222000 | J96: 1253000 | K96: 1284000 | L96: =G96/E96% -> 100
A97: 4.2 | B97: składki na ubezpieczenia społeczne | C97: 4110-4119 | D97: =SUM(#REF!) -> #REF! | E97: 9392000 | F97: 11866000 | G97: 11866000 | H97: 434000 | I97: 12078000 | J97: 12384000 | K97: 12690000 | L97: =G97/E97% -> 126.34157
A98: 4.3 | B98: składki na Fundusz Pracy | C98: 4120-4129 | D98: =SUM(#REF!) -> #REF! | E98: 1311000 | F98: 1660000 | G98: 1660000 | H98: 254000 | I98: 1691000 | J98: 1731000 | K98: 1772000 | L98: =G98/E98% -> 126.6209
A99: 4.4 | B99: zakup usług | C99: 4210-4400 | D99: ='Pl 2016-20 PFC'!#REF! -> #REF! | E99: 46509000 | F99: 47338000 | G99: 47338000 | H99: 0 | I99: 47845000 | J99: 48872000 | K99: 49385000 | L99: =G99/E99% -> 101.78245
A100: 4.5 | B100: pozostałe, z tego: | C100: x | D100: =SUM(#REF!) -> #REF! | E100: 28908000 | F100: 36588726 | G100: 36589000 | H100: 274 | I100: 47433000 | J100: 53376000 | K100: 53829000 | L100: =G100/E100% -> 126.5705 | O100: =G55+G135-G147 -> 167124739
A101: 4.5.1 | B101: - amortyzacja (umorzenia) | C101: 4720 | D101: =IF(('Pl 2016-20 PFC'!#REF!)=0,"0",'Pl 2016-20 PFC'!#REF!) -> #REF! | E101: 20025000 | F101: 25442000 | G101: 25442000 | H101: 0 | I101: 36341000 | J101: 42256000 | K101: 42681000 | L101: =G101/E101% -> 127.05119
A102: 4.5.2 | B102: - inne | C102: 4410-4610 | D102: ='Pl 2016-20 PFC'!#REF! -> #REF! | E102: 8883000 | F102: 11146726 | G102: 11147000 | H102: 274 | I102: 11092000 | J102: 11120000 | K102: 11148000 | L102: =G102/E102% -> 125.48689
A103: 4.6 | B103: - odpis aktualizujący wartość należności z tytułu wpłat na PFRON, pożyczek, odsetek od pożyczek oraz innych należności | C103: 4810 | D103: =IF(('Pl 2016-20 PFC'!#REF!)=0,"0",'Pl 2016-20 PFC'!#REF!) -> #REF! | E103: 195000000 | F103: 179999000 | G103: 179999000 | H103: 0 | I103: 164999100 | J103: 159999100 | K103: 159999100 | L103: =G103/E103% -> 92.307179
A104: 5 | B104: Koszty inwestycyjne, w tym: | C104: x | D104: =SUM(#REF!,D105) -> #REF! | E104: 56855970 | F104: 208000000 | G104: 150200000 | H104: -57800000 | I104: 96320000 | J104: 131350000 | K104: 150970000 | L104: =G104/E104% -> 264.17631
A105: 5.1 | B105: - dotacje inwestycyjne | C105: 6260-6270 | D105: =SUM(D106,D107) -> #REF! | E105: 26985970 | F105: 162100000 | G105: 104300000 | H105: -57800000 | I105: 54300000 | J105: 99300000 | K105: 129300000 | L105: =G105/E105% -> 386.49714
A106: 5.1.1 | B106: -dla sektora finansów publicznych | C106: 6260 | D106: =SUM(#REF!) -> #REF! | E106: 22605970 | F106: 152700000 | G106: 98200000 | H106: -54500000 | I106: 48200000 | J106: 93200000 | K106: 123200000 | L106: =G106/E106% -> 434.39853
A107: 5.1.2 | B107: -dla jednostek niezaliczanych do sektora finansów publicznych | C107: 6270 | D107: =SUM(#REF!) -> #REF! | E107: 4380000 | F107: 9400000 | G107: 6100000 | H107: -3300000 | I107: 6100000 | J107: 6100000 | K107: 6100000 | L107: =G107/E107% -> 139.26941 | N107: =N109*0.005 -> 750000000 | O107: =O109*0.005 -> 750000
A108: 6 | B108: Przelewy redystrybucyjne, z tego na: | C108: 2960 | D108: =SUM(D109,D110,D111,D112) -> #REF! | E108: 915783000 | F108: 922378500 | G108: 922378500 | H108: 0 | I108: 922378500 | J108: 922378500 | K108: 922378500 | L108: =G108/E108% -> 100.7202
A109: 6.1 | B109: - samorządów wojewódzkich na realizację zadań | D109: ='Pl 2016-20 PFC'!#REF! -> #REF! | E109: 146341000 | F109: 146341000 | G109: 146341000 | H109: 0 | I109: 146341000 | J109: 146341000 | K109: 146341000 | L109: =G109/E109% -> 100 | N109: =(J109+J110)*1000 -> 150000000000 | O109: =K109+K110 -> 150000000
...

Sheet Plan 2014-17 Wydatki
A2: Projekt planu na 2009 rok | B2: Plan na 2017 r.
A3: Wydatki | B3: Wydatki
A4: Państwowego Funduszu Rehabilitacji Osób Niepełnosprawnych | B4: Państwowego Funduszu Rehabilitacji Osób Niepełnosprawnych
A7: L.p. | B7: Tytuł | C7: § 244 | F7: § 245 | I7: Transfery § 302, § 303 | L7: § 626 | O7: § 627 | R7: § 296 | U7: RAZEM | X7: Struktura wydatków 2012 r. %
C8: Plan na 2016 r. | D8: ='Pl 2014-17 PFC MF'!H14 -> Zmiany | E8: ='Pl 2014-17 PFC MF'!I14 -> Plan po zmianach 2017 | F8: =C8 -> Plan na 2016 r. | G8: =D8 -> Zmiany | H8: =E8 -> Plan po zmianach 2017 | I8: =C8 -> Plan na 2016 r. | J8: =D8 -> Zmiany | K8: =E8 -> Plan po zmianach 2017 | L8: =I8 -> Plan na 2016 r. | M8: =J8 -> Zmiany | N8: =K8 -> Plan po zmianach 2017 | O8: =L8 -> Plan na 2016 r. | P8: =M8 -> Zmiany | Q8: =N8 -> Plan po zmianach 2017 | R8: =O8 -> Plan na 2016 r. | S8: =P8 -> Zmiany | ... W8: =T8 -> Plan po zmianach 2017
A9: I | B9: Wydatki ogółem ( A : C ) + ( 1 : 4 ) | C9: =IF((SUM(C10:C12)=0),"",SUM(C10:C12)) -> 139850000 | D9: =IF((SUM(D10:D12)=0),"",SUM(D10:D12)) | E9: =IF((SUM(E10:E12)=0),"",SUM(E10:E12)) -> 139850000 | F9: =IF((SUM(F10:F12)=0),"",SUM(F10:F12)) -> 3370224000 | G9: =IF((SUM(G10:G12)=0),"",SUM(G10:G12)) | H9: =IF((SUM(H10:H12)=0),"",SUM(H10:H12)) -> 3370224000 | I9: =IF((SUM(I10:I12)=0),"",SUM(I10:I12)) -> 6631000 | J9: =IF((SUM(J10:J12)=0),"",SUM(J10:J12)) | ... U9: =IF((SUM(U10:U12)=0),"",SUM(U10:U12)) -> 4913734000 | V9: =IF((SUM(V10:V12)=0),"0",SUM(V10:V12)) -> 0 | W9: =IF((SUM(W10:W12)=0),"",SUM(W10:W12)) -> 4913734000 | X9: =IF((SUM(X10:X12)=0),"",SUM(X10:X12)) -> #VALUE!
B10: - środki na zadania ustawowe (§ xxx0) | C10: =IF((SUM(C13,C16,C21,C25:C31,C35:C36,C54,C58,C61,C63)=0),"",SUM(C13,C16,C21,C25:C31,C35:C36,C54,C58,C61,C63)) -> 136850000 | D10: =IF((SUM(D13,D16,D21,D25:D31,D35:D36,D54,D58,D61,D63)=0),"",SUM(D13,D16,D21,D25:D31,D35:D36,D54,D58,D61,D63)) | E10: =IF((SUM(E13,E16,E21,E25:E31,E35:E36,E54,E58,E61,E63)=0),"",SUM(E13,E16,E21,E25:E31,E35:E36,E54,E58,E61,E63)) -> 136850000 | F10: =IF((SUM(F13,F16,F21,F25:F31,F35:F36,F54,F58,F61,F63)=0),"",SUM(F13,F16,F21,F25:F31,F35:F36,F54,F58,F61,F63)) -> 3370224000 | G10: =IF((SUM(G13,G16,G21,G25:G31,G35:G36,G54,G58,G61,G63)=0),"",SUM(G13,G16,G21,G25:G31,G35:G36,G54,G58,G61,G63)) | H10: =IF((SUM(H13,H16,H21,H25:H31,H35:H36,H54,H58,H61,H63)=0),"",SUM(H13,H16,H21,H25:H31,H35:H36,H54,H58,H61,H63)) -> 3370224000 | I10: =IF((SUM(I13,I16,I21,I25:I31,I34:I36,I54,I58,I61,I63)=0),"",SUM(I13,I16,I21,I25:I31,I34:I36,I54,I58,I61,I63)) -> 6631000 | J10: =IF((SUM(J13,J16,J21,J25:J31,J34:J36,J54,J58,J61,J63)=0),"",SUM(J13,J16,J21,J25:J31,J34:J36,J54,J58,J61,J63)) | K10: =IF((SUM(K13,K16,K21,K25:K31,K34:K36,K54,K58,K61,K63)=0),"",SUM(K13,K16,K21,K25:K31,K34:K36,K54,K58,K61,K63)) -> 6631000 | L10: =IF((SUM(L13,L16,L21,L25:L31,L35:L36,L54,L58,L61,L63)=0),"",SUM(L13,L16,L21,L25:L31,L35:L36,L54,L58,L61,L63)) -> 86050000 | M10: =IF((SUM(M13,M16,M21,M25:M31,M35:M36,M54,M58,M61,M63)=0),"",SUM(M13,M16,M21,M25:M31,M35:M36,M54,M58,M61,M63)) | N10: =IF((SUM(N13,N16,N21,N25:N31,N35:N36,N54,N58,N61,N63)=0),"",SUM(N13,N16,N21,N25:N31,N35:N36,N54,N58,N61,N63)) -> 86050000 | O10: =IF((SUM(O13,O16,O21,O25:O31,O35:O36,O54,O58,O61,O63)=0),"",SUM(O13,O16,O21,O25:O31,O35:O36,O54,O58,O61,O63)) -> 4578000 | P10: =IF((SUM(P13,P16,P21,P25:P31,P35:P36,P54,P58,P61,P63)=0),"",SUM(P13,P16,P21,P25:P31,P35:P36,P54,P58,P61,P63)) | Q10: =IF((SUM(Q13,Q16,Q21,Q25:Q31,Q35:Q36,Q54,Q58,Q61,Q63)=0),"",SUM(Q13,Q16,Q21,Q25:Q31,Q35:Q36,Q54,Q58,Q61,Q63)) -> 4578000 | R10: =IF((SUM(R13,R16,R21,R25:R31,R35:R36,R54,R58,R61,R63)=0),"",SUM(R13,R16,R21,R25:R31,R35:R36,R54,R58,R61,R63)) -> 930000000 | S10: =IF((SUM(S13,S16,S21,S25:S31,S35:S36,S54,S58,S61,S63)=0),"",SUM(S13,S16,S21,S25:S31,S35:S36,S54,S58,S61,S63)) | T10: =IF((SUM(T13,T16,T21,T25:T31,T35:T36,T54,T58,T61,T63)=0),"",SUM(T13,T16,T21,T25:T31,T35:T36,T54,T58,T61,T63)) -> 930000000 | U10: =IF((SUM(U13,U16,U21,U25:U31,U34:U36,U54,U58,U61,U63)=0),"",SUM(U13,U16,U21,U25:U31,U34:U36,U54,U58,U61,U63)) -> 4900025000 | V10: =IF((SUM(V13,V16,V21,V25:V31,V34:V36,V54,V58,V61,V63)=0),"0",SUM(V13,V16,V21,V25:V31,V34:V36,V54,V58,V61,V63)) -> 0 | W10: =IF((SUM(W13,W16,W21,W25:W31,W34:W36,W54,W58,W61,W63)=0),"",SUM(W13,W16,W21,W25:W31,W34:W36,W54,W58,W61,W63)) -> 4900025000 | X10: =IF((SUM(X13,X16,X21,X25:X31,X35:X36,X54,X58,X61,X63)=0),"",SUM(X13,X16,X21,X25:X31,X35:X36,X54,X58,X61,X63)) -> #VALUE!
B11: - finansowanie ze środków UE (§ xxx7) | C11: =IF((SUM(C23,C55,C59,C64)=0),"",SUM(C23,C55,C59,C64)) -> 2910000 | D11: =IF((SUM(D23,D55,D59,D64)=0),"",SUM(D23,D55,D59,D64)) | E11: =IF((SUM(E23,E55,E59,E64)=0),"",SUM(E23,E55,E59,E64)) -> 2910000 | F11: =IF((SUM(F23,F55,F59,F64)=0),"",SUM(F23,F55,F59,F64)) | G11: =IF((SUM(G23,G55,G59,G64)=0),"",SUM(G23,G55,G59,G64)) | H11: =IF((SUM(H23,H55,H59,H64)=0),"",SUM(H23,H55,H59,H64)) | I11: =IF((SUM(I23,I55,I59,I64)=0),"",SUM(I23,I55,I59,I64)) | J11: =IF((SUM(J23,J55,J59,J64)=0),"",SUM(J23,J55,J59,J64)) | ... U11: =IF((SUM(U23,U55,U59,U64)=0),"",SUM(U23,U55,U59,U64)) -> 11972000 | V11: =IF((SUM(V23,V55,V59,V64)=0),"0",SUM(V23,V55,V59,V64)) -> 0 | W11: =IF((SUM(W23,W55,W59,W64)=0),"",SUM(W23,W55,W59,W64)) -> 11972000 | X11: =IF((SUM(X23,X55,X59,X64)=0),"",SUM(X23,X55,X59,X64)) -> #VALUE!
B12: - współfinansowanie (§ xxx9) | C12: =IF((SUM(C24,C56,C60,C65)=0),"",SUM(C24,C56,C60,C65)) -> 90000 | D12: =IF((SUM(D24,D56,D60,D65)=0),"",SUM(D24,D56,D60,D65)) | E12: =IF((SUM(E24,E56,E60,E65)=0),"",SUM(E24,E56,E60,E65)) -> 90000 | F12: =IF((SUM(F24,F56,F60,F65)=0),"",SUM(F24,F56,F60,F65)) | G12: =IF((SUM(G24,G56,G60,G65)=0),"",SUM(G24,G56,G60,G65)) | H12: =IF((SUM(H24,H56,H60,H65)=0),"",SUM(H24,H56,H60,H65)) | I12: =IF((SUM(I24,I56,I60,I65)=0),"",SUM(I24,I56,I60,I65)) | J12: =IF((SUM(J24,J56,J60,J65)=0),"",SUM(J24,J56,J60,J65)) | ... U12: =IF((SUM(U24,U56,U60,U65)=0),"",SUM(U24,U56,U60,U65)) -> 1737000 | V12: =IF((SUM(V24,V56,V60,V65)=0),"0",SUM(V24,V56,V60,V65)) -> 0 | W12: =IF((SUM(W24,W56,W60,W65)=0),"",SUM(W24,W56,W60,W65)) -> 1737000 | X12: =IF((SUM(X24,X56,X60,X65)=0),"",SUM(X24,X56,X60,X65)) -> #VALUE!
A13: A) | B13: Samorządy wojewódzkie | R13: =IF((SUM(R14:R15)=0),"",SUM(R14:R15)) -> 146575000 | S13: =IF((SUM(S14:S15)=0),"",SUM(S14:S15)) | T13: =IF((SUM(T14:T15)=0),"",SUM(T14:T15)) -> 146575000 | U13: =IF((SUM(U14:U15)=0),"",SUM(U14:U15)) -> 146575000 | V13: =IF((SUM(V14:V15)=0),"0",SUM(V14:V15)) -> 0 | W13: =IF((SUM(W14:W15)=0),"",SUM(W14:W15)) -> 146575000 | X13: =IF((SUM(X14:X15)=0),"",(SUM(X14:X15))) -> #VALUE! | Y13: =IF((SUM(Y14:Y15)=0),"",(SUM(Y14:Y15))) | Z13: =IF((SUM(Z14:Z15)=0),"",(SUM(Z14:Z15))) | AA13: =IF((SUM(AA14:AA15)=0),"",(SUM(AA14:AA15)))
B14: - na realizację zadań | R14: =IF(('Pl 2016-20 PFC'!D344=0),"",'Pl 2016-20 PFC'!D344) -> 143000000 | S14: =IF(('Pl 2016-20 PFC'!E344=0),"",'Pl 2016-20 PFC'!E344) | T14: =IF(('Pl 2016-20 PFC'!F344=0),"",'Pl 2016-20 PFC'!F344) -> 143000000 | U14: =IF((SUM(C14,F14,I14,L14,O14,R14)=0),"",(SUM(C14,F14,I14,L14,O14,R14))) -> 143000000 | V14: =IF((SUM(D14,G14,J14,M14,P14,S14)=0),"0",(SUM(D14,G14,J14,M14,P14,S14))) -> 0 | W14: =IF((SUM(E14,H14,K14,N14,Q14,T14)=0),"",(SUM(E14,H14,K14,N14,Q14,T14))) -> 143000000 | X14: ="$#ODWOŁANIE$#ODWOŁANIE"/"$#ODWOŁANIE$#ODWOŁANIE"% -> #VALUE!
B15: - na pokrycie kosztów obsługi realizowanych zadań | R15: =IF(('Pl 2016-20 PFC'!D346=0),"",'Pl 2016-20 PFC'!D346) -> 3575000 | S15: =IF(('Pl 2016-20 PFC'!E346=0),"",'Pl 2016-20 PFC'!E346) | T15: =IF(('Pl 2016-20 PFC'!F346=0),"",'Pl 2016-20 PFC'!F346) -> 3575000 | U15: =IF((SUM(C15,F15,I15,L15,O15,R15)=0),"",(SUM(C15,F15,I15,L15,O15,R15))) -> 3575000 | V15: =IF((SUM(D15,G15,J15,M15,P15,S15)=0),"0",(SUM(D15,G15,J15,M15,P15,S15))) -> 0 | W15: =IF((SUM(E15,H15,K15,N15,Q15,T15)=0),"",(SUM(E15,H15,K15,N15,Q15,T15))) -> 3575000 | X15: ="$#ODWOŁANIE$#ODWOŁANIE"/"$#ODWOŁANIE$#ODWOŁANIE"% -> #VALUE!
A16: B) | B16: Samorządy powiatowe | R16: =IF((SUM(R17:R18)=0),"",SUM(R17:R18)) -> 783425000 | S16: =IF((SUM(S17:S18)=0),"",SUM(S17:S18)) | T16: =IF((SUM(T17:T18)=0),"",SUM(T17:T18)) -> 783425000 | U16: =IF((SUM(U17:U18)=0),"",SUM(U17:U18)) -> 783425000 | V16: =IF((SUM(V17:V18)=0),"0",SUM(V17:V18)) -> 0 | W16: =IF((SUM(W17:W18)=0),"",SUM(W17:W18)) -> 783425000 | X16: =IF((SUM(X17:X18)=0),"",(SUM(X17:X18))) -> #VALUE!
B17: - na realizację zadań | R17: =IF(('Pl 2016-20 PFC'!D348=0),"",'Pl 2016-20 PFC'!D348) -> 764317000 | S17: =IF(('Pl 2016-20 PFC'!E348=0),"",'Pl 2016-20 PFC'!E348) | T17: =IF(('Pl 2016-20 PFC'!F348=0),"",'Pl 2016-20 PFC'!F348) -> 764317000 | U17: =IF((SUM(C17,F17,I17,L17,O17,R17)=0),"",(SUM(C17,F17,I17,L17,O17,R17))) -> 764317000 | V17: =IF((SUM(D17,G17,J17,M17,P17,S17)=0),"0",(SUM(D17,G17,J17,M17,P17,S17))) -> 0 | W17: =IF((SUM(E17,H17,K17,N17,Q17,T17)=0),"",(SUM(E17,H17,K17,N17,Q17,T17))) -> 764317000 | X17: ="$#ODWOŁANIE$#ODWOŁANIE"/"$#ODWOŁANIE$#ODWOŁANIE"% -> #VALUE!
B18: - na pokrycie kosztów obsługi realizowanych zadań | R18: =IF(('Pl 2016-20 PFC'!D350=0),"",'Pl 2016-20 PFC'!D350) -> 19108000 | S18: =IF(('Pl 2016-20 PFC'!E350=0),"",'Pl 2016-20 PFC'!E350) | T18: =IF(('Pl 2016-20 PFC'!F350=0),"",'Pl 2016-20 PFC'!F350) -> 19108000 | U18: =IF((SUM(C18,F18,I18,L18,O18,R18)=0),"",(SUM(C18,F18,I18,L18,O18,R18))) -> 19108000 | V18: =IF((SUM(D18,G18,J18,M18,P18,S18)=0),"0",(SUM(D18,G18,J18,M18,P18,S18))) -> 0 | W18: =IF((SUM(E18,H18,K18,N18,Q18,T18)=0),"",(SUM(E18,H18,K18,N18,Q18,T18))) -> 19108000 | X18: ="$#ODWOŁANIE$#ODWOŁANIE"/"$#ODWOŁANIE$#ODWOŁANIE"% -> #VALUE!
A19: C) | B19: Biuro i Oddziały PFRON | C19: =IF((SUM(C20,C36)=0),"",SUM(C20,C36)) -> 139850000 | D19: =IF((SUM(D20,D36)=0),"",SUM(D20,D36)) | E19: =IF((SUM(E20,E36)=0),"",SUM(E20,E36)) -> 139850000 | F19: =IF((SUM(F20,F36)=0),"",SUM(F20,F36)) -> 3370224000 | G19: =IF((SUM(G20,G36)=0),"",SUM(G20,G36)) | H19: =IF((SUM(H20,H36)=0),"",SUM(H20,H36)) -> 3370224000 | I19: =IF((SUM(I20,I36)=0),"",SUM(I20,I36)) -> 2800000 | J19: =IF((SUM(J20,J36)=0),"",SUM(J20,J36)) | ... U19: =IF((SUM(U20,U36)=0),"",SUM(U20,U36)) -> 3603502000 | V19: =IF((SUM(V20,V36)=0),"0",SUM(V20,V36)) -> 0 | W19: =IF((SUM(W20,W36)=0),"",SUM(W20,W36)) -> 3603502000 | X19: =IF((SUM(X20,X36,"$#ODWOŁANIE$#ODWOŁANIE")=0),"",SUM(X20,X36,"$#ODWOŁANIE$#ODWOŁANIE")) -> #VALUE!
A20: C-1 | B20: Zadania ustawowe | C20: =IF((SUM(C21,C22,C25:C31,C35:C35)=0),"",SUM(C21,C22,C25:C31,C35:C35)) -> 63350000 | D20: =IF((SUM(D21,D22,D25:D31,D35:D35)=0),"",SUM(D21,D22,D25:D31,D35:D35)) | E20: =IF((SUM(E21,E22,E25:E31,E35:E35)=0),"",SUM(E21,E22,E25:E31,E35:E35)) -> 63350000 | F20: =IF((SUM(F21,F22,F25:F31,F35:F35)=0),"",SUM(F21,F22,F25:F31,F35:F35)) -> 3358924000 | G20: =IF((SUM(G21,G22,G25:G31,G35:G35)=0),"",SUM(G21,G22,G25:G31,G35:G35)) | H20: =IF((SUM(H21,H22,H25:H31,H35:H35)=0),"",SUM(H21,H22,H25:H31,H35:H35)) -> 3358924000 | I20: =IF((SUM(I21,I22,I25:I31,I34,I35:I35)=0),"",SUM(I21,I22,I34,I25:I31,I35:I35)) -> 2800000 | J20: =IF((SUM(J21,J22,J25:J31,J34,J35:J35)=0),"",SUM(J21,J22,J34,J25:J31,J35:J35)) | K20: =IF((SUM(K21,K22,K25:K31,K34,K35:K35)=0),"",SUM(K21,K22,K34,K25:K31,K35:K35)) -> 2800000 | L20: =IF((SUM(L21,L22,L25:L31,L35:L35)=0),"",SUM(L21,L22,L25:L31,L35:L35)) -> 46050000 | M20: =IF((SUM(M21,M22,M25:M31,M35:M35)=0),"",SUM(M21,M22,M25:M31,M35:M35)) | N20: =IF((SUM(N21,N22,N25:N31,N35:N35)=0),"",SUM(N21,N22,N25:N31,N35:N35)) -> 46050000 | O20: =IF((SUM(O21,O22,O25:O31,O35:O35)=0),"",SUM(O21,O22,O25:O31,O35:O35)) -> 4378000 | P20: =IF((SUM(P21,P22,P25:P31,P35:P35)=0),"",SUM(P21,P22,P25:P31,P35:P35)) | Q20: =IF((SUM(Q21,Q22,Q25:Q31,Q35:Q35)=0),"",SUM(Q21,Q22,Q25:Q31,Q35:Q35)) -> 4378000 | R20: =IF((SUM(R21,R22,R25:R31,R35:R35)=0),"",SUM(R21,R22,R25:R31,R35:R35)) | S20: =IF((SUM(S21,S22,S25:S31,S35:S35)=0),"",SUM(S21,S22,S25:S31,S35:S35)) | T20: =IF((SUM(T21,T22,T25:T31,T35:T35)=0),"",SUM(T21,T22,T25:T31,T35:T35)) | U20: =IF((SUM(U21,U22,U25:U31,U34:U35)=0),"",SUM(U21,U22,U25:U31,U34:U35)) -> 3475502000 | V20: =IF((SUM(V21,V22,V25:V31,V34:V35)=0),"0",SUM(V21,V22,V25:V31,V34:V35)) -> 0 | W20: =IF((SUM(W21,W22,W25:W31,W34:W35)=0),"",SUM(W21,W22,W25:W31,W34:W35)) -> 3475502000 | X20: =IF((SUM(X21,X22,"$#ODWOŁANIE$#ODWOŁANIE",X25:X31,X35:X35)=0),"",SUM(X21,X22,"$#ODWOŁANIE$#ODWOŁANIE",X25:X31,X35:X35)) -> #VALUE! | Y20: =IF((SUM(Y21,Y22,"$#ODWOŁANIE$#ODWOŁANIE",Y25:Y31,Y35:Y35)=0),"",SUM(Y21,Y22,"$#ODWOŁANIE$#ODWOŁANIE",Y25:Y31,Y35:Y35)) -> #VALUE! | Z20: =IF((SUM(Z21,Z22,"$#ODWOŁANIE$#ODWOŁANIE",Z25:Z31,Z35:Z35)=0),"",SUM(Z21,Z22,"$#ODWOŁANIE$#ODWOŁANIE",Z25:Z31,Z35:Z35)) -> #VALUE! | AA20: =IF((SUM(AA21,AA22,"$#ODWOŁANIE$#ODWOŁANIE",AA25:AA31,AA35:AA35)=0),"",SUM(AA21,AA22,"$#ODWOŁANIE$#ODWOŁANIE",AA25:AA31,AA35:AA35)) -> #VALUE!
A21: a) | B21: realizacja działań wyrównujących różnice między regionami art. 47 ust. 1 pkt 1 | C21: =IF(('Pl 2016-20 PFC'!D132=0),"",'Pl 2016-20 PFC'!D132) -> 2000000 | D21: =IF(('Pl 2016-20 PFC'!E132=0),"",'Pl 2016-20 PFC'!E132) | E21: =IF(('Pl 2016-20 PFC'!F132=0),"",'Pl 2016-20 PFC'!F132) -> 2000000 | F21: =IF(('Pl 2016-20 PFC'!D170=0),"",'Pl 2016-20 PFC'!D170) -> 1000000 | G21: =IF(('Pl 2016-20 PFC'!E170=0),"",'Pl 2016-20 PFC'!E170) | H21: =IF(('Pl 2016-20 PFC'!F170=0),"",'Pl 2016-20 PFC'!F170) -> 1000000 | L21: =IF(('Pl 2016-20 PFC'!D305=0),"",'Pl 2016-20 PFC'!D305) -> 45500000 | M21: =IF(('Pl 2016-20 PFC'!E305=0),"",'Pl 2016-20 PFC'!E305) | N21: =IF(('Pl 2016-20 PFC'!F305=0),"",'Pl 2016-20 PFC'!F305) -> 45500000 | O21: =IF(('Pl 2016-20 PFC'!D324=0),"",'Pl 2016-20 PFC'!D324) -> 1500000 | P21: =IF(('Pl 2016-20 PFC'!E324=0),"",'Pl 2016-20 PFC'!E324) | Q21: =IF(('Pl 2016-20 PFC'!F324=0),"",'Pl 2016-20 PFC'!F324) -> 1500000 | U21: =IF((SUM(C21,F21,I21,L21,O21,R21)=0),"",(SUM(C21,F21,I21,L21,O21,R21))) -> 50000000 | V21: =IF((SUM(D21,G21,J21,M21,P21,S21)=0),"0",(SUM(D21,G21,J21,M21,P21,S21))) -> 0 | W21: =IF((SUM(E21,H21,K21,N21,Q21,T21)=0),"",(SUM(E21,H21,K21,N21,Q21,T21))) -> 50000000 | X21: ="$#ODWOŁANIE$#ODWOŁANIE"/"$#ODWOŁANIE$#ODWOŁANIE"% -> #VALUE!
A22: b) | B22: realizacja programów wspieranych za środków pomocowych UE art. 47 ust. 1 pkt 2 | C22: =IF((SUM(C23:C24)=0),"",SUM(C23:C24)) -> 3000000 | D22: =IF((SUM(D23:D24)=0),"",SUM(D23:D24)) | E22: =IF((SUM(E23:E24)=0),"",SUM(E23:E24)) -> 3000000 | F22: =IF((SUM(F23:F24)=0),"",SUM(F23:F24)) | G22: =IF((SUM(G23:G24)=0),"",SUM(G23:G24)) | H22: =IF((SUM(H23:H24)=0),"",SUM(H23:H24)) | R22: =IF((SUM(R23:R24)=0),"",SUM(R23:R24)) | S22: =IF((SUM(S23:S24)=0),"",SUM(S23:S24)) | T22: =IF((SUM(T23:T24)=0),"",SUM(T23:T24)) | U22: =IF((SUM(C22,F22,I22,L22,O22,R22)=0),"",(SUM(C22,F22,I22,L22,O22,R22))) -> 3000000 | V22: =IF((SUM(D22,G22,J22,M22,P22,S22)=0),"0",(SUM(D22,G22,J22,M22,P22,S22))) -> 0 | W22: =IF((SUM(E22,H22,K22,N22,Q22,T22)=0),"",(SUM(E22,H22,K22,N22,Q22,T22))) -> 3000000 | X22: =SUM(X23:X24) -> #VALUE!
B23: - finansowanie ze środków UE (§ xxx7) | C23: =IF(('Pl 2016-20 PFC'!D215=0),"",'Pl 2016-20 PFC'!D215) -> 2910000 | D23: =IF(('Pl 2016-20 PFC'!E215=0),"",'Pl 2016-20 PFC'!E215) | E23: =IF(('Pl 2016-20 PFC'!F215=0),"",'Pl 2016-20 PFC'!F215) -> 2910000 | F23: =IF(('Pl 2016-20 PFC'!D216=0),"",'Pl 2016-20 PFC'!D216) | G23: =IF(('Pl 2016-20 PFC'!E216=0),"",'Pl 2016-20 PFC'!E216) | H23: =IF(('Pl 2016-20 PFC'!F216=0),"",'Pl 2016-20 PFC'!F216) | U23: =IF((SUM(C23,F23,I23,L23,O23,R23)=0),"",(SUM(C23,F23,I23,L23,O23,R23))) -> 2910000 | V23: =IF((SUM(D23,G23,J23,M23,P23,S23)=0),"",(SUM(D23,G23,J23,M23,P23,S23))) | W23: =IF((SUM(E23,H23,K23,N23,Q23,T23)=0),"",(SUM(E23,H23,K23,N23,Q23,T23))) -> 2910000 | X23: ="$#ODWOŁANIE$#ODWOŁANIE"/"$#ODWOŁANIE$#ODWOŁANIE"% -> #VALUE!
B24: - współfinansowanie (§ xxx9) | C24: =IF(('Pl 2016-20 PFC'!D131=0),"",'Pl 2016-20 PFC'!D131) -> 90000 | D24: =IF(('Pl 2016-20 PFC'!E131=0),"",'Pl 2016-20 PFC'!E131) | E24: =IF(('Pl 2016-20 PFC'!F131=0),"",'Pl 2016-20 PFC'!F131) -> 90000 | F24: =IF(('Pl 2016-20 PFC'!D169=0),"",'Pl 2016-20 PFC'!D169) | G24: =IF(('Pl 2016-20 PFC'!E169=0),"",'Pl 2016-20 PFC'!E169) | H24: =IF(('Pl 2016-20 PFC'!F169=0),"",'Pl 2016-20 PFC'!F169) | U24: =IF((SUM(C24,F24,I24,L24,O24,R24)=0),"",(SUM(C24,F24,I24,L24,O24,R24))) -> 90000 | V24: =IF((SUM(D24,G24,J24,M24,P24,S24)=0),"",(SUM(D24,G24,J24,M24,P24,S24))) | W24: =IF((SUM(E24,H24,K24,N24,Q24,T24)=0),"",(SUM(E24,H24,K24,N24,Q24,T24))) -> 90000 | X24: ="$#ODWOŁANIE$#ODWOŁANIE"/"$#ODWOŁANIE$#ODWOŁANIE"% -> #VALUE!
A25: d) | B25: dofinansowanie rekompensaty dla gmin art. 47 ust. 2 | C25: =IF(('Pl 2016-20 PFC'!D133=0),"",'Pl 2016-20 PFC'!D133) -> 57000000 | D25: =IF(('Pl 2016-20 PFC'!E133=0),"",'Pl 2016-20 PFC'!E133) | E25: =IF(('Pl 2016-20 PFC'!F133=0),"",'Pl 2016-20 PFC'!F133) -> 57000000 | U25: =IF((SUM(C25,F25,I25,L25,O25,R25)=0),"",(SUM(C25,F25,I25,L25,O25,R25))) -> 57000000 | V25: =IF((SUM(D25,G25,J25,M25,P25,S25)=0),"0",(SUM(D25,G25,J25,M25,P25,S25))) -> 0 | W25: =IF((SUM(E25,H25,K25,N25,Q25,T25)=0),"",(SUM(E25,H25,K25,N25,Q25,T25))) -> 57000000 | X25: ="$#ODWOŁANIE$#ODWOŁANIE"/"$#ODWOŁANIE$#ODWOŁANIE"% -> #VALUE!
A26: e) | B26: refundacja kosztów wydawania certyfikatów przez podmioty uprawnione do szkolenia psów asystujących art. 20b | F26: =IF(('Pl 2016-20 PFC'!D174=0),"",'Pl 2016-20 PFC'!D174) -> 15000 | G26: =IF(('Pl 2016-20 PFC'!E174=0),"",'Pl 2016-20 PFC'!E174) | H26: =IF(('Pl 2016-20 PFC'!F174=0),"",'Pl 2016-20 PFC'!F174) -> 15000 | U26: =IF((SUM(C26,F26,I26,L26,O26,R26)=0),"",(SUM(C26,F26,I26,L26,O26,R26))) -> 15000 | V26: =IF((SUM(D26,G26,J26,M26,P26,S26)=0),"0",(SUM(D26,G26,J26,M26,P26,S26))) -> 0 | W26: =IF((SUM(E26,H26,K26,N26,Q26,T26)=0),"",(SUM(E26,H26,K26,N26,Q26,T26))) -> 15000 | X26: ="$#ODWOŁANIE$#ODWOŁANIE"/"$#ODWOŁANIE$#ODWOŁANIE"% -> #VALUE!
A27: f) | B27: Refundacja składek na ubezpieczenia społeczne - art. 25a | F27: =IF(('Pl 2016-20 PFC'!D165=0),"",'Pl 2016-20 PFC'!D165) -> 103000000 | G27: =IF(('Pl 2016-20 PFC'!E165=0),"",'Pl 2016-20 PFC'!E165) | H27: =IF(('Pl 2016-20 PFC'!F165=0),"",'Pl 2016-20 PFC'!F165) -> 103000000 | U27: =IF((SUM(C27,F27,I27,L27,O27,R27)=0),"",(SUM(C27,F27,I27,L27,O27,R27))) -> 103000000 | V27: =IF((SUM(D27,G27,J27,M27,P27,S27)=0),"0",(SUM(D27,G27,J27,M27,P27,S27))) -> 0 | W27: =IF((SUM(E27,H27,K27,N27,Q27,T27)=0),"",(SUM(E27,H27,K27,N27,Q27,T27))) -> 103000000 | X27: ="$#ODWOŁANIE$#ODWOŁANIE"/"$#ODWOŁANIE$#ODWOŁANIE"% -> #VALUE!
A28: g) | B28: zadania zlecane art. 36 | C28: =IF(('Pl 2016-20 PFC'!D135=0),"",'Pl 2016-20 PFC'!D135) -> 50000 | D28: =IF(('Pl 2016-20 PFC'!E135=0),"",'Pl 2016-20 PFC'!E135) | E28: =IF(('Pl 2016-20 PFC'!F135=0),"",'Pl 2016-20 PFC'!F135) -> 50000 | F28: =IF(('Pl 2016-20 PFC'!D176=0),"",'Pl 2016-20 PFC'!D176) -> 244781000 | G28: =IF(('Pl 2016-20 PFC'!E176=0),"",'Pl 2016-20 PFC'!E176) | H28: =IF(('Pl 2016-20 PFC'!F176=0),"",'Pl 2016-20 PFC'!F176) -> 244781000 | L28: =IF(('Pl 2016-20 PFC'!D306=0),"",'Pl 2016-20 PFC'!D306) -> 450000 | M28: =IF(('Pl 2016-20 PFC'!E306=0),"",'Pl 2016-20 PFC'!E306) | N28: =IF(('Pl 2016-20 PFC'!F306=0),"",'Pl 2016-20 PFC'!F306) -> 450000 | O28: =IF(('Pl 2016-20 PFC'!D327=0),"",'Pl 2016-20 PFC'!D327) -> 1700000 | P28: =IF(('Pl 2016-20 PFC'!E327=0),"",'Pl 2016-20 PFC'!E327) | Q28: =IF(('Pl 2016-20 PFC'!F327=0),"",'Pl 2016-20 PFC'!F327) -> 1700000 | U28: =IF((SUM(C28,F28,I28,L28,O28,R28)=0),"",(SUM(C28,F28,I28,L28,O28,R28))) -> 246981000 | V28: =IF((SUM(D28,G28,J28,M28,P28,S28)=0),"0",(SUM(D28,G28,J28,M28,P28,S28))) -> 0 | W28: =IF((SUM(E28,H28,K28,N28,Q28,T28)=0),"",(SUM(E28,H28,K28,N28,Q28,T28))) -> 246981000 | X28: ="$#ODWOŁANIE$#ODWOŁANIE"/"$#ODWOŁANIE$#ODWOŁANIE"% -> #VALUE!
B29: Dofinansowanie do oprocentowania kredytów bankowych - art. 32 ust. 1 pkt 1 | F29: =IF(('Pl 2016-20 PFC'!D171=0),"",'Pl 2016-20 PFC'!D171) -> 2500000 | G29: =IF(('Pl 2016-20 PFC'!E171=0),"",'Pl 2016-20 PFC'!E171) | H29: =IF(('Pl 2016-20 PFC'!F171=0),"",'Pl 2016-20 PFC'!F171) -> 2500000 | U29: =IF((SUM(C29,F29,I29,L29,O29,R29)=0),"",(SUM(C29,F29,I29,L29,O29,R29))) -> 2500000 | V29: =IF((SUM(D29,G29,J29,M29,P29,S29)=0),"0",(SUM(D29,G29,J29,M29,P29,S29))) -> 0 | W29: =IF((SUM(E29,H29,K29,N29,Q29,T29)=0),"",(SUM(E29,H29,K29,N29,Q29,T29))) -> 2500000 | X29: ="$#ODWOŁANIE$#ODWOŁANIE"/"$#ODWOŁANIE$#ODWOŁANIE"% -> #VALUE!
A30: h) | B30: Zwrot kosztów budowy lub rozbudowy obiektów i pomieszczeń zakładu, transportowych i administracyjnych - art. 32 ust. 1 pkt 2 | F30: =IF(('Pl 2016-20 PFC'!D172=0),"",'Pl 2016-20 PFC'!D172) -> 6128000 | G30: =IF(('Pl 2016-20 PFC'!E172=0),"",'Pl 2016-20 PFC'!E172) | H30: =IF(('Pl 2016-20 PFC'!F172=0),"",'Pl 2016-20 PFC'!F172) -> 6128000 | O30: =IF(('Pl 2016-20 PFC'!D326=0),"",'Pl 2016-20 PFC'!D326) -> 1078000 | P30: =IF(('Pl 2016-20 PFC'!E326=0),"",'Pl 2016-20 PFC'!E326) | Q30: =IF(('Pl 2016-20 PFC'!F326=0),"",'Pl 2016-20 PFC'!F326) -> 1078000 | U30: =IF((SUM(C30,F30,I30,L30,O30,R30)=0),"",(SUM(C30,F30,I30,L30,O30,R30))) -> 7206000 | V30: =IF((SUM(D30,G30,J30,M30,P30,S30)=0),"0",(SUM(D30,G30,J30,M30,P30,S30))) -> 0 | W30: =IF((SUM(E30,H30,K30,N30,Q30,T30)=0),"",(SUM(E30,H30,K30,N30,Q30,T30))) -> 7206000 | X30: ="$#ODWOŁANIE$#ODWOŁANIE"/"$#ODWOŁANIE$#ODWOŁANIE"% -> #VALUE!
A31: i) | B31: dofinansowanie do wynagrodzeń pracowników niepełnosprawnych art. 26a | F31: =IF(('Pl 2016-20 PFC'!D173=0),"",'Pl 2016-20 PFC'!D173) -> 3000000000 | G31: =IF(('Pl 2016-20 PFC'!E173=0),"",'Pl 2016-20 PFC'!E173) | H31: =IF(('Pl 2016-20 PFC'!F173=0),"",'Pl 2016-20 PFC'!F173) -> 3000000000 | R31: =IF((SUM(R32:R33)=0),"",SUM(R32:R33)) | S31: =IF((SUM(S32:S33)=0),"",SUM(S32:S33)) | T31: =IF((SUM(T32:T33)=0),"",SUM(T32:T33)) | U31: =IF((SUM(C31,F31,I31,L31,O31,R31)=0),"",(SUM(C31,F31,I31,L31,O31,R31))) -> 3000000000 | V31: =IF((SUM(D31,G31,J31,M31,P31,S31)=0),"0",(SUM(D31,G31,J31,M31,P31,S31))) -> 0 | W31: =IF((SUM(E31,H31,K31,N31,Q31,T31)=0),"",(SUM(E31,H31,K31,N31,Q31,T31))) -> 3000000000 | X31: ="$#ODWOŁANIE$#ODWOŁANIE"/"$#ODWOŁANIE$#ODWOŁANIE"% -> #VALUE!
B32: - dotacja budżetowa | F32: =IF(('Pl 2016-20 PFC'!E96=0),"",'Pl 2016-20 PFC'!E96) | G32: =IF(('Pl 2016-20 PFC'!F96=0),"",'Pl 2016-20 PFC'!F96) -> 716860000 | H32: =IF(('Pl 2016-20 PFC'!#REF!=0),"",'Pl 2016-20 PFC'!#REF!) -> #REF! | U32: =IF((SUM(C32,F32,I32,L32,O32,R32)=0),"",(SUM(C32,F32,I32,L32,O32,R32))) | V32: =IF((SUM(D32,G32,J32,M32,P32,S32)=0),"",(SUM(D32,G32,J32,M32,P32,S32))) -> 716860000 | W32: =IF((SUM(E32,H32,K32,N32,Q32,T32)=0),"",(SUM(E32,H32,K32,N32,Q32,T32))) -> #REF! | X32: ="$#ODWOŁANIE$#ODWOŁANIE"/"$#ODWOŁANIE$#ODWOŁANIE"% -> #VALUE!
B33: - środki własne | F33: =IF((F31-F32=0),"",F31-F32) -> #VALUE! | G33: =IF((G31-G32=0),"",G31-G32) -> #VALUE! | H33: =IF((H31-H32=0),"",H31-H32) -> #REF! | U33: =IF((SUM(C33,F33,I33,L33,O33,R33)=0),"",(SUM(C33,F33,I33,L33,O33,R33))) -> #VALUE! | V33: =IF((SUM(D33,G33,J33,M33,P33,S33)=0),"",(SUM(D33,G33,J33,M33,P33,S33))) -> #VALUE! | W33: =IF((SUM(E33,H33,K33,N33,Q33,T33)=0),"",(SUM(E33,H33,K33,N33,Q33,T33))) -> #REF! | X33: ="$#ODWOŁANIE$#ODWOŁANIE"/"$#ODWOŁANIE$#ODWOŁANIE"% -> #VALUE!
B34: Dofinansowanie kosztów szkolenia, o których mowa w art. 18 ustawy o języku migowym i innych środkach komunikowania się - art. 47 ust 1 pkt. 5 lit. b | I34: =IF(('Pl 2016-20 PFC'!D196=0),"",'Pl 2016-20 PFC'!D196) -> 2800000 | J34: =IF(('Pl 2016-20 PFC'!E196=0),"",'Pl 2016-20 PFC'!E196) | K34: =IF(('Pl 2016-20 PFC'!F196=0),"",'Pl 2016-20 PFC'!F196) -> 2800000 | U34: =IF((SUM(C34,F34,I34,L34,O34,R34)=0),"",(SUM(C34,F34,I34,L34,O34,R34))) -> 2800000 | V34: =IF((SUM(D34,G34,J34,M34,P34,S34)=0),"0",(SUM(D34,G34,J34,M34,P34,S34))) -> 0 | W34: =IF((SUM(E34,H34,K34,N34,Q34,T34)=0),"",(SUM(E34,H34,K34,N34,Q34,T34))) -> 2800000 | X34: ="$#ODWOŁANIE$#ODWOŁANIE"/"$#ODWOŁANIE$#ODWOŁANIE"% -> #VALUE!
A35: j) | B35: dofinansowanie badań, ekspertyz, analiz art. 47 ust. 1 pkt 5 lit.a | C35: =IF(('Pl 2016-20 PFC'!D134=0),"",'Pl 2016-20 PFC'!D134) -> 1300000 | D35: =IF(('Pl 2016-20 PFC'!E134=0),"",'Pl 2016-20 PFC'!E134) | E35: =IF(('Pl 2016-20 PFC'!F134=0),"",'Pl 2016-20 PFC'!F134) -> 1300000 | F35: =IF(('Pl 2016-20 PFC'!D175=0),"",'Pl 2016-20 PFC'!D175) -> 1500000 | G35: =IF(('Pl 2016-20 PFC'!E175=0),"",'Pl 2016-20 PFC'!E175) | H35: =IF(('Pl 2016-20 PFC'!F175=0),"",'Pl 2016-20 PFC'!F175) -> 1500000 | I35: =IF(('Pl 2016-20 PFC'!M134=0),"",'Pl 2016-20 PFC'!M134) | J35: =IF(('Pl 2016-20 PFC'!N134=0),"",'Pl 2016-20 PFC'!N134) | K35: =IF(('Pl 2016-20 PFC'!O134=0),"",'Pl 2016-20 PFC'!O134) | L35: =IF(('Pl 2016-20 PFC'!D307=0),"",'Pl 2016-20 PFC'!D307) -> 100000 | M35: =IF(('Pl 2016-20 PFC'!E307=0),"",'Pl 2016-20 PFC'!E307) | N35: =IF(('Pl 2016-20 PFC'!F307=0),"",'Pl 2016-20 PFC'!F307) -> 100000 | O35: =IF(('Pl 2016-20 PFC'!D325=0),"",'Pl 2016-20 PFC'!D325) -> 100000 | P35: =IF(('Pl 2016-20 PFC'!E325=0),"",'Pl 2016-20 PFC'!E325) | Q35: =IF(('Pl 2016-20 PFC'!F325=0),"",'Pl 2016-20 PFC'!F325) -> 100000 | U35: =IF((SUM(C35,F35,I35,L35,O35,R35)=0),"",(SUM(C35,F35,I35,L35,O35,R35))) -> 3000000 | V35: =IF((SUM(D35,G35,J35,M35,P35,S35)=0),"0",(SUM(D35,G35,J35,M35,P35,S35))) -> 0 | W35: =IF((SUM(E35,H35,K35,N35,Q35,T35)=0),"",(SUM(E35,H35,K35,N35,Q35,T35))) -> 3000000 | X35: ="$#ODWOŁANIE$#ODWOŁANIE"/"$#ODWOŁANIE$#ODWOŁANIE"% -> #VALUE!
A36: C-2 | B36: Programy służące rehabilitacji społecznej i zawodowej art. 47 ust. 1 pkt 4 | C36: =IF((SUM(C37:C52)=0),"",SUM(C37:C52)) -> 76500000 | D36: =IF((SUM(D37:D52)=0),"",SUM(D37:D52)) | E36: =IF((SUM(E37:E52)=0),"",SUM(E37:E52)) -> 76500000 | F36: =IF((SUM(F37:F52)=0),"",SUM(F37:F52)) -> 11300000 | G36: =IF((SUM(G37:G52)=0),"",SUM(G37:G52)) | H36: =IF((SUM(H37:H52)=0),"",SUM(H37:H52)) -> 11300000 | I36: =IF((SUM(I37:I52)=0),"",SUM(I37:I52)) | J36: =IF((SUM(J37:J52)=0),"",SUM(J37:J52)) | ... T36: =IF((SUM(T37:T52)=0),"",SUM(T37:T52)) | U36: =IF((SUM(C36,F36,I36,L36,O36,R36)=0),"",(SUM(C36,F36,I36,L36,O36,R36))) -> 128000000 | V36: =IF((SUM(D36,G36,J36,M36,P36,S36)=0),"0",(SUM(D36,G36,J36,M36,P36,S36))) -> 0 | W36: =IF((SUM(E36,H36,K36,N36,Q36,T36)=0),"",(SUM(E36,H36,K36,N36,Q36,T36))) -> 128000000 | X36: =IF((SUM(X37:X52)=0),"",SUM(X37:X52)) -> #VALUE!
A37: a) | B37: "Junior" | C37: =IF(('Pl 2016-20 PFC'!D138=0),"",'Pl 2016-20 PFC'!D138) | D37: =IF(('Pl 2016-20 PFC'!E138=0),"",'Pl 2016-20 PFC'!E138) | E37: =IF(('Pl 2016-20 PFC'!F138=0),"",'Pl 2016-20 PFC'!F138) | U37: =IF((SUM(C37,F37,I37,L37,O37,R37)=0),"",(SUM(C37,F37,I37,L37,O37,R37))) | V37: =IF((SUM(D37,G37,J37,M37,P37,S37)=0),"",(SUM(D37,G37,J37,M37,P37,S37))) | W37: =IF((SUM(E37,H37,K37,N37,Q37,T37)=0),"",(SUM(E37,H37,K37,N37,Q37,T37))) | X37: ="$#ODWOŁANIE$#ODWOŁANIE"/"$#ODWOŁANIE$#ODWOŁANIE"% -> #VALUE!
A38: c) | B38: "Komputer dla Homera 2010" | I38: =IF(('Pl 2016-20 PFC'!D200=0),"",'Pl 2016-20 PFC'!D200) | J38: =IF(('Pl 2016-20 PFC'!E200=0),"",'Pl 2016-20 PFC'!E200) | K38: =IF(('Pl 2016-20 PFC'!F200=0),"",'Pl 2016-20 PFC'!F200) | U38: =IF((SUM(C38,F38,I38,L38,O38,R38)=0),"",(SUM(C38,F38,I38,L38,O38,R38))) | V38: =IF((SUM(D38,G38,J38,M38,P38,S38)=0),"",(SUM(D38,G38,J38,M38,P38,S38))) | W38: =IF((SUM(E38,H38,K38,N38,Q38,T38)=0),"",(SUM(E38,H38,K38,N38,Q38,T38))) | X38: ="$#ODWOŁANIE$#ODWOŁANIE"/"$#ODWOŁANIE$#ODWOŁANIE"% -> #VALUE!
A39: d) | B39: "Student II" | I39: =IF(('Pl 2016-20 PFC'!D201=0),"",'Pl 2016-20 PFC'!D201) | J39: =IF(('Pl 2016-20 PFC'!E201=0),"",'Pl 2016-20 PFC'!E201) | K39: =IF(('Pl 2016-20 PFC'!F201=0),"",'Pl 2016-20 PFC'!F201) | U39: =IF((SUM(C39,F39,I39,L39,O39,R39)=0),"",(SUM(C39,F39,I39,L39,O39,R39))) | V39: =IF((SUM(D39,G39,J39,M39,P39,S39)=0),"",(SUM(D39,G39,J39,M39,P39,S39))) | W39: =IF((SUM(E39,H39,K39,N39,Q39,T39)=0),"",(SUM(E39,H39,K39,N39,Q39,T39))) | X39: ="$#ODWOŁANIE$#ODWOŁANIE"/"$#ODWOŁANIE$#ODWOŁANIE"% -> #VALUE!
A40: e) | B40: "Pegaz 2003" | C40: =IF(('Pl 2016-20 PFC'!D149=0),"",'Pl 2016-20 PFC'!D149) | D40: =IF(('Pl 2016-20 PFC'!E149=0),"",'Pl 2016-20 PFC'!E149) | E40: =IF(('Pl 2016-20 PFC'!F149=0),"",'Pl 2016-20 PFC'!F149) | U40: =IF((SUM(C40,F40,I40,L40,O40,R40)=0),"",(SUM(C40,F40,I40,L40,O40,R40))) | V40: =IF((SUM(D40,G40,J40,M40,P40,S40)=0),"",(SUM(D40,G40,J40,M40,P40,S40))) | W40: =IF((SUM(E40,H40,K40,N40,Q40,T40)=0),"",(SUM(E40,H40,K40,N40,Q40,T40))) | X40: ="$#ODWOŁANIE$#ODWOŁANIE"/"$#ODWOŁANIE$#ODWOŁANIE"% -> #VALUE!
B41: "Pegaz 2010" | I41: =IF(('Pl 2016-20 PFC'!D202=0),"",'Pl 2016-20 PFC'!D202) | J41: =IF(('Pl 2016-20 PFC'!E202=0),"",'Pl 2016-20 PFC'!E202) | K41: =IF(('Pl 2016-20 PFC'!F202=0),"",'Pl 2016-20 PFC'!F202) | U41: =IF((SUM(C41,F41,I41,L41,O41,R41)=0),"",(SUM(C41,F41,I41,L41,O41,R41))) | V41: =IF((SUM(D41,G41,J41,M41,P41,S41)=0),"",(SUM(D41,G41,J41,M41,P41,S41))) | W41: =IF((SUM(E41,H41,K41,N41,Q41,T41)=0),"",(SUM(E41,H41,K41,N41,Q41,T41))) | X41: ="$#ODWOŁANIE$#ODWOŁANIE"/"$#ODWOŁANIE$#ODWOŁANIE"% -> #VALUE!
A42: g) | B42: "Pitagoras 2007" | C42: =IF(('Pl 2016-20 PFC'!D137=0),"",'Pl 2016-20 PFC'!D137) | D42: =IF(('Pl 2016-20 PFC'!E137=0),"",'Pl 2016-20 PFC'!E137) | E42: =IF(('Pl 2016-20 PFC'!F137=0),"",'Pl 2016-20 PFC'!F137) | F42: =IF(('Pl 2016-20 PFC'!D179=0),"",'Pl 2016-20 PFC'!D179) | G42: =IF(('Pl 2016-20 PFC'!E179=0),"",'Pl 2016-20 PFC'!E179) | H42: =IF(('Pl 2016-20 PFC'!F179=0),"",'Pl 2016-20 PFC'!F179) | U42: =IF((SUM(C42,F42,I42,L42,O42,R42)=0),"",(SUM(C42,F42,I42,L42,O42,R42))) | V42: =IF((SUM(D42,G42,J42,M42,P42,S42)=0),"",(SUM(D42,G42,J42,M42,P42,S42))) | W42: =IF((SUM(E42,H42,K42,N42,Q42,T42)=0),"",(SUM(E42,H42,K42,N42,Q42,T42))) | X42: ="$#ODWOŁANIE$#ODWOŁANIE"/"$#ODWOŁANIE$#ODWOŁANIE"% -> #VALUE!
A43: m) | B43: "Aktywny Samorząd" | C43: =IF(('Pl 2016-20 PFC'!D153=0),"",'Pl 2016-20 PFC'!D153) -> 64980000 | D43: =IF(('Pl 2016-20 PFC'!E153=0),"",'Pl 2016-20 PFC'!E153) | E43: =IF(('Pl 2016-20 PFC'!F153=0),"",'Pl 2016-20 PFC'!F153) -> 64980000 | L43: =IF(('Pl 2016-20 PFC'!D319=0),"",'Pl 2016-20 PFC'!D319) -> 35800000 | M43: =IF(('Pl 2016-20 PFC'!E319=0),"",'Pl 2016-20 PFC'!E319) | N43: =IF(('Pl 2016-20 PFC'!F319=0),"",'Pl 2016-20 PFC'!F319) -> 35800000 | U43: =IF((SUM(C43,F43,I43,L43,O43,R43)=0),"0",(SUM(C43,F43,I43,L43,O43,R43))) -> 100780000 | V43: =IF((SUM(D43,G43,J43,M43,P43,S43)=0),"0",(SUM(D43,G43,J43,M43,P43,S43))) -> 0 | W43: =IF((SUM(E43,H43,K43,N43,Q43,T43)=0),"0",(SUM(E43,H43,K43,N43,Q43,T43))) -> 100780000 | X43: ="$#ODWOŁANIE$#ODWOŁANIE"/"$#ODWOŁANIE$#ODWOŁANIE"% -> #VALUE!
A44: o) | B44: "Wsparcie Inicjatyw" | C44: =IF(('Pl 2016-20 PFC'!D152=0),"",'Pl 2016-20 PFC'!D152) -> 520000 | D44: =IF(('Pl 2016-20 PFC'!E152=0),"",'Pl 2016-20 PFC'!E152) | E44: =IF(('Pl 2016-20 PFC'!F152=0),"",'Pl 2016-20 PFC'!F152) -> 520000 | F44: =IF(('Pl 2016-20 PFC'!D182=0),"",'Pl 2016-20 PFC'!D182) | G44: =IF(('Pl 2016-20 PFC'!E182=0),"",'Pl 2016-20 PFC'!E182) | H44: =IF(('Pl 2016-20 PFC'!F182=0),"",'Pl 2016-20 PFC'!F182) | I44: =IF(('Pl 2016-20 PFC'!D203=0),"",'Pl 2016-20 PFC'!D203) | J44: =IF(('Pl 2016-20 PFC'!E203=0),"",'Pl 2016-20 PFC'!E203) | K44: =IF(('Pl 2016-20 PFC'!F203=0),"",'Pl 2016-20 PFC'!F203) | U44: =IF((SUM(C44,F44,I44,L44,O44,R44)=0),"0",(SUM(C44,F44,I44,L44,O44,R44))) -> 520000 | V44: =IF((SUM(D44,G44,J44,M44,P44,S44)=0),"0",(SUM(D44,G44,J44,M44,P44,S44))) -> 0 | W44: =IF((SUM(E44,H44,K44,N44,Q44,T44)=0),"0",(SUM(E44,H44,K44,N44,Q44,T44))) -> 520000 | X44: ="$#ODWOŁANIE$#ODWOŁANIE"/"$#ODWOŁANIE$#ODWOŁANIE"% -> #VALUE!
A45: r) | B45: ='Pl 2016-20 PFC'!B316 -> Program Wsparcia Centrów Sportu Niepełnosprawnych | C45: =IF(('Pl 2016-20 PFC'!D155=0),"",'Pl 2016-20 PFC'!D155) | D45: =IF(('Pl 2016-20 PFC'!E155=0),"",'Pl 2016-20 PFC'!E155) | E45: =IF(('Pl 2016-20 PFC'!F155=0),"",'Pl 2016-20 PFC'!F155) | F45: =IF(('Pl 2016-20 PFC'!D186=0),"",'Pl 2016-20 PFC'!D186) | G45: =IF(('Pl 2016-20 PFC'!E186=0),"",'Pl 2016-20 PFC'!E186) | H45: =IF(('Pl 2016-20 PFC'!F186=0),"",'Pl 2016-20 PFC'!F186) | L45: =IF(('Pl 2016-20 PFC'!D316=0),"",'Pl 2016-20 PFC'!D316) | M45: =IF(('Pl 2016-20 PFC'!E316=0),"",'Pl 2016-20 PFC'!E316) | N45: =IF(('Pl 2016-20 PFC'!F316=0),"",'Pl 2016-20 PFC'!F316) | O45: =IF(('Pl 2016-20 PFC'!D337=0),"",'Pl 2016-20 PFC'!D337) | P45: =IF(('Pl 2016-20 PFC'!E337=0),"",'Pl 2016-20 PFC'!E337) | Q45: =IF(('Pl 2016-20 PFC'!F337=0),"",'Pl 2016-20 PFC'!F337) | U45: =IF((SUM(C45,F45,I45,L45,O45,R45)=0),"0",(SUM(C45,F45,I45,L45,O45,R45))) -> 0 | V45: =IF((SUM(D45,G45,J45,M45,P45,S45)=0),"0",(SUM(D45,G45,J45,M45,P45,S45))) -> 0 | W45: =IF((SUM(E45,H45,K45,N45,Q45,T45)=0),"0",(SUM(E45,H45,K45,N45,Q45,T45))) -> 0 | X45: ="$#ODWOŁANIE$#ODWOŁANIE"/"$#ODWOŁANIE$#ODWOŁANIE"% -> #VALUE!
B46: ='Pl 2016-20 PFC'!B188 -> Program podnoszenia świadomości społecznej językiem filmowym - Głęboka Woda III | F46: =IF(('Pl 2016-20 PFC'!D188=0),"",'Pl 2016-20 PFC'!D188) | G46: =IF(('Pl 2016-20 PFC'!E188=0),"",'Pl 2016-20 PFC'!E188) | H46: =IF(('Pl 2016-20 PFC'!F188=0),"",'Pl 2016-20 PFC'!F188) | U46: =IF((SUM(C46,F46,I46,L46,O46,R46)=0),"0",(SUM(C46,F46,I46,L46,O46,R46))) -> 0 | V46: =IF((SUM(D46,G46,J46,M46,P46,S46)=0),"0",(SUM(D46,G46,J46,M46,P46,S46))) -> 0 | W46: =IF((SUM(E46,H46,K46,N46,Q46,T46)=0),"0",(SUM(E46,H46,K46,N46,Q46,T46))) -> 0 | X46: ="$#ODWOŁANIE$#ODWOŁANIE"/"$#ODWOŁANIE$#ODWOŁANIE"% -> #VALUE!
B47: Program Wsparcia Międzynarodowych Imprez Sportowych dla Osób Niepełnosprawnych organizowanych na terenie Polski | F47: =IF(('Pl 2016-20 PFC'!D187=0),"",'Pl 2016-20 PFC'!D187) -> 1300000 | G47: =IF(('Pl 2016-20 PFC'!E187=0),"",'Pl 2016-20 PFC'!E187) | H47: =IF(('Pl 2016-20 PFC'!F187=0),"",'Pl 2016-20 PFC'!F187) -> 1300000 | I47: =IF(('Pl 2016-20 PFC'!D206=0),"",'Pl 2016-20 PFC'!D206) | J47: =IF(('Pl 2016-20 PFC'!E206=0),"",'Pl 2016-20 PFC'!E206) | K47: =IF(('Pl 2016-20 PFC'!F206=0),"",'Pl 2016-20 PFC'!F206) | O47: =IF(('Pl 2016-20 PFC'!D340=0),"",'Pl 2016-20 PFC'!D340) | P47: =IF(('Pl 2016-20 PFC'!E340=0),"",'Pl 2016-20 PFC'!E340) | Q47: =IF(('Pl 2016-20 PFC'!F340=0),"",'Pl 2016-20 PFC'!F340) | U47: =IF((SUM(C47,F47,I47,L47,O47,R47)=0),"",(SUM(C47,F47,I47,L47,O47,R47))) -> 1300000 | V47: =IF((SUM(D47,G47,J47,M47,P47,S47)=0),"0",(SUM(D47,G47,J47,M47,P47,S47))) -> 0 | W47: =IF((SUM(E47,H47,K47,N47,Q47,T47)=0),"",(SUM(E47,H47,K47,N47,Q47,T47))) -> 1300000 | X47: ="$#ODWOŁANIE$#ODWOŁANIE"/"$#ODWOŁANIE$#ODWOŁANIE"% -> #VALUE!
B48: "Partnerstwo dla osób z niepełnosprawnościami" - program współpracy z Zarządami Województw w celu wpółfinansowania projektów organizacji pozarządowych wyłonionych przez Zarządy Województw w ramach Regionalnych Programów Operacyjnych | C48: =IF(('Pl 2016-20 PFC'!D156=0),"",'Pl 2016-20 PFC'!D156) -> 1000000 | D48: =IF(('Pl 2016-20 PFC'!E156=0),"",'Pl 2016-20 PFC'!E156) | E48: =IF(('Pl 2016-20 PFC'!F156=0),"",'Pl 2016-20 PFC'!F156) -> 1000000 | U48: =IF((SUM(C48,F48,I48,L48,O48,R48)=0),"",(SUM(C48,F48,I48,L48,O48,R48))) -> 1000000 | V48: =IF((SUM(D48,G48,J48,M48,P48,S48)=0),"0",(SUM(D48,G48,J48,M48,P48,S48))) -> 0 | W48: =IF((SUM(E48,H48,K48,N48,Q48,T48)=0),"",(SUM(E48,H48,K48,N48,Q48,T48))) -> 1000000
B49: ='Pl 2016-20 PFC'!B157 -> STABILNE ZATRUDNIENIE - osoby niepełnosprawne w administracji i słuzbie publicznej | C49: =IF(('Pl 2016-20 PFC'!D157=0),"",'Pl 2016-20 PFC'!D157) -> 2500000 | D49: =IF(('Pl 2016-20 PFC'!E157=0),"",'Pl 2016-20 PFC'!E157) | E49: =IF(('Pl 2016-20 PFC'!F157=0),"",'Pl 2016-20 PFC'!F157) -> 2500000 | L49: =IF(('Pl 2016-20 PFC'!D317=0),"",'Pl 2016-20 PFC'!D317) -> 2500000 | M49: ='Pl 2016-20 PFC'!E317 -> 0 | N49: ='Pl 2016-20 PFC'!F317 -> 2500000 | U49: =IF((SUM(C49,F49,I49,L49,O49,R49)=0),"",(SUM(C49,F49,I49,L49,O49,R49))) -> 5000000 | V49: =IF((SUM(D49,G49,J49,M49,P49,S49)=0),"0",(SUM(D49,G49,J49,M49,P49,S49))) -> 0 | W49: =IF((SUM(E49,H49,K49,N49,Q49,T49)=0),"",(SUM(E49,H49,K49,N49,Q49,T49))) -> 5000000
B50: ='Pl 2016-20 PFC'!B158 -> ABSOLWENT | C50: =IF(('Pl 2016-20 PFC'!D158=0),"",'Pl 2016-20 PFC'!D158) -> 4100000 | D50: =IF(('Pl 2016-20 PFC'!E158=0),"",'Pl 2016-20 PFC'!E158) | E50: =IF(('Pl 2016-20 PFC'!F158=0),"",'Pl 2016-20 PFC'!F158) -> 4100000 | F50: =IF(('Pl 2016-20 PFC'!D189=0),"",'Pl 2016-20 PFC'!D189) -> 4100000 | G50: =IF(('Pl 2016-20 PFC'!E189=0),"",'Pl 2016-20 PFC'!E189) | H50: =IF(('Pl 2016-20 PFC'!F189=0),"",'Pl 2016-20 PFC'!F189) -> 4100000 | L50: =IF(('Pl 2016-20 PFC'!D318=0),"",'Pl 2016-20 PFC'!D318) -> 1700000 | M50: ='Pl 2016-20 PFC'!E318 -> 0 | N50: ='Pl 2016-20 PFC'!F318 -> 1700000 | O50: =IF(('Pl 2016-20 PFC'!D338=0),"",'Pl 2016-20 PFC'!D338) -> 100000 | P50: =IF(('Pl 2016-20 PFC'!E338=0),"",'Pl 2016-20 PFC'!E338) | Q50: =IF(('Pl 2016-20 PFC'!F338=0),"",'Pl 2016-20 PFC'!F338) -> 100000 | U50: =IF((SUM(C50,F50,I50,L50,O50,R50)=0),"",(SUM(C50,F50,I50,L50,O50,R50))) -> 10000000 | V50: =IF((SUM(D50,G50,J50,M50,P50,S50)=0),"0",(SUM(D50,G50,J50,M50,P50,S50))) -> 0 | W50: =IF((SUM(E50,H50,K50,N50,Q50,T50)=0),"",(SUM(E50,H50,K50,N50,Q50,T50))) -> 10000000
B51: ='Pl 2016-20 PFC'!B159 -> "PRACA - INTEGRACJA" | C51: =IF(('Pl 2016-20 PFC'!D159=0),"",'Pl 2016-20 PFC'!D159) -> 100000 | D51: =IF(('Pl 2016-20 PFC'!E159=0),"",'Pl 2016-20 PFC'!E159) | E51: =IF(('Pl 2016-20 PFC'!F159=0),"",'Pl 2016-20 PFC'!F159) -> 100000 | F51: =IF(('Pl 2016-20 PFC'!D190=0),"",'Pl 2016-20 PFC'!D190) -> 4800000 | G51: =IF(('Pl 2016-20 PFC'!E190=0),"",'Pl 2016-20 PFC'!E190) | H51: =IF(('Pl 2016-20 PFC'!F190=0),"",'Pl 2016-20 PFC'!F190) -> 4800000 | O51: =IF(('Pl 2016-20 PFC'!D339=0),"",'Pl 2016-20 PFC'!D339) -> 100000 | P51: =IF(('Pl 2016-20 PFC'!E339=0),"",'Pl 2016-20 PFC'!E339) | Q51: =IF(('Pl 2016-20 PFC'!F339=0),"",'Pl 2016-20 PFC'!F339) -> 100000 | U51: =IF((SUM(C51,F51,I51,L51,O51,R51)=0),"",(SUM(C51,F51,I51,L51,O51,R51))) -> 5000000 | V51: =IF((SUM(D51,G51,J51,M51,P51,S51)=0),"0",(SUM(D51,G51,J51,M51,P51,S51))) -> 0 | W51: =IF((SUM(E51,H51,K51,N51,Q51,T51)=0),"",(SUM(E51,H51,K51,N51,Q51,T51))) -> 5000000
A52: q) | B52: Inne programy | C52: =IF(('Pl 2016-20 PFC'!D160=0),"",'Pl 2016-20 PFC'!D160) -> 3300000 | D52: =IF(('Pl 2016-20 PFC'!E160=0),"",'Pl 2016-20 PFC'!E160) | E52: =IF(('Pl 2016-20 PFC'!F160=0),"",'Pl 2016-20 PFC'!F160) -> 3300000 | F52: =IF(('Pl 2016-20 PFC'!D191=0),"",'Pl 2016-20 PFC'!D191) -> 1100000 | G52: =IF(('Pl 2016-20 PFC'!E191=0),"",'Pl 2016-20 PFC'!E191) | H52: =IF(('Pl 2016-20 PFC'!F191=0),"",'Pl 2016-20 PFC'!F191) -> 1100000 | L52: =IF(('Pl 2016-20 PFC'!D320=0),"",'Pl 2016-20 PFC'!D320) | M52: =IF(('Pl 2016-20 PFC'!E320=0),"",'Pl 2016-20 PFC'!E320) | N52: =IF(('Pl 2016-20 PFC'!F320=0),"",'Pl 2016-20 PFC'!F320) | U52: =IF((SUM(C52,F52,I52,L52,O52,R52)=0),"",(SUM(C52,F52,I52,L52,O52,R52))) -> 4400000 | V52: =IF((SUM(D52,G52,J52,M52,P52,S52)=0),"0",(SUM(D52,G52,J52,M52,P52,S52))) -> 0 | W52: =IF((SUM(E52,H52,K52,N52,Q52,T52)=0),"",(SUM(E52,H52,K52,N52,Q52,T52))) -> 4400000 | X52: ="$#ODWOŁANIE$#ODWOŁANIE"/"$#ODWOŁANIE$#ODWOŁANIE"% -> #VALUE!
A53: 1. | B53: Wydatki osobowe nie zaliczane do wynagrodzeń §302 | I53: =I54 -> 3831000 | J53: =J54 | K53: =K54 -> 3831000 | U53: =IF((SUM(U54:U56)=0),"",SUM(U54:U56)) -> 3831000 | V53: =IF((SUM(V54:V56)=0),"",SUM(V54:V56)) | W53: =IF((SUM(W54:W56)=0),"",SUM(W54:W56)) -> 3831000 | X53: ="$#ODWOŁANIE$#ODWOŁANIE"/"$#ODWOŁANIE$#ODWOŁANIE"% -> #VALUE!
B54: - środki na zadania ustawowe (§ xxx0) | I54: =IF(('Pl 2016-20 PFC'!D211=0),"",'Pl 2016-20 PFC'!D211) -> 3831000 | J54: =IF(('Pl 2016-20 PFC'!E211=0),"",'Pl 2016-20 PFC'!E211) | K54: =IF(('Pl 2016-20 PFC'!F211=0),"",'Pl 2016-20 PFC'!F211) -> 3831000 | U54: =IF((SUM(C54,F54,I54,L54,O54,R54)=0),"",(SUM(C54,F54,I54,L54,O54,R54))) -> 3831000 | V54: =IF((SUM(D54,G54,J54,M54,P54,S54)=0),"0",(SUM(D54,G54,J54,M54,P54,S54))) -> 0 | W54: =IF((SUM(E54,H54,K54,N54,Q54,T54)=0),"",(SUM(E54,H54,K54,N54,Q54,T54))) -> 3831000 | X54: ="$#ODWOŁANIE$#ODWOŁANIE"/"$#ODWOŁANIE$#ODWOŁANIE"% -> #VALUE!
B55: - finansowanie ze środków UE (§ xxx7) | U55: =IF((SUM(C55,F55,I55,L55,O55,R55)=0),"",(SUM(C55,F55,I55,L55,O55,R55))) | V55: =IF((SUM(D55,G55,J55,M55,P55,S55)=0),"",(SUM(D55,G55,J55,M55,P55,S55))) | W55: =IF((SUM(E55,H55,K55,N55,Q55,T55)=0),"",(SUM(E55,H55,K55,N55,Q55,T55))) | X55: ="$#ODWOŁANIE$#ODWOŁANIE"/"$#ODWOŁANIE$#ODWOŁANIE"% -> #VALUE!
B56: - współfinansowanie (§ xxx9) | U56: =IF((SUM(C56,F56,I56,L56,O56,R56)=0),"",(SUM(C56,F56,I56,L56,O56,R56))) | V56: =IF((SUM(D56,G56,J56,M56,P56,S56)=0),"",(SUM(D56,G56,J56,M56,P56,S56))) | W56: =IF((SUM(E56,H56,K56,N56,Q56,T56)=0),"",(SUM(E56,H56,K56,N56,Q56,T56))) | X56: ="$#ODWOŁANIE$#ODWOŁANIE"/"$#ODWOŁANIE$#ODWOŁANIE"% -> #VALUE!
A57: 2. | B57: Wydatki bieżące własne § 401 - 481 | U57: =IF((SUM(U58:U60)=0),"",SUM(U58:U60)) -> 324604000 | V57: =IF((SUM(V58:V60)=0),"",SUM(V58:V60)) | W57: =IF((SUM(W58:W60)=0),"",SUM(W58:W60)) -> 324604000 | X57: ="$#ODWOŁANIE$#ODWOŁANIE"/"$#ODWOŁANIE$#ODWOŁANIE"% -> #VALUE!
B58: - środki na zadania ustawowe (§ xxx0) | U58: =IF((SUM('Pl 2016-20 PFC'!D241,'Pl 2016-20 PFC'!D244,'Pl 2016-20 PFC'!D247,'Pl 2016-20 PFC'!D250,'Pl 2016-20 PFC'!D256,'Pl 2016-20 PFC'!D273,'Pl 2016-20 PFC'!D290,'Pl 2016-20 PFC'!D291)=0),"",SUM('Pl 2016-20 PFC'!D241,'Pl 2016-20 PFC'!D244,'Pl 2016-20 PFC'!D247,'Pl 2016-20 PFC'!D250,'Pl 2016-20 PFC'!D256,'Pl 2016-20 PFC'!D273,'Pl 2016-20 PFC'!D290,'Pl 2016-20 PFC'!D291)) -> 322406000 | V58: =IF((SUM('Pl 2016-20 PFC'!E241,'Pl 2016-20 PFC'!E244,'Pl 2016-20 PFC'!E247,'Pl 2016-20 PFC'!E250,'Pl 2016-20 PFC'!E256,'Pl 2016-20 PFC'!E273,'Pl 2016-20 PFC'!E290,'Pl 2016-20 PFC'!E291)=0),"0",SUM('Pl 2016-20 PFC'!E241,'Pl 2016-20 PFC'!E244,'Pl 2016-20 PFC'!E247,'Pl 2016-20 PFC'!E250,'Pl 2016-20 PFC'!E256,'Pl 2016-20 PFC'!E273,'Pl 2016-20 PFC'!E290,'Pl 2016-20 PFC'!E291)) -> 0 | W58: =IF((SUM('Pl 2016-20 PFC'!F241,'Pl 2016-20 PFC'!F244,'Pl 2016-20 PFC'!F247,'Pl 2016-20 PFC'!F250,'Pl 2016-20 PFC'!F256,'Pl 2016-20 PFC'!F273,'Pl 2016-20 PFC'!F290,'Pl 2016-20 PFC'!F291)=0),"",SUM('Pl 2016-20 PFC'!F241,'Pl 2016-20 PFC'!F244,'Pl 2016-20 PFC'!F247,'Pl 2016-20 PFC'!F250,'Pl 2016-20 PFC'!F256,'Pl 2016-20 PFC'!F273,'Pl 2016-20 PFC'!F290,'Pl 2016-20 PFC'!F291)) -> 322406000 | X58: =IF((SUM('Pl 2016-20 PFC'!G241,'Pl 2016-20 PFC'!G244,'Pl 2016-20 PFC'!G247,'Pl 2016-20 PFC'!G250,'Pl 2016-20 PFC'!G256,'Pl 2016-20 PFC'!G273,'Pl 2016-20 PFC'!G290,'Pl 2016-20 PFC'!G291)=0),"",SUM('Pl 2016-20 PFC'!G241,'Pl 2016-20 PFC'!G244,'Pl 2016-20 PFC'!G247,'Pl 2016-20 PFC'!G250,'Pl 2016-20 PFC'!G256,'Pl 2016-20 PFC'!G273,'Pl 2016-20 PFC'!G290,'Pl 2016-20 PFC'!G291)) -> #VALUE! | Y58: =IF((SUM('Pl 2016-20 PFC'!H241,'Pl 2016-20 PFC'!H244,'Pl 2016-20 PFC'!H247,'Pl 2016-20 PFC'!H250,'Pl 2016-20 PFC'!H256,'Pl 2016-20 PFC'!H273,'Pl 2016-20 PFC'!H290,'Pl 2016-20 PFC'!H291)=0),"",SUM('Pl 2016-20 PFC'!H241,'Pl 2016-20 PFC'!H244,'Pl 2016-20 PFC'!H247,'Pl 2016-20 PFC'!H250,'Pl 2016-20 PFC'!H256,'Pl 2016-20 PFC'!H273,'Pl 2016-20 PFC'!H290,'Pl 2016-20 PFC'!H291)) | Z58: =IF((SUM('Pl 2016-20 PFC'!I241,'Pl 2016-20 PFC'!I244,'Pl 2016-20 PFC'!I247,'Pl 2016-20 PFC'!I250,'Pl 2016-20 PFC'!I256,'Pl 2016-20 PFC'!I273,'Pl 2016-20 PFC'!I290,'Pl 2016-20 PFC'!I291)=0),"",SUM('Pl 2016-20 PFC'!I241,'Pl 2016-20 PFC'!I244,'Pl 2016-20 PFC'!I247,'Pl 2016-20 PFC'!I250,'Pl 2016-20 PFC'!I256,'Pl 2016-20 PFC'!I273,'Pl 2016-20 PFC'!I290,'Pl 2016-20 PFC'!I291)) | AA58: =IF((SUM('Pl 2016-20 PFC'!J241,'Pl 2016-20 PFC'!J244,'Pl 2016-20 PFC'!J247,'Pl 2016-20 PFC'!J250,'Pl 2016-20 PFC'!J256,'Pl 2016-20 PFC'!J273,'Pl 2016-20 PFC'!J290,'Pl 2016-20 PFC'!J291)=0),"",SUM('Pl 2016-20 PFC'!J241,'Pl 2016-20 PFC'!J244,'Pl 2016-20 PFC'!J247,'Pl 2016-20 PFC'!J250,'Pl 2016-20 PFC'!J256,'Pl 2016-20 PFC'!J273,'Pl 2016-20 PFC'!J290,'Pl 2016-20 PFC'!J291)) | AB58: =IF((SUM('Pl 2016-20 PFC'!K241,'Pl 2016-20 PFC'!K244,'Pl 2016-20 PFC'!K247,'Pl 2016-20 PFC'!K250,'Pl 2016-20 PFC'!K256,'Pl 2016-20 PFC'!K273,'Pl 2016-20 PFC'!K290,'Pl 2016-20 PFC'!K291)=0),"",SUM('Pl 2016-20 PFC'!K241,'Pl 2016-20 PFC'!K244,'Pl 2016-20 PFC'!K247,'Pl 2016-20 PFC'!K250,'Pl 2016-20 PFC'!K256,'Pl 2016-20 PFC'!K273,'Pl 2016-20 PFC'!K290,'Pl 2016-20 PFC'!K291)) | AC58: =IF((SUM('Pl 2016-20 PFC'!L241,'Pl 2016-20 PFC'!L244,'Pl 2016-20 PFC'!L247,'Pl 2016-20 PFC'!L250,'Pl 2016-20 PFC'!L256,'Pl 2016-20 PFC'!L273,'Pl 2016-20 PFC'!L290,'Pl 2016-20 PFC'!L291)=0),"",SUM('Pl 2016-20 PFC'!L241,'Pl 2016-20 PFC'!L244,'Pl 2016-20 PFC'!L247,'Pl 2016-20 PFC'!L250,'Pl 2016-20 PFC'!L256,'Pl 2016-20 PFC'!L273,'Pl 2016-20 PFC'!L290,'Pl 2016-20 PFC'!L291)) | AD58: =IF((SUM('Pl 2016-20 PFC'!M241,'Pl 2016-20 PFC'!M244,'Pl 2016-20 PFC'!M247,'Pl 2016-20 PFC'!M250,'Pl 2016-20 PFC'!M256,'Pl 2016-20 PFC'!M273,'Pl 2016-20 PFC'!M290,'Pl 2016-20 PFC'!M291)=0),"",SUM('Pl 2016-20 PFC'!M241,'Pl 2016-20 PFC'!M244,'Pl 2016-20 PFC'!M247,'Pl 2016-20 PFC'!M250,'Pl 2016-20 PFC'!M256,'Pl 2016-20 PFC'!M273,'Pl 2016-20 PFC'!M290,'Pl 2016-20 PFC'!M291)) | ... AJ58: =IF((SUM('Pl 2016-20 PFC'!S241,'Pl 2016-20 PFC'!S244,'Pl 2016-20 PFC'!S247,'Pl 2016-20 PFC'!S250,'Pl 2016-20 PFC'!S256,'Pl 2016-20 PFC'!S273,'Pl 2016-20 PFC'!S290,'Pl 2016-20 PFC'!S291)=0),"",SUM('Pl 2016-20 PFC'!S241,'Pl 2016-20 PFC'!S244,'Pl 2016-20 PFC'!S247,'Pl 2016-20 PFC'!S250,'Pl 2016-20 PFC'!S256,'Pl 2016-20 PFC'!S273,'Pl 2016-20 PFC'!S290,'Pl 2016-20 PFC'!S291))
B59: - finansowanie ze środków UE (§ xxx7) | U59: =SUM('Pl 2016-20 PFC'!D217:D222) -> 1859000 | V59: =SUM('Pl 2016-20 PFC'!E217:E222) -> 0 | W59: =SUM('Pl 2016-20 PFC'!F217:F222) -> 1859000 | X59: =SUM('Pl 2016-20 PFC'!G217:G222) -> 0 | Y59: =SUM('Pl 2016-20 PFC'!H217:H222) -> 0 | Z59: =SUM('Pl 2016-20 PFC'!I217:I222) -> 0 | AA59: =SUM('Pl 2016-20 PFC'!J217:J222) -> 0 | AB59: =SUM('Pl 2016-20 PFC'!K217:K222) -> 0 | AC59: =SUM('Pl 2016-20 PFC'!L217:L222) -> 0
B60: - współfinansowanie (§ xxx9) | U60: =SUM('Pl 2016-20 PFC'!D242,'Pl 2016-20 PFC'!D245,'Pl 2016-20 PFC'!D248,'Pl 2016-20 PFC'!D251,'Pl 2016-20 PFC'!D257) -> 339000 | V60: =SUM('Pl 2016-20 PFC'!E242,'Pl 2016-20 PFC'!E245,'Pl 2016-20 PFC'!E248,'Pl 2016-20 PFC'!E251,'Pl 2016-20 PFC'!E257) -> 0 | W60: =SUM('Pl 2016-20 PFC'!F242,'Pl 2016-20 PFC'!F245,'Pl 2016-20 PFC'!F248,'Pl 2016-20 PFC'!F251,'Pl 2016-20 PFC'!F257) -> 339000 | X60: ="$#ODWOŁANIE$#ODWOŁANIE"/"$#ODWOŁANIE$#ODWOŁANIE"% -> #VALUE!
A61: 3. | B61: Zwrot dotacji wykorzystanych niezgodnie z przeznaczeniem lub pobranych w nadmiernej wysokości § 2910 i 2917 | U61: =IF(('Pl 2016-20 PFC'!D352=0),"",'Pl 2016-20 PFC'!D352) -> 300000 | V61: =IF(('Pl 2016-20 PFC'!E352=0),"0",'Pl 2016-20 PFC'!E352) -> 0 | W61: =IF(('Pl 2016-20 PFC'!F352=0),"",'Pl 2016-20 PFC'!F352) -> 300000 | X61: ="$#ODWOŁANIE$#ODWOŁANIE"/"$#ODWOŁANIE$#ODWOŁANIE"% -> #VALUE!
A62: 4. | B62: Wydatki inwestycyjne (własne) i zakupy inwestycyjne (własne) | U62: =IF((SUM(U63:U65)=0),"",SUM(U63:U65)) -> 51497000 | V62: =IF((SUM(V63:V65)=0),"0",SUM(V63:V65)) -> 0 | W62: =IF((SUM(W63:W65)=0),"",SUM(W63:W65)) -> 51497000 | X62: ="$#ODWOŁANIE$#ODWOŁANIE"/"$#ODWOŁANIE$#ODWOŁANIE"% -> #VALUE!
B63: - środki na zadania ustawowe (§ xxx0) | U63: =U67+U70 -> 42986000 | V63: =V67+V70 -> 0 | W63: =W67+W70 -> 42986000 | X63: ="$#ODWOŁANIE$#ODWOŁANIE"/"$#ODWOŁANIE$#ODWOŁANIE"% -> #VALUE!
B64: - finansowanie ze środków UE (§ xxx7) | U64: =U68+U72 -> 7203000 | V64: =V68+V72 -> 0 | W64: =W68+W72 -> 7203000 | X64: =X68+X72 -> #VALUE! | Y64: =Y68+Y72 -> 0 | Z64: =Z68+Z72 -> 0 | AA64: =AA68+AA72 -> 0 | AB64: =AB68+AB72 -> 0 | ... AJ64: =AJ68+AJ72 -> 0
B65: - współfinansowanie (§ xxx9) | U65: =U69+U73 -> 1308000 | V65: =V69+V73 -> 0 | W65: =W69+W73 -> 1308000 | X65: =X69+X73 -> #VALUE! | Y65: =Y69+Y73 -> 0 | Z65: =Z69+Z73 -> 0 | AA65: =AA69+AA73 -> 0 | AB65: =AB69+AB73 -> 0 | ... AJ65: =AJ69+AJ73 -> 0
B66: z tego: - wydatki inwestycyjne (inwestycje rozpoczęte) § 6110 | U66: =IF((SUM(U67:U69)=0),"",SUM(U67:U69)) -> 23501000 | V66: =IF((SUM(V67:V69)=0),"0",SUM(V67:V69)) -> 0 | W66: =IF((SUM(W67:W69)=0),"",SUM(W67:W69)) -> 23501000 | X66: ="$#ODWOŁANIE$#ODWOŁANIE"/"$#ODWOŁANIE$#ODWOŁANIE"% -> #VALUE!
B67: - środki na zadania ustawowe (§ xxx0) | U67: ='Pl 2016-20 PFC'!D297 -> 14990000 | V67: ='Pl 2016-20 PFC'!E297 -> 0 | W67: ='Pl 2016-20 PFC'!F297 -> 14990000
B68: - finansowanie ze środków UE (§ xxx7) | U68: ='Pl 2016-20 PFC'!D233 -> 7203000 | V68: ='Pl 2016-20 PFC'!E233 -> 0 | W68: ='Pl 2016-20 PFC'!F233 -> 7203000
B69: - współfinansowanie (§ xxx9) | U69: ='Pl 2016-20 PFC'!D298 -> 1308000 | V69: ='Pl 2016-20 PFC'!E298 -> 0 | W69: ='Pl 2016-20 PFC'!F298 -> 1308000
B70: - zakupy inwestycyjne § 612 | U70: =IF((SUM(U71:U73)=0),"",SUM(U71:U73)) -> 27996000 | V70: =IF((SUM(V71:V73)=0),"0",SUM(V71:V73)) -> 0 | W70: =IF((SUM(W71:W73)=0),"",SUM(W71:W73)) -> 27996000 | X70: ="$#ODWOŁANIE$#ODWOŁANIE"/"$#ODWOŁANIE$#ODWOŁANIE"% -> #VALUE!
B71: - środki na zadania ustawowe (§ xxx0) | U71: =IF(('Pl 2016-20 PFC'!D300=0),"",'Pl 2016-20 PFC'!D300) -> 27996000 | V71: =IF(('Pl 2016-20 PFC'!E300=0),"0",'Pl 2016-20 PFC'!E300) -> 0 | W71: =IF(('Pl 2016-20 PFC'!F300=0),"",'Pl 2016-20 PFC'!F300) -> 27996000 | X71: ="$#ODWOŁANIE$#ODWOŁANIE"/"$#ODWOŁANIE$#ODWOŁANIE"% -> #VALUE!
B72: - finansowanie ze środków UE (§ xxx7) | U72: ='Pl 2016-20 PFC'!D234 -> 0 | V72: ='Pl 2016-20 PFC'!E234 -> 0 | W72: ='Pl 2016-20 PFC'!F234 -> 0 | X72: ="$#ODWOŁANIE$#ODWOŁANIE"/"$#ODWOŁANIE$#ODWOŁANIE"% -> #VALUE!
B73: - współfinansowanie (§ xxx9) | U73: ='Pl 2016-20 PFC'!D301 -> 0 | V73: ='Pl 2016-20 PFC'!E301 -> 0 | W73: ='Pl 2016-20 PFC'!F301 -> 0 | X73: ="$#ODWOŁANIE$#ODWOŁANIE"/"$#ODWOŁANIE$#ODWOŁANIE"% -> #VALUE!

Sheet BZ-zmiany (2)
B3: Wydatki Państwowego Funduszu Rehabilitacji Osób Niepełnosprawnych w układzie zadaniowym w 2017 roku
B5: Część D
B6: Lp. | C6: Nazwa funkcji/zadania/podzadania/ działania | D6: Cel | E6: Miernik | H6: Planowane wydatki w 2017 r.
E7: Nazwa | F7: Wartość bazowa (2014r.) | G7: 2016 r. | H7: Ogółem MEMORIAŁ (kol.9+12) | I7: Ogółem KASA | J7: stałe | K7: % kasowy | L7: Plan - zadania ustawowe i programy zatwierdzone przez RN | M7: zmiany | N7: Po zmianach zadania ustawowe i programy zatwierdzone przez RN | O7: realizacja zadań | Q7: inwestycyjne | R7: =K7 -> % kasowy | S7: razem zadania i inwestycyjne (kol.10+11) | T7: razem zadania i inwestycyjne kasowo (kol.10+12)
P8: w tym inwestycje
B9: 1 | C9: 2 | D9: 4 | E9: 5 | F9: 6 | G9: 7 | H9: 8 | J9: 9 | L9: 10 | M9: 10 | N9: 10 | O9: 10 | P9: 11 | Q9: 11 | S9: 12 | T9: 12
C11: WYDATKI OGÓŁEM | F11: =SUM(F35,F101) -> 883251 | G11: =SUM(G35,G101) -> 989796 | H11: =J11+S11 -> 4913734 | I11: =K11+T11 -> 4721271 | J11: =('Plan 2014-17 Wydatki'!U53+'Plan 2014-17 Wydatki'!U57)/1000 -> 328435 | K11: =((('Plan 2014-17 Wydatki'!U53+'Plan 2014-17 Wydatki'!U57))-('Pl 2014-17 PFC MF'!G54+'Pl 2014-17 PFC MF'!G56))/1000 -> 135972 | L11: =L35+L101 -> 4513802 | N11: =N35+N101 -> 4533802 | Q11: ='Plan 2014-17 Wydatki'!U62/1000 -> 51497 | R11: ='Pl 2014-17 PFC MF'!G58/1000 -> 51497 | S11: =SUM(N11:Q11) -> 4585299 | T11: =N11+R11 -> 4585299 | U11: =J11-J46 -> 326237 | V11: =Q11-Q46 -> 42986 | W11: 133774 | X11: 42986
B12: 13.1. | C12: Pomoc i integracja społeczna | D12: Umożliwienie osobom i rodzinom przezwyciężenia trudnych sytuacji życiowych | E12: Stosunek liczby osób korzystających z pomocy niepieniężnej do ogólnej liczby osób korzystających z pomocy społecznej | F12: [-] Zmiany dotyczące sprawozdań statystycznych, umożliwiających obliczenie wartości miernika, zostały zgłoszone do GUS i zostaną wprowadzone w roku 2011 | G12: Zmiany dotyczące sprawozdań statystycznych, umożliwiających obliczenie wartości miernika, zostały zgłoszone do GUS i zostaną wprowadzone w roku 2011
B13: 13.1.1. | C13: Wspieranie osób zagrożonych wykluczeniem społecznym | D13: Wspieranie lokalnych inicjatyw w obszarze pomocy i integracji społecznej | E13: Liczba dobrych praktyk otrzymujących wsparcie finansowe | F13: [2009] 260 | G13: 260
B14: 13.1.1.1. | C14: Przeciwdziałanie bezdomności
B15: 13.1.1.2. | C15: Wspieranie osób z zaburzeniami psychicznymi
B16: 13.1.1.3. | C16: Wspieranie alternatywnych, nowatorskich form zatrudnienia
B17: 13.1.1.4. | C17: Aktywizacja poprzez prace społecznie użyteczne i roboty publiczne
B18: 13.1.1.5. | C18: Integracja społeczna dzieci i młodzieży
B19: 13.1.1.6. | C19: Dofinansowanie realizacji programu wieloletniego "Pomoc państwa w zakresie dożywiania"
B20: 13.1.2. | C20: Tworzenie, wdrażanie oraz realizacja przepisów o pomocy społecznej | D20: Zapewnienie dobrej jakości usług oraz usprawnianie działalności podmiotów realizujących przepisy o pomocy społecznej | E20: Odsetek instytucji pomocy społecznej, które osiągnęły wymagane standardy | F20: [2009] 12% | G20: 15%
B21: 13.1.2.1. | C21: Tworzenie i opiniowanie projektów nowych rozwiązań w obszarze pomocy społecznej w zakresie wpływu i zgodności z systemem pomocy społecznej w Polsce
B22: 13.1.2.2. | C22: Udział w procedurze nadzoru i kontroli w zakresie obowiązujących w systemie pomocy społecznej standardów oraz prawidłowej realizacji zadań z zakresu pomocy społecznej
B23: 13.1.2.3. | C23: Projektowanie rozstrzygnięć w II instancji w zakresie wydawania zezwoleń na prowadzenie określonych w Ustawie o pomocy społecznej jednostek organizacyjnych pomocy społecznej i placówek
B24: 13.1.2.4. | C24: Szkolenia w ramach Krajowego Programu Zwalczania i Zapobiegania Handlowi Ludźmi
B25: 13.1.2.5. | C25: Zobowiązania wynikające z umów o charakterze międzynarodowym, między innymi składka Eurosocial
B26: 13.1.3. | C26: Zapewnienie jakości kształcenia i doskonalenia zawodowego służb społecznych | D26: Podnoszenie kompetencji służb społecznych | E26: Udział liczby pracowników socjalnych, którzy zdobyli I i II stopień specjalizacji w ogólnej liczbie pracowników socjalnych | F26: [2009] 8% | G26: 8%
B27: 13.1.3.1. | C27: Działalność Centralnej Komisji Egzaminacyjnej
B28: 13.1.3.2. | C28: Przyznawanie nagród specjalnych przez Ministra do spraw zabezpieczenia społecznego za wybitne osiągnięcia w obszarze pomocy społecznej wraz z organizacją uroczystości z tym związanych, w tym nagrody dla pracowników socjalnych
B29: 13.1.3.3. | C29: Działalność Rady Redakcyjnej "Biblioteka pracownika socjalnego"
B30: 13.1.4. | C30: Działalność badawcza, doradcza i informacyjna | D30: Poszerzenie wiedzy z zakresu pomocy społecznej | E30: Udział kwoty przeznaczonej na działalność badawczą, doradczą i informacyjną w stosunku do ogólnej kwoty przeznaczonej na pomoc i integrację społeczną | F30: [2009] 2,5% | G30: 2,5%
B31: 13.1.4.1. | C31: Badania z obszaru pomocy społecznej, w tym obliczanie minimum egzystencji, minimum socjalnego i progu interwencji socjalnej
B32: 13.1.4.2. | C32: Działalność Rady Pomocy Społecznej
B33: 13.1.4.3. | C33: Organizacja kampanii społecznych, w tym kampanii na rzecz przeciwdziałania przemocy w rodzinie
B34: 13.1.4.4. | C34: Spotkania z kadrą pomocy społecznej, w tym podróże krajowe
B35: 13.1. | C35: Pomoc i integracja społeczna | D35: Przeciwdziałanie wykluczeniu społecznemu osób niepełnosprawnych | E35: Brak | F35: =SUM(F40,F43:F47,F49) -> 507821 | G35: =SUM(G40,G43:G47,G49) -> 610756 | H35: =J35+S35 -> 1298604.2 | I35: =K35+T35 -> 1246639.2 | J35: =J36 -> 90281.99 | K35: =K36 -> 38316.98 | L35: =SUM(L36) -> 1188205 | N35: =SUM(N36) -> 1188205 | Q35: =+Q36 -> 20117.22 | R35: =+R36 -> 20117.22 | S35: =SUM(N35:Q35) -> 1208322.2 | T35: =N35+R35 -> 1208322.2 | U35: =L35*100/L11 -> 26.323817 | V35: =S35*100/S11 -> 26.352092 | W35: =SUM(J35,J101) -> 328435 | X35: =SUM(Q35,Q101) -> 51497
B36: 13.1.3. | C36: Wyrównywanie szans zawodowych i integracja społeczna osób niepełnosprawnych | D36: Objęcie całej populacji osób niepełnosprawnych różnymi formami rehabilitacji adekwatnymi do profilu niepełnosprawności | E36: Liczba osób niepełnosprawnych,objętych wsparciem w zakresie rehabilitacji | F36: =SUM(F37,F42,F102) -> 883251 | G36: =SUM(G37,G42,G102) -> 989796 | H36: =J36+S36 -> 1298604.2 | I36: =K36+T36 -> 1246639.2 | J36: =J37+J42+J93 -> 90281.99 | K36: =K37+K42+K93 -> 38316.98 | L36: =SUM(L37+L42+L93) -> 1188205 | N36: =SUM(N37+N42+N93) -> 1188205 | Q36: =+Q37+Q42+Q93 -> 20117.22 | R36: =+R37+R42+R93 -> 20117.22 | S36: =SUM(N36:Q36) -> 1208322.2 | T36: =N36+R36 -> 1208322.2 | U36: =L36*100/L11 -> 26.323817 | V36: =S36*100/S11 -> 26.352092 | W36: =SUM(J37,J42,J93) -> 90281.99 | X36: =SUM(Q37,Q42,Q93) -> 20117.22
B37: 13.1.3.1. | C37: Koordynacja i wspieranie rehabilitacji społecznej, realizowanej przez JST | D37: objęcie wsparciem pośrednim osób niepełnosprawnych w zakresie rehabilitacji społecznej realizowanych zadań przez JST | E37: Liczba osób niepełnosprawnych objętych wsparciem pośrednim w zakresie zadań rehabilitacji społecznej realizowanych przez JST | F37: =SUM(F40) -> 477957 | G37: =SUM(G40) -> 489736 | H37: =J37+S37+1 -> 843870.14 | I37: =K37+T37+1 -> 809226.8 | J37: =$U$11*18% -> 58722.66 | K37: =$W$11*18% -> 24079.32 | L37: =SUM(L38:L41) -> 777409 | N37: =SUM(N38:N41) -> 777409 | Q37: =V11*18% -> 7737.48 | R37: =X11*18% -> 7737.48 | S37: =SUM(N37:Q37) -> 785146.48 | T37: =N37+R37 -> 785146.48 | U37: =L37*100/L11 -> 17.222931 | V37: =S37*100/S11 -> 17.123125
C38: samorządy wojewódzkie na realizację zadań | F38: 901 | G38: 867 | L38: 62920 | M38: =('Plan 2014-17 Wydatki'!V14*90%)/1000 -> 0 | N38: =SUM(L38:M38) -> 62920 | T38: =N38+R38 -> 62920
C39: samorządy wojewódzkie na pokrycie kosztów obsługi realizowanych zadań | F39: 0 | G39: 0 | L39: 1573 | M39: =('Plan 2014-17 Wydatki'!V15*90%)/1000 -> 0 | N39: =SUM(L39:M39) -> 1573 | T39: =N39+R39 -> 1573
C40: samorządy powiatowe na realizację zadań | F40: 477957 | G40: 489736 | L40: 695528 | M40: =('Plan 2014-17 Wydatki'!V17*90%)/1000 -> 0 | N40: =SUM(L40:M40) -> 695528 | T40: =N40+R40 -> 695528
C41: samorządy powiatowe na pokrycie kosztów obsługi realizowanych zadań | F41: 0 | G41: 0 | L41: 17388 | M41: =('Plan 2014-17 Wydatki'!V18*90%)/1000 -> 0 | N41: =SUM(L41:M41) -> 17388 | T41: =N41+R41 -> 17388
B42: 13.1.3.2. | C42: Wspieranie osób niepełnosprawnych w życiu społecznym i zawodowym | D42: Objęcie wsparciem programami osób niepełnosprawnych w rehabilitacji społecznej i zawodowej przez PFRON | E42: Liczba osób niepełnosprawnych objętych wsparciem dla poprawy w życiu społecznym i zawodowym | F42: =SUM(F43:F49) -> 29864 | G42: =SUM(G43:G49) -> 121020 | H42: =J42+S42 -> 182592.92 | I42: =K42+T42 -> 174894.4 | J42: =U11*4%+J46 -> 15247.48 | K42: =W11*4%+K46 -> 7548.96 | L42: =SUM(L43:L49) -> 157115 | N42: =SUM(N43:N49) -> 157115 | Q42: =V11*4%+Q46 -> 10230.44 | R42: =X11*4%+R46 -> 10230.44 | S42: =SUM(N42:Q42) -> 167345.44 | T42: =N42+R42 -> 167345.44 | U42: =L42*100/L11 -> 3.4807685 | V42: =S42*100/S11 -> 3.649608
C43: Program Wyrównywania Różnic Między Regionami art. 47 ust. 1 pkt 1 | F43: 963 | G43: 90000 | L43: ='Plan 2014-17 Wydatki'!U21/1000 -> 50000 | M43: ='Plan 2014-17 Wydatki'!V21/1000 -> 0 | N43: =SUM(L43:M43) -> 50000 | T43: =N43+R43 -> 50000
C44: refundcja kosztów wydawania certyfikatów przez podmioty uprawnione do szkolenia psów asystujących art. 20b | F44: 0 | G44: 8 | L44: ='Plan 2014-17 Wydatki'!U26/1000 -> 15 | M44: ='Plan 2014-17 Wydatki'!V26/1000 -> 0 | N44: =SUM(L44:M44) -> 15 | T44: =N44+R44 -> 15
C45: dofinansowanie badań, ekspertyz i analiz art. 47 ust. 1 pkt 5 lit. a | F45: 0 | G45: 0 | L45: ='Plan 2014-17 Wydatki'!U35/1000 -> 3000 | M45: ='Plan 2014-17 Wydatki'!V35/1000 -> 0 | N45: =SUM(L45:M45) -> 3000 | T45: =N45+R45 -> 3000
C46: projekt UE - POCP | H46: =J46+S46 -> 10709 | I46: =K46+T46 -> 10709 | J46: =('Pl 2016-20 PFC'!D217+'Pl 2016-20 PFC'!D218+'Pl 2016-20 PFC'!D219+'Pl 2016-20 PFC'!D220+'Pl 2016-20 PFC'!D225+'Pl 2016-20 PFC'!D226+'Pl 2016-20 PFC'!D242+'Pl 2016-20 PFC'!D245+'Pl 2016-20 PFC'!D248+'Pl 2016-20 PFC'!D251+'Pl 2016-20 PFC'!D257)/1000 -> 2198 | K46: 2198 | Q46: =('Pl 2016-20 PFC'!D233+'Pl 2016-20 PFC'!D298)/1000 -> 8511 | R46: =('Pl 2016-20 PFC'!D233+'Pl 2016-20 PFC'!D298)/1000 -> 8511 | S46: =SUM(N46:Q46) -> 8511 | T46: =N46+R46 -> 8511
C47: dofinansowanie kosztów szkoleń, o których mowa w art. 18 ustawy o języku migowym i innych śrokdach komunikacji | F47: 2537 | G47: 4000 | L47: ='Plan 2014-17 Wydatki'!U34/1000 -> 2800 | M47: ='Plan 2014-17 Wydatki'!V34/1000 -> 0 | N47: =SUM(L47:M47) -> 2800 | T47: =N47+R47 -> 2800
C48: usuwanie skutków powodzi | T48: =N48+R48 -> 0
C49: Programy zatwierdzone przez Radę Nadzorczą, w tym: | F49: =SUM(F50:F70) -> 26364 | G49: =SUM(G50:G70) -> 27012 | L49: =SUM(L50:L70) -> 101300 | N49: =SUM(N50:N70) -> 101300 | T49: =N49+R49 -> 101300
C50: Pegaz 2003 | E50: liczba osób niepełnospranych uczestniczących w programach realizowanych przez PFRON | T50: =N50+R50 -> 0
C51: Pegaz 2010 | E51: Liczba osób niepełnosprawnych objętych wsparciem dla poprawy życia społecznego i zawodowego | F51: 0 | G51: 0 | T51: =N51+R51 -> 0
C52: Partner | E52: liczba osób niepełnospranych uczestniczących w programach realizowanych przez PFRON | T52: =N52+R52 -> 0
C53: Pitagoras | E53: Liczba osób niepełnosprawnych objętych wsparciem dla poprawy życia społecznego i zawodowego | F53: 0 | G53: 0 | T53: =N53+R53 -> 0
C54: Program Ograniczania Skutków Niepełnosprawności | E54: liczba osób niepełnospranych uczestniczących w programach realizowanych przez PFRON | T54: =N54+R54 -> 0
C55: Ośrodki Informacji dla Osób Niepełnosprawnych | E55: liczba osób niepełnospranych uczestniczących w programach realizowanych przez PFRON | T55: =N55+R55 -> 0
C56: Program Wsparcia Inicjatyw na rzecz środowiska niepełnosprawnych | E56: liczba osób niepełnospranych uczestniczących w programach realizowanych przez PFRON | T56: =N56+R56 -> 0
C57: Sprawny Dojazd | E57: liczba osób niepełnospranych uczestniczących w programach realizowanych przez PFRON | T57: =N57+R57 -> 0
C58: Uczeń na Wsi | E58: liczba osób niepełnospranych uczestniczących w programach realizowanych przez PFRON | T58: =N58+R58 -> 0
C59: Wsparcie Ośrodka Szkolno-Wychowawczego dla Dzieci Niewidomych w Laskach | E59: liczba osób niepełnospranych uczestniczących w programach realizowanych przez PFRON | T59: =N59+R59 -> 0
C60: Wczesna Pomoc Dziecku Niepełnosprawnemu | E60: Liczba osób niepełnosprawnych objętych wsparciem dla poprawy życia społecznego i zawodowego | F60: 0 | G60: 0 | T60: =N60+R60 -> 0
C61: Powódź 2010 -pomoc ososbom niepełnosprawnym poszkodowanym w wyniku skutków powodzi mającej miejsce na terenie Polski | E61: liczba osób niepełnospranych uczestniczących w programach realizowanych przez PFRON | T61: =N61+R61 -> 0
C62: program Wsparcia Inicjatyw | F62: 12 | G62: 12 | L62: ='Plan 2014-17 Wydatki'!U44/1000 -> 520 | M62: ='Plan 2014-17 Wydatki'!V44/1000 -> 0 | N62: =SUM(L62:M62) -> 520 | T62: =N62+R62 -> 520
C63: Aktywny Samorząd | F63: 25695 | G63: 27000 | L63: ='Plan 2014-17 Wydatki'!U43/1000 -> 100780 | M63: ='Plan 2014-17 Wydatki'!V43/1000 -> 0 | N63: =SUM(L63:M63) -> 100780 | T63: =N63+R63 -> 100780
C64: Junior | F64: 657 | N64: =SUM(L64:M64) -> 0 | T64: =N64+R64 -> 0
C65: Osoby Niepełnosprawne w Służbie Publicznej | N65: =SUM(L65:M65) -> 0 | T65: =N65+R65 -> 0
C66: Student | N66: =SUM(L66:M66) -> 0 | T66: =N66+R66 -> 0
C67: Trener Pracy | N67: =SUM(L67:M67) -> 0 | T67: =N67+R67 -> 0
C68: Homer 2010 | N68: =SUM(L68:M68) -> 0 | T68: =N68+R68 -> 0
C69: Telepraca | N69: =SUM(L69:M69) -> 0 | T69: =N69+R69 -> 0
C70: Inne programy | F70: 0 | G70: 0 | L70: 0 | N70: =SUM(L70:M70) -> 0 | T70: =N70+R70 -> 0
B71: 13.3. | C71: Ubezpieczenia społeczne | D71: Zapewnianie środków dla osób uprawnionych do korzystania ze świadczeń z systemu ubezpieczeń społecznych | E71: Liczba osób obiętych ubezpieczeniem emerytalnym i rentowym w stosunku do liczby osób w wieku produkcyjnym | T71: =N71+R71 -> 0
B72: 13.3.2. | C72: Nadzór nad zgodnością działań Zakładu Ubezpieczeń Społecznych z obowiązującymi przepisami prawa | D72: Zapewnianie sprawnego nadzoru | E72: Liczba pracowników Zakładu Ubezpieczeń Społecznych w relacji do liczby klientów Zakładu | T72: =N72+R72 -> 0
B73: 13.3.2.1. | C73: Wystąpienia i bieżące konsultacje z ZUS w zakresie przepisów o ubezpieczeniach społecznych | T73: =N73+R73 -> 0
B74: 13.3.2.2. | C74: Działania związane z realizacją planów finansowych ZUS i funduszy celowych | T74: =N74+R74 -> 0
B75: 13.3.8. | C75: Kształtowanie systemu repartycyjnego | D75: Udoskonalenie funkcjonowania systemu repartycyjnego | E75: Kwota wydatków na świadczenia w relacji do PKB | T75: =N75+R75 -> 0
B76: 13.3.8.1. | C76: Dostosowywanie regulacji emerytalnych do stawianych wymagań społeczno-ekonomicznych | T76: =N76+R76 -> 0
B77: 13.3.8.2. | C77: Dostosowywanie regulacji rentowych do stawianych wymagań społeczno-ekonomicznych | T77: =N77+R77 -> 0
B78: 13.3.8.3. | C78: Dostosowywanie regulacji w zakresie ubezpieczenia wypadkowego do stawianych wymagań społeczno-ekonomicznych | T78: =N78+R78 -> 0
B79: 13.3.8.4. | C79: Dostosowywanie regulacji w zakresie ubezpieczenia chorobowego do stawianych wymagań społeczno-ekonomicznych | T79: =N79+R79 -> 0
B80: 13.3.13. | C80: Wspieranie działań Otwartych Funduszy Emerytalnych | D80: Umacnianie kapitałowej części ubezpieczeń społecznych | E80: Wartość aktywów OFE (netto) na 1 członka OFE | T80: =N80+R80 -> 0
B81: 13.3.13.1. | C81: Kształtowanie systemu OFE | T81: =N81+R81 -> 0
B82: 13.3.13.2. | C82: Zarządzanie bezpieczeństwem środków gromadzonych w OFE | T82: =N82+R82 -> 0
B83: 13.3.14. | C83: Wspieranie Pracowniczych Programów Emerytalnych i Indywidualnych Kont Emerytalnych | D83: Zwiększenie dodatkowego dobrowolnego zasobu oszczędności emerytalnych | E83: Liczba osób obiętych PPE i oszczędzających na IKE | T83: =N83+R83 -> 0
B84: 13.3.14.1. | C84: Ochrona interesów uczestników Pracowniczych Programów Emerytalnych | T84: =N84+R84 -> 0
B85: 13.3.14.2. | C85: Ochrona interesów uczestników Indywidualnych Kont Emerytalnych | T85: =N85+R85 -> 0
B86: 13.3.15. | C86: Koordynacja systemów zabezpieczenia społecznego | D86: Zapewnienie ochrony w dziedzinie zabezpieczenia społecznego osobom pracującym i członkom ich rodzin, migrującym pomiędzy państwami | E86: Liczba państw, których systemy zabezpieczenia społecznego zostały skoordynowane z polskim systemem zabezpieczenia społecznego przepisami międzynarodowymi, w tym w danym roku | T86: =N86+R86 -> 0
B87: 13.3.15.1. | C87: Unijna koordynacja systemów zabezpieczenia społecznego i nadzorowanie jej realizacji przez instytucje polskie | T87: =N87+R87 -> 0
B88: 13.3.15.2. | C88: Dwustronna koordynacja systemów zabezpieczenia społecznego i nadzorowanie jej realizacji przez instytucje polskie | T88: =N88+R88 -> 0
B89: 13.7. | C89: Informatyzacja działalności i budowa społeczeństwa informacyjnego | D89: Zwiększanie odsetka jednostek używających homologowanego oprogramowania | E89: Stosunek liczby jednostek pracujących z użyciem homologowanego oprogramowania do liczby wszystkich jednostek | T89: =N89+R89 -> 0
B90: 13.7.1. | C90: Utrzymanie systemów informatycznych | D90: Zwiększanie odsetka jednostek, w których zapewniono integrację wewnątrz obszaru zabezpieczenia społecznego | E90: Stosunek liczby jednostek zintegrowanych wewnątrz obszaru zabezpieczenia społecznego oraz z systemami zewnętrznymi do liczby wszystkich jednostek | T90: =N90+R90 -> 0
B91: 13.7.1.1. | C91: Utrzymanie i rozwój infrastruktury informatycznej z obszaru zabezpieczenia społecznego | T91: =N91+R91 -> 0
B92: 13.7.1.2. | C92: Wytworzenie, utrzymanie i rozwój systemów informatycznych z obszaru zabezpieczenia społecznego | T92: =N92+R92 -> 0
B93: 13.1.3.4. | C93: Wspieranie organizacji pozarzadowych, realizujących zadania na rzecz osób niepełnosprawnych oraz tworzenie płaszczyzny współpracy | D93: Objęcie wsparciem procesu aktywizacji osób niepełnosprawnych realizowanego przez NGO's | E93: Liczba zrealizowanych umów przez NGO's z zakresu rehabilitacji osób niepełnosprawnych | F93: =SUM(F94:F100) -> 794 | G93: =SUM(G94:G100) -> 746 | H93: =J93+S93 -> 272142.15 | I93: =K93+T93 -> 262519 | J93: =U11*5% -> 16311.85 | K93: =W11*5% -> 6688.7 | L93: =SUM(L94:L100) -> 253681 | N93: =SUM(N94:N100) -> 253681 | Q93: =V11*5% -> 2149.3 | R93: =X11*5% -> 2149.3 | S93: =SUM(N93:Q93) -> 255830.3 | T93: =N93+R93 -> 255830.3 | U93: =L93*100/L11 -> 5.620118 | V93: =S93*100/S11 -> 5.5793592
C94: zadania zlecane art. 36 | F94: 786 | G94: 620 | L94: ='Plan 2014-17 Wydatki'!U28/1000 -> 246981 | M94: ='Plan 2014-17 Wydatki'!V28/1000 -> 0 | N94: =SUM(L94:M94) -> 246981 | T94: =N94+R94 -> 246981
C95: Program Wsparcia Miedzynarodowych Imprez Sportowych dla Osób Niepełnosprawnych organizowanych na terenie Polski | F95: 8 | G95: 10 | L95: ='Plan 2014-17 Wydatki'!U47/1000 -> 1300 | M95: ='Plan 2014-17 Wydatki'!V47/1000 -> 0 | N95: =SUM(L95:M95) -> 1300 | T95: =N95+R95 -> 1300
C96: ='Plan 2014-17 Wydatki'!B46 -> Program podnoszenia świadomości społecznej językiem filmowym - Głęboka Woda III | F96: 0 | G96: 0 | L96: ='Plan 2014-17 Wydatki'!U46/1000 -> 0 | M96: ='Plan 2014-17 Wydatki'!V46/1000 -> 0 | N96: =SUM(L96:M96) -> 0 | T96: =N96+R96 -> 0
C97: ='Plan 2014-17 Wydatki'!B45 -> Program Wsparcia Centrów Sportu Niepełnosprawnych | F97: 0 | G97: 0 | L97: ='Plan 2014-17 Wydatki'!U45/1000 -> 0 | M97: ='Plan 2014-17 Wydatki'!V45/1000 -> 0 | N97: =SUM(L97:M97) -> 0 | T97: =N97+R97 -> 0
C98: ='Plan 2014-17 Wydatki'!B48 -> "Partnerstwo dla osób z niepełnosprawnościami" - program współpracy z Zarządami Województw w celu wpółfinansowania projektów organizacji pozarządowych wyłonionych przez Zarządy Województw w ramach Regionalnych Programów Operacyjnych | F98: 0 | G98: 16 | L98: ='Plan 2014-17 Wydatki'!U48/1000 -> 1000 | M98: ='Plan 2014-17 Wydatki'!V48/1000 -> 0 | N98: =SUM(L98:M98) -> 1000 | T98: =N98+R98 -> 1000
C99: projekty UE | F99: 0 | G99: 0 | T99: =N99+R99 -> 0
C100: Inne programy | F100: 0 | G100: 100 | L100: ='Plan 2014-17 Wydatki'!U52/1000 -> 4400 | M100: ='Plan 2014-17 Wydatki'!V52/1000 -> 0 | N100: =SUM(L100:M100) -> 4400 | T100: =N100+R100 -> 4400
B101: 14.1. | C101: Wspieranie zatrudnienia i przeciwdziałanie bezrobociu | D101: Zwiększenie aktywności zawodowej osób niepełnosprawnych | E101: Wskaźnik zatrudnienia osób niepełnosprawnych w wieku produkcyjnym | F101: =SUM(F104:F105,F107:F108,F115,F117:F121) -> 375430 | G101: =SUM(G104:G105,G107:G108,G115,G117:G121) -> 379040 | H101: =J101+S101 -> 3615129.8 | I101: =K101+T101 -> 3474631.8 | J101: =J102 -> 238153.01 | K101: =K102 -> 97655.02 | L101: =SUM(L102) -> 3325597 | N101: =SUM(N102) -> 3345597 | Q101: =+Q102 -> 31379.78 | R101: =+R102 -> 31379.78 | S101: =SUM(N101:Q101) -> 3376976.8 | T101: =N101+R101 -> 3376976.8 | U101: =L101*100/L11 -> 73.676183 | V101: =S101*100/S11 -> 73.647908
B102: 14.1.5. | C102: Aktywizacja zawodowa osób niepełnosprawnych | D102: Zwiększenie udziału osób niepełnosprawnych aktywnych zawodowo | E102: Liczba osób niepełnosprawnych objętych wsparciem w zakresie reahabilitacji zawodowej | F102: =SUM(F103,F115,F116) -> 375430 | G102: =SUM(G103,G115,G116) -> 379040 | H102: =J102+S102 -> 3615129.8 | I102: =K102+T102 -> 3474631.8 | J102: =J103+J114+J116 -> 238153.01 | K102: =K103+K114+K116 -> 97655.02 | L102: =SUM(L103+L114+L116) -> 3325597 | N102: =SUM(N103+N114+N116) -> 3345597 | Q102: =+Q103+Q114+Q116 -> 31379.78 | R102: =+R103+R114+R116 -> 31379.78 | S102: =SUM(N102:Q102) -> 3376976.8 | T102: =N102+R102 -> 3376976.8 | U102: =L102*100/L11 -> 73.676183 | V102: =S102*100/S11 -> 73.647908 | W102: =SUM(J103,J114,J116) -> 238153.01 | X102: =SUM(Q103,Q114,Q116) -> 31379.78
B103: 14.1.5.1. | C103: Wspieranie zatrudnienia i przeciwdziałanie bezrobociu osób niepełnosprawnych | D103: Utrzymanie poziomu zatrudnienia osób niepełnosprawnych wspartych działaniami PFRON | E103: Liczba osób niepełnosprawnych objętych wsparciem | F103: =SUM(F104:F105,F107:F108) -> 331846 | G103: =SUM(G104:G105,G107:G108) -> 334000 | H103: =J103+S103 -> 3341077.6 | I103: =K103+T103 -> 3210202.8 | J103: =U11*68% -> 221841.16 | K103: =W11*68% -> 90966.32 | L103: =SUM(L104:L109) -> 3070006 | N103: =SUM(N104:N110) -> 3090006 | Q103: =V11*68% -> 29230.48 | R103: =X11*68% -> 29230.48 | S103: =SUM(N103:Q103) -> 3119236.5 | T103: =N103+R103 -> 3119236.5 | U103: =L103*100/L11 -> 68.01375 | V103: =S103*100/S11 -> 68.026894
C104: Dofinansowanie do wynagrodzeń pracowników niepelnosprawnych art. 26 a | F104: 301024 | G104: 305000 | L104: ='Plan 2014-17 Wydatki'!U31/1000 -> 3000000 | M104: ='Plan 2014-17 Wydatki'!V31/1000 -> 0 | N104: =SUM(L104:M104) -> 3000000 | T104: =N104+R104 -> 3000000
...

Sheet PFC D (2)
A2: Część D Plan finansowy w układzie zadaniowym
A3: Kod klasyfikacji zadaniowej | B3: Cel | C3: Miernik | H3: Wydatki według źródeł finansowania / Koszty
H4: 2017 r.
H5: w tysiącach złotych
C6: Nazwa | D6: Wartość bazowa | E6: Docelowa | H6: Ogółem (9+13+15+16) | I6: Dotacje z budżetu państwa | M6: Środki otrzymane od innych jednostek SFP o których mowa w art. 9 pkt 5-7 i 14 uofp | O6: Budżet Środków Europejskich | P6: Pozostałe środki
E7: 2017 r. | F7: 2018 r. | G7: 2019 r. | I7: Kwota dotacji | J7: Część budżetowa | K7: Dział klasyfikacji budżetowej | L7: Rozdział klasyfikacji budżetowej | M7: Kwota przekazanych środków | N7: Jednostka przekazująca
A8: 1 | B8: 2 | C8: 3 | D8: 4 | E8: 5 | F8: 6 | G8: 7 | H8: 8 | I8: 9 | J8: 10 | K8: 11 | L8: 12 | M8: 13 | N8: 14 | O8: 15 | P8: 16
A9: 13.1 | H9: =I9+M9+O9+P9 -> 1298605.2 | I9: =I10 -> 1647 | O9: =O10 -> 11972 | P9: =SUM(P10) -> 1284986.2
A10: 13.1 3 | H10: =I10+M10+O10+P10 -> 1298605.2 | I10: =SUM(I11:I13) -> 1647 | O10: =SUM(O11:O13) -> 11972 | P10: =SUM(P11:P13) -> 1284986.2
A11: 13.1.3.1 | H11: =I11+M11+O11+P11 -> 843870.14 | P11: ='BZ-zmiany (2)'!H37 -> 843870.14
A12: 13.1.3.2 | H12: =I12+M12+O12+P12 -> 182592.92 | I12: =('Pl 2016-20 PFC'!F98+'Pl 2016-20 PFC'!F97)/1000 -> 1647 | J12: 44 | K12: 853 | L12: 85324 | O12: ='Pl 2016-20 PFC'!D213/1000 -> 11972 | P12: ='BZ-zmiany (2)'!H42-'PFC D (2)'!O12-'PFC D (2)'!I12 -> 168973.92
A13: 13.1.3.4 | H13: =I13+M13+O13+P13 -> 272142.15 | P13: ='BZ-zmiany (2)'!H93 -> 272142.15
A14: 14.1 | H14: =I14+M14+O14+P14 -> 3615129.8 | I14: =SUM(I15) -> 745360 | P14: =SUM(P15) -> 2869769.8
A15: 14.1.5 | H15: =I15+M15+O15+P15 -> 3615129.8 | I15: =SUM(I16:I18) -> 745360 | P15: =SUM(P16:P18) -> 2869769.8
A16: 14.1.5.1 | H16: =I16+M16+O16+P16 -> 3341077.6 | I16: ='Pl 2016-20 PFC'!F94/1000 -> 745360 | J16: 44 | K16: 853 | L16: 85324 | P16: ='BZ-zmiany (2)'!H103-I16-O16 -> 2595717.6
A17: 14.1.5.2 | H17: =I17+M17+O17+P17 -> 110384.46 | P17: ='BZ-zmiany (2)'!H114 -> 110384.46
A18: 14.1.5.3 | H18: =I18+M18+O18+P18 -> 163667.69 | P18: ='BZ-zmiany (2)'!H116 -> 163667.69
H19: =SUM(H9,H14)-1 -> 4913734 | P19: =P14+P9-1 -> 4154755
A23: sporządził
B24: (imię i nazwisko, stanowisko służbowe)
A26: nr telefonu 22 50 55 adres e-mail
A32: data ......................... podpis .........................

Sheet PFC D kasowo
P1: wersja kasowa
A2: Część D Plan finansowy w układzie zadaniowym | AH2: wersja kasowa
A3: Kod klasyfikacji zadaniowej | B3: Cel | C3: Miernik | H3: Wydatki według źródeł finansowania / Koszty
H4: 2017 r. | Q4: 2016 r. | Z4: 2017 r.
H5: w tysiącach złotych
C6: Nazwa | D6: Wartość bazowa | E6: Docelowa | H6: Ogółem (9+13+15+16) | I6: Dotacje z budżetu państwa | M6: Środki otrzymane od innych jednostek SFP o których mowa w art. 9 pkt 5-7 i 14 uofp | O6: Budżet Środków Europejskich | P6: Pozostałe środki | Q6: Ogółem (18+22+24+25) | R6: Dotacje z budżetu państwa | V6: Środki otrzymane od innych jednostek SFP o których mowa w art. 9 pkt 5-7 i 14 uofp | X6: Budżet Środków Europejskich | Y6: Pozostałe środki | Z6: Ogółem (27+31+33+34) | AA6: Dotacje z budżetu państwa | AE6: Środki otrzymane od innych jednostek SFP o których mowa w art. 9 pkt 5-7 i 14 uofp | AG6: Budżet Środków Europejskich | AH6: Pozostałe środki
E7: 2016 r. | F7: 2017 r. | G7: 2018 r. | I7: Kwota dotacji | J7: Część budżetowa | K7: Dział klasyfikacji budżetowej | L7: Rozdział klasyfikacji budżetowej | M7: Kwota przekazanych środków | N7: Jednostka przekazująca | R7: Kwota dotacji | S7: Część budżetowa | T7: Dział klasyfikacji budżetowej | U7: Rozdział klasyfikacji budżetowej | V7: Kwota przekazanych środków | W7: Jednostka przekazująca | AA7: Kwota dotacji | AB7: Część budżetowa | AC7: Dział klasyfikacji budżetowej | AD7: Rozdział klasyfikacji budżetowej | AE7: Kwota przekazanych środków | AF7: Jednostka przekazująca
A8: 1 | B8: 2 | C8: 3 | D8: 4 | E8: 5 | F8: 6 | G8: 7 | H8: 8 | I8: 9 | J8: 10 | K8: 11 | L8: 12 | M8: 13 | N8: 14 | O8: 15 | P8: 16 | Q8: 17 | R8: 18 | S8: 19 | T8: 20 | U8: 21 | V8: 22 | W8: 23 | X8: 24 | Y8: 25 | Z8: 26 | AA8: 27 | AB8: 28 | AC8: 29 | AD8: 30 | AE8: 31 | AF8: 32 | AG8: 33 | AH8: 34
A9: 13.1 | H9: =I9+M9+O9+P9 -> 1246640.2 | I9: =I10 -> 1647 | O9: =O10 -> 9062 | P9: =SUM(P10) -> 1235931.2
A10: 13.1 3 | H10: =I10+M10+O10+P10 -> 1246640.2 | I10: =SUM(I11:I12) -> 1647 | O10: =SUM(O11:O12) -> 9062 | P10: =SUM(P11:P13) -> 1235931.2
A11: 13.1.3.1 | H11: =I11+M11+O11+P11 -> 809226.8 | P11: ='BZ-zmiany (2)'!I37 -> 809226.8
A12: 13.1.3.2 | H12: =I12+M12+O12+P12 -> 174894.4 | I12: =('Pl 2016-20 PFC'!D98+'Pl 2016-20 PFC'!D97)/1000 -> 1647 | J12: 44 | K12: 853 | L12: 85324 | O12: ='Pl 2016-20 PFC'!D100/1000 -> 9062 | P12: ='BZ-zmiany (2)'!I42-'PFC D kasowo'!I12-O12 -> 164185.4
A13: 13.1.3.4 | H13: =I13+M13+O13+P13 -> 262519 | P13: ='BZ-zmiany (2)'!I93 -> 262519
A14: 14.1 | H14: =I14+M14+O14+P14 -> 3474631.8 | I14: =SUM(I15) -> 745360 | P14: =SUM(P15) -> 2729271.8
A15: 14.1.5 | H15: =I15+M15+O15+P15 -> 3474631.8 | I15: =SUM(I16:I18) -> 745360 | P15: =SUM(P16:P18) -> 2729271.8
A16: 14.1.5.1 | H16: =I16+M16+O16+P16 -> 3210202.8 | I16: ='Pl 2016-20 PFC'!D94/1000 -> 745360 | J16: 44 | K16: 853 | L16: 85324 | P16: ='BZ-zmiany (2)'!I103-'PFC D kasowo'!I16 -> 2464842.8
A17: 14.1.5.2 | H17: =I17+M17+O17+P17 -> 106535.2 | P17: ='BZ-zmiany (2)'!I114 -> 106535.2
A18: 14.1.5.3 | H18: =I18+M18+O18+P18 -> 157893.8 | P18: ='BZ-zmiany (2)'!I116 -> 157893.8
H19: =SUM(H9,H14)-1 -> 4721271 | P19: =P14+P9-1 -> 3965202 | Q19: =SUM(Q9,Q14) -> 0 | Z19: =SUM(Z9,Z14) -> 0
A23: sporządził Dominik Żak, Główny Specjalista ds. planowania i sprawozdawczości
B24: (imię i nazwisko, stanowisko służbowe)
A26: nr telefonu 22 50 55 398 adres e-mail Dominik_Zak@pfron.org.pl
A32: data ......................... podpis .........................

Sheet Rozl. poż. og.-plan 2008-10
A4: Projekt planu na 2010 rok
A5: Rozliczenie pożyczek
I6: w złotych
A7: L.p. | B7: Wyszczególnienie | D7: należności na 01.01. | E7: udzielone pożyczki | F7: spłacone pożyczki i odsetki | G7: umorzone i spisane ze stanu pożyczki | H7: Rozliczone pożyczki, odsetki i zobowiązania | I7: należności na koniec okresu
A10: I | C10: ZPCH (§ 2450)
A11: 1 | B11: 2009 r. | C11: - plan | D11: 27280899 | E11: 54900 | F11: 495360 | G11: 1622044 | H11: 725771 | I11: =SUM(D11,E11)-SUM(F11:H11) -> 24492624
A12: 2 | B12: 2009 r. | C12: - plan po zmianach
A13: 3 | B13: 2009 r. | C13: - przewidywane wykonanie | D13: 24492624 | E13: 0 | F13: 900000 | G13: 4000000 | H13: 2000000 | I13: =SUM(D13,E13)-SUM(F13:H13) -> 17592624
A14: 4 | B14: 2010 r. | C14: - plan | D14: =I13 -> 17592624 | E14: — | F14: 800000 | G14: 4000000 | H14: 2000000 | I14: =SUM(D14,E14)-SUM(F14:H14) -> 10792624
A15: 5 | B15: 2011 r. | C15: - plan | D15: =I14 -> 10792624 | E15: — | F15: 700000 | G15: 4000000 | H15: 1800000 | I15: =SUM(D15,E15)-SUM(F15:H15) -> 4292624
A16: 6 | B16: 2012 r. | C16: - plan | D16: =I15 -> 4292624 | E16: — | F16: 600000 | G16: 3000000 | H16: 692624 | I16: =SUM(D16,E16)-SUM(F16:H16) -> 0
A18: II | C18: Programy specjalne - razem
A19: 1 | B19: 2009 r. | C19: - plan | D19: ='Rozl.poż.pr.cel.-plan 2008-10'!D58 -> 0 | E19: ='Rozl.poż.pr.cel.-plan 2008-10'!E58 -> 0 | F19: ='Rozl.poż.pr.cel.-plan 2008-10'!F58 -> 0 | G19: ='Rozl.poż.pr.cel.-plan 2008-10'!G58 -> 0 | H19: ='Rozl.poż.pr.cel.-plan 2008-10'!H58 -> 0 | I19: ='Rozl.poż.pr.cel.-plan 2008-10'!I58 -> 0
A20: 2 | B20: 2009 r. | C20: - plan po zmianach | D20: ='Rozl.poż.pr.cel.-plan 2008-10'!D59 -> 0 | E20: ='Rozl.poż.pr.cel.-plan 2008-10'!E59 -> 0 | F20: ='Rozl.poż.pr.cel.-plan 2008-10'!F59 -> 0 | G20: ='Rozl.poż.pr.cel.-plan 2008-10'!G59 -> 0 | H20: ='Rozl.poż.pr.cel.-plan 2008-10'!H59 -> 0 | I20: ='Rozl.poż.pr.cel.-plan 2008-10'!I59 -> 0
A21: 3 | B21: 2009 r. | C21: - przewidywane wykonanie | D21: ='Rozl.poż.pr.cel.-plan 2008-10'!D60 -> 147935 | E21: ='Rozl.poż.pr.cel.-plan 2008-10'!E60 -> 0 | F21: ='Rozl.poż.pr.cel.-plan 2008-10'!F60 -> 62198 | G21: ='Rozl.poż.pr.cel.-plan 2008-10'!G60 -> 0 | H21: ='Rozl.poż.pr.cel.-plan 2008-10'!H60 -> 35942 | I21: ='Rozl.poż.pr.cel.-plan 2008-10'!I60 -> 49795
A22: 4 | B22: 2010 r. | C22: - plan | D22: ='Rozl.poż.pr.cel.-plan 2008-10'!D61 -> 49795 | E22: ='Rozl.poż.pr.cel.-plan 2008-10'!E61 -> 0 | F22: ='Rozl.poż.pr.cel.-plan 2008-10'!F61 -> 6050 | G22: ='Rozl.poż.pr.cel.-plan 2008-10'!G61 -> 0 | H22: ='Rozl.poż.pr.cel.-plan 2008-10'!H61 -> 42218 | I22: ='Rozl.poż.pr.cel.-plan 2008-10'!I61 -> 1527
A23: 5 | B23: 2011 r. | C23: - plan | D23: ='Rozl.poż.pr.cel.-plan 2008-10'!D62 -> 1527 | E23: ='Rozl.poż.pr.cel.-plan 2008-10'!E62 -> 0 | F23: ='Rozl.poż.pr.cel.-plan 2008-10'!F62 -> 1527 | G23: ='Rozl.poż.pr.cel.-plan 2008-10'!G62 -> 0 | H23: ='Rozl.poż.pr.cel.-plan 2008-10'!H62 -> 0 | I23: ='Rozl.poż.pr.cel.-plan 2008-10'!I62 -> 0
A24: 6 | B24: 2012 r. | C24: - plan | D24: ='Rozl.poż.pr.cel.-plan 2008-10'!D63 -> 0 | E24: ='Rozl.poż.pr.cel.-plan 2008-10'!E63 -> 0 | F24: ='Rozl.poż.pr.cel.-plan 2008-10'!F63 -> 0 | G24: ='Rozl.poż.pr.cel.-plan 2008-10'!G63 -> 0 | H24: ='Rozl.poż.pr.cel.-plan 2008-10'!H63 -> 0 | I24: ='Rozl.poż.pr.cel.-plan 2008-10'!I63 -> 0
C26: RAZEM pożyczki na zadania ustawowe i programy specjalne
A27: 1 | B27: 2009 r. | C27: - plan | D27: =SUM(D11,D19) -> 27280899 | E27: =SUM(E11,E19) -> 54900 | F27: =SUM(F11,F19) -> 495360 | G27: =SUM(G11,G19) -> 1622044 | H27: =SUM(H11,H19) -> 725771 | I27: =SUM(I11,I19) -> 24492624
A28: 2 | B28: 2009 r. | C28: - plan po zmianach | D28: =SUM(D12,D20) -> 0 | E28: =SUM(E12,E20) -> 0 | F28: =SUM(F12,F20) -> 0 | G28: =SUM(G12,G20) -> 0 | H28: =SUM(H12,H20) -> 0 | I28: =SUM(I12,I20) -> 0
A29: 3 | B29: 2009 r. | C29: - przewidywane wykonanie | D29: =SUM(D13,D21) -> 24640559 | E29: =SUM(E13,E21) -> 0 | F29: =SUM(F13,F21) -> 962198 | G29: =SUM(G13,G21) -> 4000000 | H29: =SUM(H13,H21) -> 2035942 | I29: =SUM(I13,I21) -> 17642419
A30: 4 | B30: 2010 r. | C30: - plan | D30: =SUM(D14,D22) -> 17642419 | E30: =SUM(E14,E22) -> 0 | F30: =SUM(F14,F22) -> 806050 | G30: =SUM(G14,G22) -> 4000000 | H30: =SUM(H14,H22) -> 2042218 | I30: =SUM(I14,I22) -> 10794151
A31: 5 | B31: 2011 r. | C31: - plan | D31: =SUM(D15,D23) -> 10794151 | E31: =SUM(E15,E23) -> 0 | F31: =SUM(F15,F23) -> 701527 | G31: =SUM(G15,G23) -> 4000000 | H31: =SUM(H15,H23) -> 1800000 | I31: =SUM(I15,I23) -> 4292624
A32: 6 | B32: 2012 r. | C32: - plan | D32: =SUM(D16,D24) -> 4292624 | E32: =SUM(E16,E24) -> 0 | F32: =SUM(F16,F24) -> 600000 | G32: =SUM(G16,G24) -> 3000000 | H32: =SUM(H16,H24) -> 692624 | I32: =SUM(I16,I24) -> 0
C34: Pozostałe pożyczki (ZFŚS)
A35: 1 | B35: 2009 r. | C35: - plan | D35: 0 | E35: 0 | F35: 0 | G35: 0 | H35: — | I35: =SUM(D35,E35)-SUM(F35,G35) -> 0
A36: 2 | B36: 2009 r. | C36: - plan po zmianach
A37: 3 | B37: 2009 r. | C37: - przewidywane wykonanie | D37: 1571558.2 | E37: 1700000 | F37: 1600000 | G37: 5000 | H37: — | I37: =SUM(D37,E37)-SUM(F37,G37) -> 1666558.2
A38: 4 | B38: 2010 r. | C38: - plan | D38: =I37 -> 1666558.2 | E38: 1750000 | F38: 1650000 | G38: 5000 | H38: — | I38: =SUM(D38,E38)-SUM(F38,G38) -> 1761558.2
A39: 5 | B39: 2011 r. | C39: - plan | D39: =I38 -> 1761558.2 | E39: 1850000 | F39: 1800000 | G39: 5000 | H39: — | I39: =SUM(D39,E39)-SUM(F39,G39) -> 1806558.2
A40: 6 | B40: 2012 r. | C40: - plan | D40: =I39 -> 1806558.2 | E40: 1850000 | F40: 1760000 | G40: 5000 | H40: — | I40: =SUM(D40,E40)-SUM(F40,G40) -> 1891558.2
C42: OGÓŁEM pożyczki PFRON
A43: 1 | B43: 2009 r. | C43: - plan | D43: =SUM(D27,D35) -> 27280899 | E43: =SUM(E27,E35) -> 54900 | F43: =SUM(F27,F35) -> 495360 | G43: =SUM(G27,G35) -> 1622044 | H43: =SUM(H27,H35) -> 725771 | I43: =SUM(I27,I35) -> 24492624
A44: 2 | B44: 2009 r. | C44: - plan po zmianach
A45: 3 | B45: 2009 r. | C45: - przewidywane wykonanie | D45: =SUM(D29,D37) -> 26212117 | E45: =SUM(E29,E37) -> 1700000 | F45: =SUM(F29,F37) -> 2562198 | G45: =SUM(G29,G37) -> 4005000 | H45: =SUM(H29,H37) -> 2035942 | I45: =SUM(I29,I37) -> 19308977
A46: 4 | B46: 2010 r. | C46: - plan | D46: =SUM(D30,D38) -> 19308977 | E46: =SUM(E30,E38) -> 1750000 | F46: =SUM(F30,F38) -> 2456050 | G46: =SUM(G30,G38) -> 4005000 | H46: =SUM(H30,H38) -> 2042218 | I46: =SUM(I30,I38) -> 12555709
A47: 5 | B47: 2011 r. | C47: - plan | D47: =SUM(D31,D39) -> 12555709 | E47: =SUM(E31,E39) -> 1850000 | F47: =SUM(F31,F39) -> 2501527 | G47: =SUM(G31,G39) -> 4005000 | H47: =SUM(H31,H39) -> 1800000 | I47: =SUM(I31,I39) -> 6099182.2
A48: 6 | B48: 2012 r. | C48: - plan | D48: =SUM(D32,D40) -> 6099182.2 | E48: =SUM(E32,E40) -> 1850000 | F48: =SUM(F32,F40) -> 2360000 | G48: =SUM(G32,G40) -> 3005000 | H48: =SUM(H32,H40) -> 692624 | I48: =SUM(I32,I40) -> 1891558.2

Sheet Rozl.poż.pr.cel.-plan 2008-10
A3: Projekt planu na 2010 rok
A4: Rozliczenie pożyczek - Programy specjalne
I5: w złotych
A6: L.p. | B6: Wyszczególnienie | D6: należności na 01.01. | E6: udzielone pożyczki | F6: spłacone pożyczki i odsetki | G6: umorzone i spisane ze stanu pożyczki | H6: Rozliczone pożyczki, odsetki i zobowiązania | I6: należności na koniec okresu
A9: A | C9: Program samochodowy '95 (§ 3030)
A10: 1 | B10: 2009 r. | C10: - plan | D10: 0 | E10: — | F10: 0 | G10: — | H10: — | I10: =SUM(D10,E10)-SUM(F10:H10) -> 0
A11: 2 | B11: 2009 r. | C11: - plan po zmianach | E11: — | G11: — | I11: =SUM(D11,E11)-SUM(F11:H11) -> 0
A12: 3 | B12: 2009 r. | C12: - przewidywane wykonanie | D12: =64618 -> 64618 | E12: — | F12: =1200 -> 1200 | G12: — | H12: 20000 | I12: =SUM(D12,E12)-SUM(F12:H12) -> 43418
A13: 4 | B13: 2010 r. | C13: - plan | D13: =I12 -> 43418 | E13: — | F13: 1200 | G13: — | H13: 42218 | I13: =SUM(D13,E13)-SUM(F13:H13) -> 0
A14: 5 | B14: 2011 r. | C14: - plan | D14: =I13 -> 0 | E14: — | F14: 0 | G14: — | H14: — | I14: =SUM(D14,E14)-SUM(F14:H14) -> 0
A15: 6 | B15: 2012 r. | C15: - plan | D15: =I14 -> 0 | E15: — | F15: 0 | G15: — | H15: — | I15: =SUM(D15,E15)-SUM(F15:H15) -> 0
A17: B | C17: Program "MEDIUM" i "MEDIUM II" (§ 2450)
A18: 1 | B18: 2009 r. | C18: - plan | E18: — | F18: 0 | G18: 0 | H18: — | I18: =SUM(D18,E18)-SUM(F18:H18) -> 0
A19: 2 | B19: 2009 r. | C19: - plan po zmianach | I19: =SUM(D19,E19)-SUM(F19:H19) -> 0
A20: 3 | B20: 2009 r. | C20: - przewidywane wykonanie | D20: 15942 | E20: — | F20: 0 | G20: — | H20: 15942 | I20: =SUM(D20,E20)-SUM(F20:H20) -> 0
A21: 4 | B21: 2010 r. | C21: - plan | D21: =I20 -> 0 | E21: — | F21: 0 | G21: — | H21: 0 | I21: =SUM(D21,E21)-SUM(F21:H21) -> 0
A22: 5 | B22: 2011 r. | C22: - plan | D22: =I21 -> 0 | F22: 0 | I22: =SUM(D22,E22)-SUM(F22:H22) -> 0
A23: 6 | B23: 2012 r. | C23: - plan | D23: =I22 -> 0 | F23: 0 | G23: 0 | I23: =SUM(D23,E23)-SUM(F23:H23) -> 0
A25: C | C25: Program "Premia dla Aktywnych" (§ 3030)
A26: 1 | B26: 2009 r. | C26: - plan | D26: 0 | E26: — | F26: 0 | G26: 0 | H26: — | I26: =SUM(D26:E26)-SUM(F26:H26) -> 0
A27: 2 | B27: 2009 r. | C27: - plan po zmianach
A28: 3 | B28: 2009 r. | C28: - przewidywane wykonanie | D28: 0 | E28: — | F28: 0 | G28: — | H28: 0 | I28: =SUM(D28:E28)-SUM(F28:H28) -> 0
A29: 4 | B29: 2010 r. | C29: - plan
A30: 5 | B30: 2011 r. | C30: - plan
A31: 6 | B31: 2012 r. | C31: - plan
A33: D | C33: Program "Pegaz" (§ 3030)
A34: 1 | B34: 2009 r. | C34: - plan | D34: 0 | E34: — | F34: 0 | G34: 0 | H34: — | I34: =SUM(D34,E34)-SUM(F34:H34) -> 0
A35: 2 | B35: 2009 r. | C35: - plan po zmianach
A36: 3 | B36: 2009 r. | C36: - przewidywane wykonanie | D36: 54996 | E36: — | F36: 48912 | G36: 0 | H36: 0 | I36: =SUM(D36,E36)-SUM(F36:H36) -> 6084
A37: 4 | B37: 2010 r. | C37: - plan | D37: =I36 -> 6084 | E37: — | F37: 4557 | G37: 0 | H37: 0 | I37: =SUM(D37,E37)-SUM(F37:H37) -> 1527
A38: 5 | B38: 2011 r. | C38: - plan | D38: =I37 -> 1527 | E38: — | F38: 1527 | G38: 0 | H38: 0 | I38: =SUM(D38,E38)-SUM(F38:H38) -> 0
A39: 6 | B39: 2012 r. | C39: - plan | D39: =I38 -> 0 | E39: — | F39: 0 | G39: 0 | H39: 0 | I39: =SUM(D39,E39)-SUM(F39:H39) -> 0
A41: E | C41: Program "Komputer dla Homera" (§ 3030)
A42: 1 | B42: 2009 r. | C42: - plan | D42: 0 | E42: — | F42: 0 | G42: 0 | H42: — | I42: =SUM(D42:E42)-SUM(F42:H42) -> 0
A43: 2 | B43: 2009 r. | C43: - plan po zmianach
A44: 3 | B44: 2009 r. | C44: - przewidywane wykonanie | D44: 12379 | E44: — | F44: 12086 | G44: 0 | H44: 0 | I44: =SUM(D44:E44)-SUM(F44:H44) -> 293
A45: 4 | B45: 2010 r. | C45: - plan | D45: =I44 -> 293 | E45: — | F45: 293 | G45: 0 | H45: — | I45: =SUM(D45:E45)-SUM(F45:H45) -> 0
A46: 5 | B46: 2011 r. | C46: - plan | D46: =I45 -> 0 | E46: — | F46: 0 | G46: 0 | H46: — | I46: =SUM(D46:E46)-SUM(F46:H46) -> 0
A47: 6 | B47: 2012 r. | C47: - plan | D47: =I46 -> 0 | E47: — | F47: 0 | G47: — | H47: — | I47: =SUM(D47:E47)-SUM(F47:H47) -> 0
A49: F | C49: Program "Sezam" (§ 2450)
A50: 1 | B50: 2009 r. | C50: - plan | D50: 0 | E50: — | F50: 0 | G50: 0 | H50: — | I50: =SUM(D50:E50)-SUM(F50:H50) -> 0
A51: 2 | B51: 2009 r. | C51: - plan po zmianach | D51: 0 | F51: 0 | G51: 0
A52: 3 | B52: 2009 r. | C52: - przewidywane wykonanie | D52: 0 | E52: — | F52: 0 | G52: 0 | H52: 0 | I52: =SUM(D52:E52)-SUM(F52:H52) -> 0
A53: 4 | B53: 2010 r. | C53: - plan | D53: 0 | E53: — | F53: 0 | G53: 0 | H53: — | I53: =SUM(D53:E53)-SUM(F53:H53) -> 0
A54: 5 | B54: 2011 r. | C54: - plan | D54: 0 | E54: — | F54: 0 | G54: 0 | H54: — | I54: =SUM(D54:E54)-SUM(F54:H54) -> 0
A55: 6 | B55: 2012 r. | C55: - plan | D55: 0 | E55: — | F55: 0 | G55: 0 | H55: — | I55: =SUM(D55:E55)-SUM(F55:H55) -> 0
C57: Razem Programy Celowe
A58: 1 | B58: 2009 r. | C58: - plan | D58: =SUM(D10,D18,D26,D34,D42,D50) -> 0 | E58: =SUM(E10,E18,E26,E34,E42,E50) -> 0 | F58: =SUM(F10,F18,F26,F34,F42,F50) -> 0 | G58: =SUM(G10,G18,G26,G34,G42,G50) -> 0 | H58: =SUM(H10,H18,H26,H34,H42,H50) -> 0 | I58: =SUM(I10,I18,I26,I34,I42,I50) -> 0
A59: 2 | B59: 2009 r. | C59: - plan po zmianach | D59: =SUM(D11,D19,D27,D35,D43,D51) -> 0 | E59: =SUM(E11,E19,E27,E35,E43,E51) -> 0 | F59: =SUM(F11,F19,F27,F35,F43,F51) -> 0 | G59: =SUM(G11,G19,G27,G35,G43,G51) -> 0 | H59: =SUM(H11,H19,H27,H35,H43,H51) -> 0 | I59: =SUM(I11,I19,I27,I35,I43,I51) -> 0
A60: 3 | B60: 2009 r. | C60: - przewidywane wykonanie | D60: =SUM(D12,D20,D28,D36,D44,D52) -> 147935 | E60: =SUM(E12,E20,E28,E36,E44,E52) -> 0 | F60: =SUM(F12,F20,F28,F36,F44,F52) -> 62198 | G60: =SUM(G12,G20,G28,G36,G44,G52) -> 0 | H60: =SUM(H12,H20,H28,H36,H44,H52) -> 35942 | I60: =SUM(I12,I20,I28,I36,I44,I52) -> 49795
A61: 4 | B61: 2010 r. | C61: - plan | D61: =SUM(D13,D21,D29,D37,D45,D53) -> 49795 | E61: =SUM(E13,E21,E29,E37,E45,E53) -> 0 | F61: =SUM(F13,F21,F29,F37,F45,F53) -> 6050 | G61: =SUM(G13,G21,G29,G37,G45,G53) -> 0 | H61: =SUM(H13,H21,H29,H37,H45,H53) -> 42218 | I61: =SUM(I13,I21,I29,I37,I45,I53) -> 1527
A62: 5 | B62: 2011 r. | C62: - plan | D62: =SUM(D14,D22,D30,D38,D46,D54) -> 1527 | E62: =SUM(E14,E22,E30,E38,E46,E54) -> 0 | F62: =SUM(F14,F22,F30,F38,F46,F54) -> 1527 | G62: =SUM(G14,G22,G30,G38,G46,G54) -> 0 | H62: =SUM(H14,H22,H30,H38,H46,H54) -> 0 | I62: =SUM(I14,I22,I30,I38,I46,I54) -> 0
A63: 6 | B63: 2012 r. | C63: - plan | D63: =SUM(D15,D23,D31,D39,D47,D55) -> 0 | E63: =SUM(E15,E23,E31,E39,E47,E55) -> 0 | F63: =SUM(F15,F23,F31,F39,F47,F55) -> 0 | G63: =SUM(G15,G23,G31,G39,G47,G55) -> 0 | H63: =SUM(H15,H23,H31,H39,H47,H55) -> 0 | I63: =SUM(I15,I23,I31,I39,I47,I55) -> 0
F68: 3030 | G68: =SUM("$#ODWOŁANIE$#ODWOŁANIE","$#ODWOŁANIE$#ODWOŁANIE","$#ODWOŁANIE$#ODWOŁANIE","$#ODWOŁANIE$#ODWOŁANIE") -> #VALUE!
G69: =SUM(G10,G18,G34,G42) -> 0
G70: =SUM(G11,G19,G35,G43) -> 0
G71: =SUM(G12,G20,G36,G44) -> 0
F73: 2450 | G73: =SUM("$#ODWOŁANIE$#ODWOŁANIE","$#ODWOŁANIE$#ODWOŁANIE")+"$'Rozl. poż. og.-plan 2008-10'.$#ODWOŁANIE$#ODWOŁANIE" -> #VALUE!
G74: =SUM(G26,"$#ODWOŁANIE$#ODWOŁANIE")+'Rozl. poż. og.-plan 2008-10'!G11 -> #VALUE!
G75: =SUM(G27,"$#ODWOŁANIE$#ODWOŁANIE")+'Rozl. poż. og.-plan 2008-10'!G12 -> #VALUE!
G76: =SUM(G28,"$#ODWOŁANIE$#ODWOŁANIE")+'Rozl. poż. og.-plan 2008-10'!G13 -> #VALUE!
