Workbook

Sheet Pl 2016-20 PFC
A1: Część...............................................................
A2: (nr, nazwa)
A3: Dział...............................................................
A4: (nr, nazwa)
A5: Rozdział...........................................................
A6: (nr, nazwa)
A8: Nazwa funduszu...........................................................
A12: PLAN FINANSOWY FUNDUSZU CELOWEGO
A13: Część A
A14: Lp. | B14: Treść | D14: Plan wg Ustawy Budżetowej na | E14: Zmiany | F14: Plan po zmianach
D15: 2017 | F15: 2017
A19: I. | B19: Zadania wynikające z ustawy tworzącej fundusz celowy | D19: =SUM(D20:D21) -> 4913734000 | E19: =SUM(E20:E21) -> 0 | F19: =SUM(F20:F21) -> 4913734000
B20: - wydatki bieżące | D20: =SUM(D24,D27,D28,D29,D31,D35,D37,D40,D42,D44,D46:D47,D58,D60,D33,D62) -> 4771609000 | E20: =SUM(E24,E27,E28,E29,E31,E35,E37,E40,E42,E44,E46:E47,E58,E60,E33,E62) -> 0 | F20: =SUM(F24,F27,F28,F29,F31,F35,F37,F40,F42,F44,F46:F47,F58,F60,F33,F62) -> 4771609000
B21: - wydatki inwestycyjne | D21: =SUM(D25,D32,D36,D59,D45,D41) -> 142125000 | E21: =SUM(E25,E32,E36,E59,E45,E41) -> 0 | F21: =SUM(F25,F32,F36,F59,F45,F41) -> 142125000
A23: 1. | B23: Realizacja działań wyrównujących różnice między regionami - art. 47 ust. 1 pkt 1 | D23: =SUM(D24:D25) -> 50000000 | E23: =SUM(E24:E25) -> 0 | F23: =SUM(F24:F25) -> 50000000
A24: 1.1 | B24: - wydatki bieżące | D24: =D132+D170 -> 3000000 | E24: =E132+E170 -> 0 | F24: =F132+F170 -> 3000000
A25: 1.2 | B25: - wydatki inwestycyjne | D25: =SUM(D305+D324) -> 47000000 | E25: =SUM(E305+E324) -> 0 | F25: =SUM(F305+F324) -> 47000000
A26: 2. | B26: Realizacja programów wspieranych ze środków pomocowych Unii Europejskiej - art. 47 ust. 1 pkt 2 | D26: =SUM(D27:D27) -> 3000000 | E26: =SUM(E27:E27) -> 0 | F26: =SUM(F27:F27) -> 3000000
A27: 2.1 | B27: - wydatki bieżące | D27: =SUM(D131,D169,D215,D216) -> 3000000 | E27: =SUM(E131,E169,E215,E216) -> 0 | F27: =SUM(F131,F169,F215,F216) -> 3000000
A28: 3. | B28: Dofinansowanie do wynagrodzeń pracowników niepełnosprawnych - art. 26a | D28: =SUM(D173) -> 3000000000 | E28: =SUM(E173) -> 0 | F28: =SUM(F173) -> 3000000000
A29: 4. | B29: Zrekompensowanie gminom dochodów utraconych z tytułu zastosowania ustawowych zwolnień dla prowadzacych zakłady pracy chronionej lub zakłady aktywności zawodowej z podatku od nieruchomości, rolnego,leśnego i od czynności cywilnoprawnych - art. 47 ust. 2 | D29: =SUM(D133) -> 57000000 | E29: =SUM(E133) -> 0 | F29: =SUM(F133) -> 57000000
A30: 5. | B30: Finansowanie w części lub całości badań, ekspertyz i analiz - art. 47 ust. 1 pkt 4 lit.b | D30: =SUM(D31:D32) -> 3000000 | E30: =SUM(E31:E32) -> 0 | F30: =SUM(F31:F32) -> 3000000
A31: 5.1 | B31: - wydatki bieżące | D31: =SUM(D134,D175) -> 2800000 | E31: =SUM(E134,E175) -> 0 | F31: =SUM(F134,F175) -> 2800000
A32: 5.2 | B32: - wydatki inwestycyjne | D32: =SUM(D307,D325) -> 200000 | E32: =SUM(E307,E325) -> 0 | F32: =SUM(F307,F325) -> 200000
A33: 6. | B33: Refundacja kosztów wydawania certyfikatów przez podmioty uprawnione do szkolenia psów asystujących art. 20b | D33: =D174 -> 15000 | E33: =E174 -> 0 | F33: =F174 -> 15000
A34: 7. | B34: Programy zatwierdzone przez Radę Nadzorczą, służące rehabilitacji społecznej i zawodowej - art. 47 ust. 1 pkt 4 lit.a | D34: =SUM(D35:D36) -> 128000000 | E34: =SUM(E35:E36) -> 0 | F34: =SUM(F35:F36) -> 128000000
A35: 7.1 | B35: - wydatki bieżące | D35: =SUM(D136,D177,D197) -> 87800000 | E35: =SUM(E136,E177,E197) -> 0 | F35: =SUM(F136,F177,F197) -> 87800000
A36: 7.2 | B36: - wydatki inwestycyjne | D36: =SUM(D308,D328) -> 40200000 | E36: =SUM(E308,E328) -> 0 | F36: =SUM(F308,F328) -> 40200000
A37: 8. | B37: Dofinansowanie oprocentowania kredytów bankowych - art. 32 ust. 1 pkt 1 | D37: =SUM(D38) -> 2500000 | E37: =SUM(E38) -> 0 | F37: =SUM(F38) -> 2500000
A38: 8.1 | B38: - wydatki bieżące | D38: =D171 -> 2500000 | E38: =E171 -> 0 | F38: =F171 -> 2500000
A39: 9. | B39: Zwrot kosztów budowy lub rozbudowy obiektów i pomieszczeń zakładu, transportowych i administracyjnych - art. 32 ust. 1 pkt 2 | D39: =SUM(D40:D41) -> 7206000 | E39: =SUM(E40:E41) -> 0 | F39: =SUM(F40:F41) -> 7206000
A40: 9.1 | B40: - wydatki bieżące | D40: =D172 -> 6128000 | E40: =E172 -> 0 | F40: =F172 -> 6128000
A41: 9.2 | B41: - wydatki inwestycyjne | D41: =D326 -> 1078000 | E41: =E326 -> 0 | F41: =F326 -> 1078000
A42: 10. | B42: Refundacja składek na ubezpieczenia społeczne - art. 25a | D42: =SUM(D165) -> 103000000 | E42: =SUM(E165) -> 0 | F42: =SUM(F165) -> 103000000
A43: 11. | B43: Zadania zlecane - art. 36 | D43: =SUM(D44:D45) -> 246981000 | E43: =SUM(E44:E45) -> 0 | F43: =SUM(F44:F45) -> 246981000
A44: 11.1 | B44: - wydatki bieżące | D44: =SUM(D135+D176) -> 244831000 | E44: =SUM(E135+E176) -> 0 | F44: =SUM(F135+F176) -> 244831000
A45: 11.2 | B45: - wydatki inwestycyjne | D45: =SUM(D327+D306) -> 2150000 | E45: =SUM(E327+E306) -> 0 | F45: =SUM(F327+F306) -> 2150000
A46: 12. | B46: Przelewy redystrybucyjne wymienione w części B pkt III ppkt 6 | D46: =D342 -> 930000000 | E46: =E342 -> 0 | F46: =F342 -> 930000000
A47: 13. | B47: Wydatki bieżące (własne), z tego: | D47: =SUM(D48:D52,D57) -> 324604000 | E47: =SUM(E48:E52,E57) -> 0 | F47: =SUM(F48:F52,F57) -> 324604000
A48: 13.1 | B48: - wynagrodzenia | D48: =SUM(D240)+D217 -> 59616000 | E48: =SUM(E240)+E217 -> 0 | F48: =SUM(F240)+F217 -> 59616000
...

Sheet Pl 2014-17 PFC MF
A1: Część...............................................................
A2: (nr, nazwa)
A3: Dział............................................................... | H3: Załącznik nr 1 do Uchwały nr /2016 Zarządu PFRON z dnia kwietnia 2016 r.
A4: (nr, nazwa)
A5: Rozdział...........................................................
A6: (nr, nazwa)
A8: Nazwa funduszu........................................................... | I8: PROJEKT
A11: BUDŻET PAŃSTWA NA 2016 r.
A12: PLAN FINANSOWY PAŃSTWOWEGO FUNDUSZU REHABILITACJI OSÓB NIEPEŁNOSPRAWNYCH
A13: Część A
A14: Lp. | B14: Treść | D14: Plan po zmianach 2015 | E14: ='Pl 2016-20 PFC'!#REF! -> #REF! | F14: ='Pl 2016-20 PFC'!#REF! -> #REF! | G14: Plan wg. Ustawy Budżetowej zmieniony za zgodą MF z dnia 6 kwietnia 2017 r. i opinią KFP z dnia 7 kwietnia 2017 r. | H14: ='Pl 2016-20 PFC'!E67 -> Zmiany | I14: ='Pl 2016-20 PFC'!F67 -> Plan po zmianach 2017 | J14: ='Pl 2016-20 PFC'!#REF! -> #REF!
E15: ='Pl 2016-20 PFC'!D16:F16 -> 0 | G15: w tysiącach złotych
A16: 1 | B16: 2 | E16: 3 | F16: 4 | G16: 3 | H16: 4 | I16: 5 | J16: 7 | O16: =I18-I384 -> 192463000 | P16: =I56+I54 -> 192463000 | Q16: =P16-O16 -> 0
A18: I | B18: Zadania wynikające z ustawy tworzącej fundusz celowy | D18: =SUM(D19:D20) -> #REF! | E18: =SUM(E19:E20) -> #REF! | F18: =SUM(F19:F20) -> #REF! | G18: =SUM(G19:G20) -> 4913734000 | H18: =SUM(H19:H20) -> 0 | I18: =SUM(I19:I20) -> 4913734000 | J18: =SUM(J19:J20) -> #REF!
A19: 1. | B19: - wydatki bieżące | D19: =SUM(D23,D26,D27,D28,D30,D32,D34,D36,D39,D41,D43,D45:D46,D57,D59,D61) -> #REF! | E19: =SUM(E23,E26,E27,E28,E30,E32,E34,E36,E39,E41,E43,E45:E46,E57,E59,E61) -> #REF! | F19: =SUM(F23,F26,F27,F28,F30,F32,F34,F36,F39,F41,F43,F45:F46,F57,F59,F61) -> #REF! | G19: =SUM(G23,G26,G27,G28,G30,G32,G34,G36,G39,G41,G43,G45:G46,G57,G59,G61) -> 4771609000 | H19: =SUM(H23,H26,H27,H28,H30,H32,H34,H36,H39,H41,H43,H45:H46,H57,H59,H61) -> 0 | I19: =SUM(I23,I26,I27,I28,I30,I32,I34,I36,I39,I41,I43,I45:I46,I57,I59,I61) -> 4771609000 | J19: =SUM(J23,J26,J27,J28,J30,J32,J34,J36,J39,J41,J43,J45:J46,J57,J59,J61) -> #REF!
A20: 2. | B20: - wydatki inwestycyjne | D20: =SUM(D24,D31,D35,D58,D44,D40) -> #REF! | E20: =SUM(E24,E31,E35,E58,E44,E40) -> #REF! | F20: =SUM(F24,F31,F35,F58,F44,F40) -> #REF! | G20: =SUM(G24,G31,G35,G58,G44,G40) -> 142125000 | H20: =SUM(H24,H31,H35,H58,H44,H40) -> 0 | I20: =SUM(I24,I31,I35,I58,I44,I40) -> 142125000 | J20: =SUM(J24,J31,J35,J58,J44,J40) -> #REF!
A22: 1 | B22: Realizacja działań wyrównujących różnice między regionami - art. 47 ust. 1 pkt 1 ustawy z dnia 27 sierpnia 1997 r. o rehabilitacji zawodowej i społecznej oraz zatrudnianiu osób niepełnosprawnych (Dz. U z 2011 r. Nr 127, poz. 721, z póżn. zm.) | D22: =SUM(D23:D24) -> #REF! | E22: =SUM(E23:E24) -> #REF! | F22: =SUM(F23:F24) -> #REF! | G22: =SUM(G23:G24) -> 50000000 | H22: =SUM(H23:H24) -> 0 | I22: =SUM(I23:I24) -> 50000000 | J22: =SUM(J23:J24) -> #REF!
A23: 1.1 | B23: - wydatki bieżące | D23: =D123+D161 -> #REF! | E23: =E123+E161 -> #REF! | F23: =F123+F161 -> #REF! | G23: =G123+G161 -> 3000000 | H23: =H123+H161 -> 0 | I23: =I123+I161 -> 3000000 | J23: =J123+J161 -> #REF!
A24: 1.2 | B24: - wydatki inwestycyjne | D24: =SUM(D288+D307) -> #REF! | E24: =SUM(E288+E307) -> #REF! | F24: =SUM(F288+F307) -> #REF! | G24: =SUM(G288+G307) -> 47000000 | H24: =SUM(H288+H307) -> 0 | I24: =SUM(I288+I307) -> 47000000 | J24: =SUM(J288+J307) -> #REF!
A25: 2 | B25: Realizacja programów wspieranych ze środków pomocowych Unii Europejskiej - art. 47 ust. 1 pkt 2 | D25: =SUM(D26:D26) -> #REF! | E25: =SUM(E26:E26) -> #REF! | F25: =SUM(F26:F26) -> #REF! | G25: =SUM(G26:G26) -> 3000000 | H25: =SUM(H26:H26) -> 0 | I25: =SUM(I26:I26) -> 3000000 | J25: =SUM(J26:J26) -> #REF!
B26: - wydatki bieżące | D26: =SUM(D122,D160,D206,D207) -> #REF! | E26: =SUM(E122,E160,E206,E207) -> #REF! | F26: =SUM(F122,F160,F206,F207) -> #REF! | G26: =SUM(G122,G160,G206,G207) -> 3000000 | H26: =SUM(H122,H160,H206,H207) -> 0 | I26: =SUM(I122,I160,I206,I207) -> 3000000 | J26: =SUM(J122,J160,J206,J207) -> #REF!
A27: 3 | B27: Dofinansowanie do wynagrodzeń pracowników niepełnosprawnych - art. 26a | D27: =SUM(D164) -> #REF! | E27: =SUM(E164) -> #REF! | F27: =SUM(F164) -> #REF! | G27: =SUM(G164) -> 3000000000 | H27: =SUM(H164) -> 0 | I27: =SUM(I164) -> 3000000000 | J27: =SUM(J164) -> #REF!
A28: 4 | B28: Zrekompensowanie gminom dochodów utraconych z tytułu zastosowania ustawowych zwolnień dla prowadzacych zakłady pracy chronionej lub zakłady aktywności zawodowej z podatku od nieruchomości, rolnego,leśnego i od czynności cywilnoprawnych - art. 47 ust. 2 | D28: =SUM(D124) -> #REF! | E28: =SUM(E124) -> #REF! | F28: =SUM(F124) -> #REF! | G28: =SUM(G124) -> 57000000 | H28: =SUM(H124) -> 0 | I28: =SUM(I124) -> 57000000 | J28: =SUM(J124) -> #REF!
A29: 5 | B29: Finansowanie w części lub całości badań, ekspertyz i analiz - art. 47 ust. 1 pkt 5 lit.a | D29: =SUM(D30:D31) -> #REF! | E29: =SUM(E30:E31) -> #REF! | F29: =SUM(F30:F31) -> #REF! | G29: =SUM(G30:G31) -> 3000000 | H29: =SUM(H30:H31) -> 0 | I29: =SUM(I30:I31) -> 3000000 | J29: =SUM(J30:J31) -> #REF!
A30: 5.1 | B30: - wydatki bieżące | D30: =SUM(D125,D165) -> #REF! | E30: =SUM(E125,E165) -> #REF! | F30: =SUM(F125,F165) -> #REF! | G30: =SUM(G125,G165) -> 2800000 | H30: =SUM(H125,H165) -> 0 | I30: =SUM(I125,I165) -> 2800000 | J30: =SUM(J125,J165) -> #REF!
A31: 5.2 | B31: - wydatki inwestycyjne | D31: =SUM(D289,D308) -> #REF! | E31: =SUM(E289,E308) -> #REF! | F31: =SUM(F289,F308) -> #REF! | G31: =SUM(G289,G308) -> 200000 | H31: =SUM(H289,H308) -> 0 | I31: =SUM(I289,I308) -> 200000 | J31: =SUM(J289,J308) -> #REF!
A32: 6 | B32: Refundacja kosztów wydawania certyfikatów przez podmioty uprawnione do szkolenia psów asystujących art. 20b | D32: =D167 -> #REF! | E32: =E167 -> #REF! | F32: =F167 -> #REF! | G32: =G167 -> 15000 | H32: =H167 -> 0 | I32: =I167 -> 15000 | J32: =J167 -> #REF!
A33: 7 | B33: Programy zatwierdzone przez Radę Nadzorczą, służące rehabilitacji społecznej i zawodowej - art. 47 ust. 1 pkt 4 | D33: =SUM(D34:D35) -> #REF! | E33: =SUM(E34:E35) -> #REF! | F33: =SUM(F34:F35) -> #REF! | G33: =SUM(G34:G35) -> 128000000 | H33: =SUM(H34:H35) -> 0 | I33: =SUM(I34:I35) -> 128000000 | J33: =SUM(J34:J35) -> #REF!
A34: 7.1 | B34: - wydatki bieżące | D34: =SUM(D127,D168,D188) -> #REF! | E34: =SUM(E127,E168,E188) -> #REF! | F34: =SUM(F127,F168,F188) -> #REF! | G34: =SUM(G127,G168,G188) -> 87800000 | H34: =SUM(H127,H168,H188) -> 0 | I34: =SUM(I127,I168,I188) -> 87800000 | J34: =SUM(J127,J168,J188) -> #REF!
A35: 7.2 | B35: - wydatki inwestycyjne | D35: =SUM(D291,D311) -> #REF! | E35: =SUM(E291,E311) -> #REF! | F35: =SUM(F291,F311) -> #REF! | G35: =SUM(G291,G311) -> 40200000 | H35: =SUM(H291,H311) -> 0 | I35: =SUM(I291,I311) -> 40200000 | J35: =SUM(J291,J311) -> #REF!
A36: 8 | B36: Dofinansowanie oprocentowania kredytów bankowych - art. 32 ust. 1 pkt 1 | D36: =SUM(D37) -> #REF! | E36: =SUM(E37) -> #REF! | F36: =SUM(F37) -> #REF! | G36: =SUM(G37) -> 2500000 | H36: =SUM(H37) -> 0 | I36: =SUM(I37) -> 2500000 | J36: =SUM(J37) -> #REF!
A37: 8.1. | B37: - wydatki bieżące | D37: =D162 -> #REF! | E37: =E162 -> #REF! | F37: =F162 -> #REF! | G37: =G162 -> 2500000 | H37: =H162 -> 0 | I37: =I162 -> 2500000 | J37: =J162 -> #REF!
A38: 9 | B38: Zwrot kosztów budowy lub przebudowy związanej z modernizacją obiektów i pomieszczeń zakładu, transportowych i administracyjnych - art. 32 ust. 1 pkt 2 | D38: =SUM(D39:D40) -> #REF! | E38: =SUM(E39:E40) -> #REF! | F38: =SUM(F39:F40) -> #REF! | G38: =SUM(G39:G40) -> 7206000 | H38: =SUM(H39:H40) -> 0 | I38: =SUM(I39:I40) -> 7206000 | J38: =SUM(J39:J40) -> #REF!
A39: 9.1 | B39: - wydatki bieżące | D39: =D163 -> #REF! | E39: =E163 -> #REF! | F39: =F163 -> #REF! | G39: =G163 -> 6128000 | H39: =H163 | I39: =I163 -> 6128000 | J39: =J163 -> #REF!
A40: 9.2 | B40: - wydatki inwestycyjne | D40: =D309 -> #REF! | E40: =E309 -> #REF! | F40: =F309 -> #REF! | G40: =G309 -> 1078000 | H40: =H309 | I40: =I309 -> 1078000 | J40: =J309 -> #REF!
A41: 10 | B41: Refundacja składek na ubezpieczenia społeczne - art. 25a | D41: =SUM(D156) -> #REF! | E41: =SUM(E156) -> #REF! | F41: =SUM(F156) -> #REF! | G41: =SUM(G156) -> 103000000 | H41: =SUM(H156) -> 0 | I41: =SUM(I156) -> 103000000 | J41: =SUM(J156) -> #REF!
A42: 11 | B42: Zadania zlecane - art. 36 | D42: =SUM(D43:D44) -> #REF! | E42: =SUM(E43:E44) -> #REF! | F42: =SUM(F43:F44) -> #REF! | G42: =SUM(G43:G44) -> 246981000 | H42: =SUM(H43:H44) -> 0 | I42: =SUM(I43:I44) -> 246981000 | J42: =SUM(J43:J44) -> #REF!
A43: 11.1 | B43: - wydatki bieżące | D43: =D126+D166 -> #REF! | E43: =E126+E166 -> #REF! | F43: =F126+F166 -> #REF! | G43: =G126+G166 -> 244831000 | H43: =H126+H166 -> 0 | I43: =I126+I166 -> 244831000 | J43: =J126+J166 -> #REF!
A44: 11.2 | B44: - wydatki inwestycyjne | D44: =D310+D290 -> #REF! | E44: =E310+E290 -> #REF! | F44: =F310+F290 -> #REF! | G44: =G310+G290 -> 2150000 | H44: =H310+H290 -> 0 | I44: =I310+I290 -> 2150000 | J44: =J310+J290 -> #REF!
A45: 12 | B45: Przelewy redystrybucyjne | D45: =D325 -> #REF! | E45: =E325 -> #REF! | F45: =F325 -> #REF! | G45: =G325 -> 930000000 | H45: =H325 -> 0 | I45: =I325 -> 930000000 | J45: =J325 -> #REF!
...

Sheet czysty
A1: Część...............................................................
A2: (nr, nazwa)
A3: Dział...............................................................
A4: (nr, nazwa)
A5: Rozdział........................................................... | K5: PROJEKT
A6: (nr, nazwa)
J7: Załącznik nr 34
A8: Nazwa funduszu........................................................... | J8: PFC
J10: Wersja I - UE w kosztach wynagr. 10 mln
A11: PROJEKT BUDŻETU PAŃSTWA NA 2016 r.
A12: PROJEKT PLANU FINANSOWEGO PAŃSWOWEGO FUNDUSZU CELOWEGO Z DODATKOWYMI INFORMACJAMI UZUPEŁNIAJĄCYMI
A13: Część A
A14: Lp. | B14: Treść | D14: Plan po zmianach 2015 | E14: ='Pl 2016-20 PFC'!#REF! -> #REF! | F14: ='Pl 2016-20 PFC'!#REF! -> #REF! | G14: ='Pl 2016-20 PFC'!D67 -> Plan wg Ustawy Budżetowej na 2017 r. | H14: różnice | I14: ='Pl 2016-20 PFC'!E67 -> Zmiany | J14: ='Pl 2016-20 PFC'!F67 -> Plan po zmianach 2017 | K14: ='Pl 2016-20 PFC'!#REF! -> #REF! | L14: % | P14: =G18-G41-G39 -> 4668646500 | R14: =I18-I41-I39 -> 4623897500 | S14: =J18-J41-J39 -> 4674575500 | T14: =K18-K41-K39 -> 4704267500 | U14: =L18-L41-L39 -> -116.80381 | V14: =M18-M41-M39 -> 0 | W14: =N18-N41-N39 -> 4.7526778e+09 | X14: =O18-O41-O39 -> 5073344226 | Y14: =P18-P41-P39 -> 4825237600 | Z14: =Q18-Q41-Q39 -> 4876830600
E15: ='Pl 2016-20 PFC'!D16:F16 -> 0 | P15: =G147 -> 4668646500 | R15: =I147 -> 4623897500 | S15: =J147 -> 4674575500 | T15: =K147 -> 4704267500 | U15: =L147 -> 102.88682
A16: 1 | B16: 2 | E16: 3 | F16: 4 | G16: 4 | I16: 5 | J16: 6 | K16: 7
A18: I | B18: Zadania wynikające z ustawy tworzącej fundusz celowy | D18: =SUM(#REF!) -> #REF! | E18: 4.7526778e+09 | F18: 5063344226 | G18: 4874087500 | H18: 189256726 | I18: 4825237600 | J18: 4876830600 | K18: 4906947600 | L18: 102.55455 | N18: =E147+E41+E39 -> 4.7526778e+09 | O18: =F147+F41+F39 -> 5073344226 | P18: =I147+I41+I39 -> 4825237600 | Q18: =J147+J41+J39 -> 4876830600 | R18: =K147+K41+K39 -> 4906947600 | T18: =G147+G41+G39 -> 4874087500 | AA18: =E18-E81 -> #REF!
N19: =E18-N18 -> 0 | O19: =F18-O18 -> -10000000 | P19: =I18-P18 -> 0 | Q19: =J18-Q18 -> 0 | R19: =K18-R18 -> 0 | T19: =G18-G18 -> 0
A20: 1 | B20: Realizacja działań wyrównujących różnice między regionami - art. 47 ust. 1 pkt 1 ustawy z dnia 27 sierpnia 1997 r. o rehabilitacji zawodowej i społecznej oraz zatrudnianiu osób niepełnosprawnych (Dz. U z 2011 r. Nr 127, poz. 721, z póżn. zm.) | D20: =SUM(#REF!) -> #REF! | E20: 3338649.7 | G20: 49500000 | I20: 49500000 | J20: 49500000 | K20: 49500000 | L20: 1482.6353
A21: 2 | B21: Realizacja programów wspieranych ze środków pomocowych Unii Europejskiej - art. 47 ust. 1 pkt 2 | D21: =SUM(#REF!) -> #REF! | E21: 33274809 | G21: 0 | I21: 0 | J21: 0 | K21: 0 | L21: =G21/E21% -> 0
A22: 3 | B22: Dofinansowanie do wynagrodzeń pracowników niepełnosprawnych - art. 26a | D22: =SUM(#REF!) -> #REF! | E22: 2980196000 | G22: 3020000000 | I22: 3020000000 | J22: 3020000000 | K22: 3020000000 | L22: =G22/E22% -> 101.33562
A23: 4 | B23: Zrekompensowanie gminom dochodów utraconych z tytułu zastosowania ustawowych zwolnień dla prowadzacych zakłady pracy chronionej lub zakłady aktywności zawodowej z podatku od nieruchomości, rolnego,leśnego i od czynności cywilnoprawnych - art. 47 ust. 2 | D23: =SUM(#REF!) -> #REF! | E23: 56000000 | G23: 57000000 | I23: 58000000 | J23: 59000000 | K23: 60000000 | L23: =G23/E23% -> 101.78571
A24: 5 | B24: Finansowanie w części lub całości badań, ekspertyz i analiz - art. 47 ust. 1 pkt 4 lit.b | D24: =SUM(#REF!) -> #REF! | E24: 3281673.5 | F24: 4220000 | G24: 3220000 | H24: -1000000 | I24: 3000000 | J24: 3000000 | K24: 3000000 | L24: =G24/E24% -> 98.120669
A25: 6 | B25: Refundacja kosztów wydawania certyfikatów przez podmioty uprawnione do szkolenia psów asystujących art. 20b | D25: =#REF! -> #REF! | E25: 3000 | F25: 3000 | G25: 3000 | H25: 0 | I25: 3000 | J25: 3000 | K25: 3000 | L25: =G25/E25% -> 100
A26: 7 | B26: Programy zatwierdzone przez Radę Nadzorczą, służące rehabilitacji społecznej i zawodowej - art. 47 ust. 1 pkt 4 lit.a | D26: =SUM(#REF!) -> #REF! | E26: 1.1008922e+08 | F26: 182120000 | G26: 142120000 | H26: -40000000 | I26: 84320000 | J26: 135320000 | K26: 165320000 | L26: =G26/E26% -> 129.09529
A27: 8 | B27: Dofinansowanie oprocentowania kredytów bankowych - art. 32 ust. 1 pkt 1 | D27: =SUM(#REF!) -> #REF! | E27: 2000000 | F27: 3000000 | G27: 2500000 | H27: -500000 | I27: 2500000 | J27: 2500000 | K27: 2500000 | L27: =G27/E27% -> 125
A28: 9 | B28: Zwrot kosztów budowy lub rozbudowy obiektów i pomieszczeń zakładu, transportowych i administracyjnych - art. 32 ust. 1 pkt 2 | D28: =SUM(#REF!) -> #REF! | E28: 7000000 | F28: 14000000 | G28: 10000000 | H28: -4000000 | I28: 10000000 | J28: 10000000 | K28: 10000000 | L28: =G28/E28% -> 142.85714
A29: 10 | B29: Refundacja składek na ubezpieczenia społeczne - art. 25a | D29: =SUM(#REF!) -> #REF! | E29: 94610000 | F29: 105837000 | G29: 97600000 | H29: -8237000 | I29: 111593000 | J29: 117675000 | K29: 124102000 | L29: =G29/E29% -> 103.16034
A30: 11 | B30: Zadania zlecane - art. 36 | D30: =SUM(#REF!) -> #REF! | E30: 173145000 | F30: 275000000 | G30: 175000000 | H30: -100000000 | I30: 175000000 | J30: 175000000 | K30: 175000000 | L30: =G30/E30% -> 101.07136
A31: 12 | B31: Przelewy redystrybucyjne wymienione w części B pkt III ppkt 6 | D31: =D108 -> #REF! | E31: 915783000 | F31: 922378500 | G31: 922378500 | H31: 0 | I31: 922378500 | J31: 922378500 | K31: 922378500 | L31: =G31/E31% -> 100.7202
A32: 13 | B32: Wydatki bieżące (własne), z tego: | D32: =SUM(D33:D37,D41,D38) -> #REF! | E32: 334602000 | F32: 330953726 | G32: 340934000 | H32: 9980274 | I32: 338673100 | J32: 342608100 | K32: 345580100 | L32: =G32/E32% -> 101.8924
A33: 13.1 | B33: - wynagrodzenia osobowe | D33: =SUM(#REF!) -> #REF! | E33: 52282000 | F33: 52282000 | G33: 62282000 | H33: 1312000 | I33: 63405000 | J33: 64993000 | K33: 66621000 | L33: =G33/E33% -> 119.12704
A34: 13.2 | B34: - wynagrodzenia bezosobowe | D34: =SUM(#REF!) -> #REF! | E34: 1200000 | F34: 1220000 | G34: 1200000 | H34: -20000 | I34: 1222000 | J34: 1253000 | K34: 1284000 | L34: =G34/E34% -> 100
A35: 13.3 | B35: - składki na ubezpieczenia społeczne | D35: =SUM(D97) -> #REF! | E35: 9392000 | F35: 11866000 | G35: 11866000 | H35: 434000 | I35: 12078000 | J35: 12384000 | K35: 12690000 | L35: =G35/E35% -> 126.34157
A36: 13.4 | B36: - składki na Fundusz Pracy | D36: =SUM(D98) -> #REF! | E36: 1311000 | F36: 1660000 | G36: 1660000 | H36: 254000 | I36: 1691000 | J36: 1731000 | K36: 1772000 | L36: =G36/E36% -> 126.6209
A37: 13.5 | B37: - zakup usług | D37: =D99 -> #REF! | E37: 46509000 | F37: 47338000 | G37: 47338000 | H37: 0 | I37: 47845000 | J37: 48872000 | K37: 49385000 | L37: =G37/E37% -> 101.78245
A38: 13.6 | B38: - pozostałe, z tego: | D38: =SUM(D100) -> #REF! | E38: 28908000 | F38: 36588726 | G38: 36589000 | H38: 274 | I38: 47433000 | J38: 53376000 | K38: 53829000 | L38: =G38/E38% -> 126.5705
A39: 13.6.1 | B39: - amortyzacja (umorzenia) | D39: =SUM(D101) -> #REF! | E39: 20025000 | F39: 25442000 | G39: 25442000 | H39: 0 | I39: 36341000 | J39: 42256000 | K39: 42681000 | L39: =G39/E39% -> 127.05119
A40: 13.6.2 | B40: - inne | D40: =D102 -> #REF! | E40: 8883000 | F40: 11146726 | G40: 11147000 | H40: 274 | I40: 11092000 | J40: 11120000 | K40: 11148000 | L40: =G40/E40% -> 125.48689
A41: 13.7 | B41: - odpis aktualizujący wartość należności z tytułu wpłat na PFRON, pożyczek, odsetek od pożyczek oraz innych należności | D41: =SUM(D103) -> #REF! | E41: 195000000 | F41: 179999000 | G41: 179999000 | H41: 0 | I41: 164999100 | J41: 159999100 | K41: 159999100 | L41: =G41/E41% -> 92.307179
A42: 14 | B42: Wydatki osobowe nie zaliczane do wynagrodzeń | D42: =SUM(D91) -> #REF! | E42: 3716000 | F42: 3782000 | G42: 3782000 | H42: 0 | I42: 3850000 | J42: 3946000 | K42: 4044000 | L42: =G42/E42% -> 101.7761
...

Sheet Plan 2014-17 Wydatki
A2: Projekt planu na 2009 rok | B2: Plan na 2017 r.
A3: Wydatki | B3: Wydatki
A4: Państwowego Funduszu Rehabilitacji Osób Niepełnosprawnych | B4: Państwowego Funduszu Rehabilitacji Osób Niepełnosprawnych
A7: L.p. | B7: Tytuł | C7: § 244 | F7: § 245 | I7: Transfery § 302, § 303 | L7: § 626 | O7: § 627 | R7: § 296 | U7: RAZEM | X7: Struktura wydatków 2012 r. %
C8: Plan na 2016 r. | D8: ='Pl 2014-17 PFC MF'!H14 -> Zmiany | E8: ='Pl 2014-17 PFC MF'!I14 -> Plan po zmianach 2017 | F8: =C8 -> Plan na 2016 r. | G8: =D8 -> Zmiany | H8: =E8 -> Plan po zmianach 2017 | I8: =C8 -> Plan na 2016 r. | J8: =D8 -> Zmiany | K8: =E8 -> Plan po zmianach 2017 | L8: =I8 -> Plan na 2016 r. | M8: =J8 -> Zmiany | N8: =K8 -> Plan po zmianach 2017 | O8: =L8 -> Plan na 2016 r. | P8: =M8 -> Zmiany | Q8: =N8 -> Plan po zmianach 2017 | R8: =O8 -> Plan na 2016 r. | S8: =P8 -> Zmiany | ... W8: =T8 -> Plan po zmianach 2017
A9: I | B9: Wydatki ogółem ( A : C ) + ( 1 : 4 ) | C9: =IF((SUM(C10:C12)=0),"",SUM(C10:C12)) -> 139850000 | D9: =IF((SUM(D10:D12)=0),"",SUM(D10:D12)) | E9: =IF((SUM(E10:E12)=0),"",SUM(E10:E12)) -> 139850000 | F9: =IF((SUM(F10:F12)=0),"",SUM(F10:F12)) -> 3370224000 | G9: =IF((SUM(G10:G12)=0),"",SUM(G10:G12)) | H9: =IF((SUM(H10:H12)=0),"",SUM(H10:H12)) -> 3370224000 | I9: =IF((SUM(I10:I12)=0),"",SUM(I10:I12)) -> 6631000 | J9: =IF((SUM(J10:J12)=0),"",SUM(J10:J12)) | ... U9: =IF((SUM(U10:U12)=0),"",SUM(U10:U12)) -> 4913734000 | V9: =IF((SUM(V10:V12)=0),"0",SUM(V10:V12)) -> 0 | W9: =IF((SUM(W10:W12)=0),"",SUM(W10:W12)) -> 4913734000 | X9: =IF((SUM(X10:X12)=0),"",SUM(X10:X12)) -> #VALUE!
B10: - środki na zadania ustawowe (§ xxx0) | C10: =IF((SUM(C13,C16,C21,C25:C31,C35:C36,C54,C58,C61,C63)=0),"",SUM(C13,C16,C21,C25:C31,C35:C36,C54,C58,C61,C63)) -> 136850000 | D10: =IF((SUM(D13,D16,D21,D25:D31,D35:D36,D54,D58,D61,D63)=0),"",SUM(D13,D16,D21,D25:D31,D35:D36,D54,D58,D61,D63)) | E10: =IF((SUM(E13,E16,E21,E25:E31,E35:E36,E54,E58,E61,E63)=0),"",SUM(E13,E16,E21,E25:E31,E35:E36,E54,E58,E61,E63)) -> 136850000 | F10: =IF((SUM(F13,F16,F21,F25:F31,F35:F36,F54,F58,F61,F63)=0),"",SUM(F13,F16,F21,F25:F31,F35:F36,F54,F58,F61,F63)) -> 3370224000 | G10: =IF((SUM(G13,G16,G21,G25:G31,G35:G36,G54,G58,G61,G63)=0),"",SUM(G13,G16,G21,G25:G31,G35:G36,G54,G58,G61,G63)) | H10: =IF((SUM(H13,H16,H21,H25:H31,H35:H36,H54,H58,H61,H63)=0),"",SUM(H13,H16,H21,H25:H31,H35:H36,H54,H58,H61,H63)) -> 3370224000 | I10: =IF((SUM(I13,I16,I21,I25:I31,I34:I36,I54,I58,I61,I63)=0),"",SUM(I13,I16,I21,I25:I31,I34:I36,I54,I58,I61,I63)) -> 6631000 | J10: =IF((SUM(J13,J16,J21,J25:J31,J34:J36,J54,J58,J61,J63)=0),"",SUM(J13,J16,J21,J25:J31,J34:J36,J54,J58,J61,J63)) | K10: =IF((SUM(K13,K16,K21,K25:K31,K34:K36,K54,K58,K61,K63)=0),"",SUM(K13,K16,K21,K25:K31,K34:K36,K54,K58,K61,K63)) -> 6631000 | L10: =IF((SUM(L13,L16,L21,L25:L31,L35:L36,L54,L58,L61,L63)=0),"",SUM(L13,L16,L21,L25:L31,L35:L36,L54,L58,L61,L63)) -> 86050000 | M10: =IF((SUM(M13,M16,M21,M25:M31,M35:M36,M54,M58,M61,M63)=0),"",SUM(M13,M16,M21,M25:M31,M35:M36,M54,M58,M61,M63)) | N10: =IF((SUM(N13,N16,N21,N25:N31,N35:N36,N54,N58,N61,N63)=0),"",SUM(N13,N16,N21,N25:N31,N35:N36,N54,N58,N61,N63)) -> 86050000 | O10: =IF((SUM(O13,O16,O21,O25:O31,O35:O36,O54,O58,O61,O63)=0),"",SUM(O13,O16,O21,O25:O31,O35:O36,O54,O58,O61,O63)) -> 4578000 | P10: =IF((SUM(P13,P16,P21,P25:P31,P35:P36,P54,P58,P61,P63)=0),"",SUM(P13,P16,P21,P25:P31,P35:P36,P54,P58,P61,P63)) | Q10: =IF((SUM(Q13,Q16,Q21,Q25:Q31,Q35:Q36,Q54,Q58,Q61,Q63)=0),"",SUM(Q13,Q16,Q21,Q25:Q31,Q35:Q36,Q54,Q58,Q61,Q63)) -> 4578000 | R10: =IF((SUM(R13,R16,R21,R25:R31,R35:R36,R54,R58,R61,R63)=0),"",SUM(R13,R16,R21,R25:R31,R35:R36,R54,R58,R61,R63)) -> 930000000 | S10: =IF((SUM(S13,S16,S21,S25:S31,S35:S36,S54,S58,S61,S63)=0),"",SUM(S13,S16,S21,S25:S31,S35:S36,S54,S58,S61,S63)) | T10: =IF((SUM(T13,T16,T21,T25:T31,T35:T36,T54,T58,T61,T63)=0),"",SUM(T13,T16,T21,T25:T31,T35:T36,T54,T58,T61,T63)) -> 930000000 | U10: =IF((SUM(U13,U16,U21,U25:U31,U34:U36,U54,U58,U61,U63)=0),"",SUM(U13,U16,U21,U25:U31,U34:U36,U54,U58,U61,U63)) -> 4900025000 | V10: =IF((SUM(V13,V16,V21,V25:V31,V34:V36,V54,V58,V61,V63)=0),"0",SUM(V13,V16,V21,V25:V31,V34:V36,V54,V58,V61,V63)) -> 0 | W10: =IF((SUM(W13,W16,W21,W25:W31,W34:W36,W54,W58,W61,W63)=0),"",SUM(W13,W16,W21,W25:W31,W34:W36,W54,W58,W61,W63)) -> 4900025000 | X10: =IF((SUM(X13,X16,X21,X25:X31,X35:X36,X54,X58,X61,X63)=0),"",SUM(X13,X16,X21,X25:X31,X35:X36,X54,X58,X61,X63)) -> #VALUE!
B11: - finansowanie ze środków UE (§ xxx7) | C11: =IF((SUM(C23,C55,C59,C64)=0),"",SUM(C23,C55,C59,C64)) -> 2910000 | D11: =IF((SUM(D23,D55,D59,D64)=0),"",SUM(D23,D55,D59,D64)) | E11: =IF((SUM(E23,E55,E59,E64)=0),"",SUM(E23,E55,E59,E64)) -> 2910000 | F11: =IF((SUM(F23,F55,F59,F64)=0),"",SUM(F23,F55,F59,F64)) | G11: =IF((SUM(G23,G55,G59,G64)=0),"",SUM(G23,G55,G59,G64)) | H11: =IF((SUM(H23,H55,H59,H64)=0),"",SUM(H23,H55,H59,H64)) | I11: =IF((SUM(I23,I55,I59,I64)=0),"",SUM(I23,I55,I59,I64)) | J11: =IF((SUM(J23,J55,J59,J64)=0),"",SUM(J23,J55,J59,J64)) | ... U11: =IF((SUM(U23,U55,U59,U64)=0),"",SUM(U23,U55,U59,U64)) -> 11972000 | V11: =IF((SUM(V23,V55,V59,V64)=0),"0",SUM(V23,V55,V59,V64)) -> 0 | W11: =IF((SUM(W23,W55,W59,W64)=0),"",SUM(W23,W55,W59,W64)) -> 11972000 | X11: =IF((SUM(X23,X55,X59,X64)=0),"",SUM(X23,X55,X59,X64)) -> #VALUE!
B12: - współfinansowanie (§ xxx9) | C12: =IF((SUM(C24,C56,C60,C65)=0),"",SUM(C24,C56,C60,C65)) -> 90000 | D12: =IF((SUM(D24,D56,D60,D65)=0),"",SUM(D24,D56,D60,D65)) | E12: =IF((SUM(E24,E56,E60,E65)=0),"",SUM(E24,E56,E60,E65)) -> 90000 | F12: =IF((SUM(F24,F56,F60,F65)=0),"",SUM(F24,F56,F60,F65)) | G12: =IF((SUM(G24,G56,G60,G65)=0),"",SUM(G24,G56,G60,G65)) | H12: =IF((SUM(H24,H56,H60,H65)=0),"",SUM(H24,H56,H60,H65)) | I12: =IF((SUM(I24,I56,I60,I65)=0),"",SUM(I24,I56,I60,I65)) | J12: =IF((SUM(J24,J56,J60,J65)=0),"",SUM(J24,J56,J60,J65)) | ... U12: =IF((SUM(U24,U56,U60,U65)=0),"",SUM(U24,U56,U60,U65)) -> 1737000 | V12: =IF((SUM(V24,V56,V60,V65)=0),"0",SUM(V24,V56,V60,V65)) -> 0 | W12: =IF((SUM(W24,W56,W60,W65)=0),"",SUM(W24,W56,W60,W65)) -> 1737000 | X12: =IF((SUM(X24,X56,X60,X65)=0),"",SUM(X24,X56,X60,X65)) -> #VALUE!
A13: A) | B13: Samorządy wojewódzkie | R13: =IF((SUM(R14:R15)=0),"",SUM(R14:R15)) -> 146575000 | S13: =IF((SUM(S14:S15)=0),"",SUM(S14:S15)) | T13: =IF((SUM(T14:T15)=0),"",SUM(T14:T15)) -> 146575000 | U13: =IF((SUM(U14:U15)=0),"",SUM(U14:U15)) -> 146575000 | V13: =IF((SUM(V14:V15)=0),"0",SUM(V14:V15)) -> 0 | W13: =IF((SUM(W14:W15)=0),"",SUM(W14:W15)) -> 146575000 | X13: =IF((SUM(X14:X15)=0),"",(SUM(X14:X15))) -> #VALUE! | Y13: =IF((SUM(Y14:Y15)=0),"",(SUM(Y14:Y15))) | Z13: =IF((SUM(Z14:Z15)=0),"",(SUM(Z14:Z15))) | AA13: =IF((SUM(AA14:AA15)=0),"",(SUM(AA14:AA15)))
B14: - na realizację zadań | R14: =IF(('Pl 2016-20 PFC'!D344=0),"",'Pl 2016-20 PFC'!D344) -> 143000000 | S14: =IF(('Pl 2016-20 PFC'!E344=0),"",'Pl 2016-20 PFC'!E344) | T14: =IF(('Pl 2016-20 PFC'!F344=0),"",'Pl 2016-20 PFC'!F344) -> 143000000 | U14: =IF((SUM(C14,F14,I14,L14,O14,R14)=0),"",(SUM(C14,F14,I14,L14,O14,R14))) -> 143000000 | V14: =IF((SUM(D14,G14,J14,M14,P14,S14)=0),"0",(SUM(D14,G14,J14,M14,P14,S14))) -> 0 | W14: =IF((SUM(E14,H14,K14,N14,Q14,T14)=0),"",(SUM(E14,H14,K14,N14,Q14,T14))) -> 143000000 | X14: ="$#ODWOŁANIE$#ODWOŁANIE"/"$#ODWOŁANIE$#ODWOŁANIE"% -> #VALUE!
B15: - na pokrycie kosztów obsługi realizowanych zadań | R15: =IF(('Pl 2016-20 PFC'!D346=0),"",'Pl 2016-20 PFC'!D346) -> 3575000 | S15: =IF(('Pl 2016-20 PFC'!E346=0),"",'Pl 2016-20 PFC'!E346) | T15: =IF(('Pl 2016-20 PFC'!F346=0),"",'Pl 2016-20 PFC'!F346) -> 3575000 | U15: =IF((SUM(C15,F15,I15,L15,O15,R15)=0),"",(SUM(C15,F15,I15,L15,O15,R15))) -> 3575000 | V15: =IF((SUM(D15,G15,J15,M15,P15,S15)=0),"0",(SUM(D15,G15,J15,M15,P15,S15))) -> 0 | W15: =IF((SUM(E15,H15,K15,N15,Q15,T15)=0),"",(SUM(E15,H15,K15,N15,Q15,T15))) -> 3575000 | X15: ="$#ODWOŁANIE$#ODWOŁANIE"/"$#ODWOŁANIE$#ODWOŁANIE"% -> #VALUE!
A16: B) | B16: Samorządy powiatowe | R16: =IF((SUM(R17:R18)=0),"",SUM(R17:R18)) -> 783425000 | S16: =IF((SUM(S17:S18)=0),"",SUM(S17:S18)) | T16: =IF((SUM(T17:T18)=0),"",SUM(T17:T18)) -> 783425000 | U16: =IF((SUM(U17:U18)=0),"",SUM(U17:U18)) -> 783425000 | V16: =IF((SUM(V17:V18)=0),"0",SUM(V17:V18)) -> 0 | W16: =IF((SUM(W17:W18)=0),"",SUM(W17:W18)) -> 783425000 | X16: =IF((SUM(X17:X18)=0),"",(SUM(X17:X18))) -> #VALUE!
B17: - na realizację zadań | R17: =IF(('Pl 2016-20 PFC'!D348=0),"",'Pl 2016-20 PFC'!D348) -> 764317000 | S17: =IF(('Pl 2016-20 PFC'!E348=0),"",'Pl 2016-20 PFC'!E348) | T17: =IF(('Pl 2016-20 PFC'!F348=0),"",'Pl 2016-20 PFC'!F348) -> 764317000 | U17: =IF((SUM(C17,F17,I17,L17,O17,R17)=0),"",(SUM(C17,F17,I17,L17,O17,R17))) -> 764317000 | V17: =IF((SUM(D17,G17,J17,M17,P17,S17)=0),"0",(SUM(D17,G17,J17,M17,P17,S17))) -> 0 | W17: =IF((SUM(E17,H17,K17,N17,Q17,T17)=0),"",(SUM(E17,H17,K17,N17,Q17,T17))) -> 764317000 | X17: ="$#ODWOŁANIE$#ODWOŁANIE"/"$#ODWOŁANIE$#ODWOŁANIE"% -> #VALUE!
B18: - na pokrycie kosztów obsługi realizowanych zadań | R18: =IF(('Pl 2016-20 PFC'!D350=0),"",'Pl 2016-20 PFC'!D350) -> 19108000 | S18: =IF(('Pl 2016-20 PFC'!E350=0),"",'Pl 2016-20 PFC'!E350) | T18: =IF(('Pl 2016-20 PFC'!F350=0),"",'Pl 2016-20 PFC'!F350) -> 19108000 | U18: =IF((SUM(C18,F18,I18,L18,O18,R18)=0),"",(SUM(C18,F18,I18,L18,O18,R18))) -> 19108000 | V18: =IF((SUM(D18,G18,J18,M18,P18,S18)=0),"0",(SUM(D18,G18,J18,M18,P18,S18))) -> 0 | W18: =IF((SUM(E18,H18,K18,N18,Q18,T18)=0),"",(SUM(E18,H18,K18,N18,Q18,T18))) -> 19108000 | X18: ="$#ODWOŁANIE$#ODWOŁANIE"/"$#ODWOŁANIE$#ODWOŁANIE"% -> #VALUE!
A19: C) | B19: Biuro i Oddziały PFRON | C19: =IF((SUM(C20,C36)=0),"",SUM(C20,C36)) -> 139850000 | D19: =IF((SUM(D20,D36)=0),"",SUM(D20,D36)) | E19: =IF((SUM(E20,E36)=0),"",SUM(E20,E36)) -> 139850000 | F19: =IF((SUM(F20,F36)=0),"",SUM(F20,F36)) -> 3370224000 | G19: =IF((SUM(G20,G36)=0),"",SUM(G20,G36)) | H19: =IF((SUM(H20,H36)=0),"",SUM(H20,H36)) -> 3370224000 | I19: =IF((SUM(I20,I36)=0),"",SUM(I20,I36)) -> 2800000 | J19: =IF((SUM(J20,J36)=0),"",SUM(J20,J36)) | ... U19: =IF((SUM(U20,U36)=0),"",SUM(U20,U36)) -> 3603502000 | V19: =IF((SUM(V20,V36)=0),"0",SUM(V20,V36)) -> 0 | W19: =IF((SUM(W20,W36)=0),"",SUM(W20,W36)) -> 3603502000 | X19: =IF((SUM(X20,X36,"$#ODWOŁANIE$#ODWOŁANIE")=0),"",SUM(X20,X36,"$#ODWOŁANIE$#ODWOŁANIE")) -> #VALUE!
A20: C-1 | B20: Zadania ustawowe | C20: =IF((SUM(C21,C22,C25:C31,C35:C35)=0),"",SUM(C21,C22,C25:C31,C35:C35)) -> 63350000 | D20: =IF((SUM(D21,D22,D25:D31,D35:D35)=0),"",SUM(D21,D22,D25:D31,D35:D35)) | E20: =IF((SUM(E21,E22,E25:E31,E35:E35)=0),"",SUM(E21,E22,E25:E31,E35:E35)) -> 63350000 | F20: =IF((SUM(F21,F22,F25:F31,F35:F35)=0),"",SUM(F21,F22,F25:F31,F35:F35)) -> 3358924000 | G20: =IF((SUM(G21,G22,G25:G31,G35:G35)=0),"",SUM(G21,G22,G25:G31,G35:G35)) | H20: =IF((SUM(H21,H22,H25:H31,H35:H35)=0),"",SUM(H21,H22,H25:H31,H35:H35)) -> 3358924000 | I20: =IF((SUM(I21,I22,I25:I31,I34,I35:I35)=0),"",SUM(I21,I22,I34,I25:I31,I35:I35)) -> 2800000 | J20: =IF((SUM(J21,J22,J25:J31,J34,J35:J35)=0),"",SUM(J21,J22,J34,J25:J31,J35:J35)) | K20: =IF((SUM(K21,K22,K25:K31,K34,K35:K35)=0),"",SUM(K21,K22,K34,K25:K31,K35:K35)) -> 2800000 | L20: =IF((SUM(L21,L22,L25:L31,L35:L35)=0),"",SUM(L21,L22,L25:L31,L35:L35)) -> 46050000 | M20: =IF((SUM(M21,M22,M25:M31,M35:M35)=0),"",SUM(M21,M22,M25:M31,M35:M35)) | N20: =IF((SUM(N21,N22,N25:N31,N35:N35)=0),"",SUM(N21,N22,N25:N31,N35:N35)) -> 46050000 | O20: =IF((SUM(O21,O22,O25:O31,O35:O35)=0),"",SUM(O21,O22,O25:O31,O35:O35)) -> 4378000 | P20: =IF((SUM(P21,P22,P25:P31,P35:P35)=0),"",SUM(P21,P22,P25:P31,P35:P35)) | Q20: =IF((SUM(Q21,Q22,Q25:Q31,Q35:Q35)=0),"",SUM(Q21,Q22,Q25:Q31,Q35:Q35)) -> 4378000 | R20: =IF((SUM(R21,R22,R25:R31,R35:R35)=0),"",SUM(R21,R22,R25:R31,R35:R35)) | S20: =IF((SUM(S21,S22,S25:S31,S35:S35)=0),"",SUM(S21,S22,S25:S31,S35:S35)) | T20: =IF((SUM(T21,T22,T25:T31,T35:T35)=0),"",SUM(T21,T22,T25:T31,T35:T35)) | U20: =IF((SUM(U21,U22,U25:U31,U34:U35)=0),"",SUM(U21,U22,U25:U31,U34:U35)) -> 3475502000 | V20: =IF((SUM(V21,V22,V25:V31,V34:V35)=0),"0",SUM(V21,V22,V25:V31,V34:V35)) -> 0 | W20: =IF((SUM(W21,W22,W25:W31,W34:W35)=0),"",SUM(W21,W22,W25:W31,W34:W35)) -> 3475502000 | X20: =IF((SUM(X21,X22,"$#ODWOŁANIE$#ODWOŁANIE",X25:X31,X35:X35)=0),"",SUM(X21,X22,"$#ODWOŁANIE$#ODWOŁANIE",X25:X31,X35:X35)) -> #VALUE! | Y20: =IF((SUM(Y21,Y22,"$#ODWOŁANIE$#ODWOŁANIE",Y25:Y31,Y35:Y35)=0),"",SUM(Y21,Y22,"$#ODWOŁANIE$#ODWOŁANIE",Y25:Y31,Y35:Y35)) -> #VALUE! | Z20: =IF((SUM(Z21,Z22,"$#ODWOŁANIE$#ODWOŁANIE",Z25:Z31,Z35:Z35)=0),"",SUM(Z21,Z22,"$#ODWOŁANIE$#ODWOŁANIE",Z25:Z31,Z35:Z35)) -> #VALUE! | AA20: =IF((SUM(AA21,AA22,"$#ODWOŁANIE$#ODWOŁANIE",AA25:AA31,AA35:AA35)=0),"",SUM(AA21,AA22,"$#ODWOŁANIE$#ODWOŁANIE",AA25:AA31,AA35:AA35)) -> #VALUE!
A21: a) | B21: realizacja działań wyrównujących różnice między regionami art. 47 ust. 1 pkt 1 | C21: =IF(('Pl 2016-20 PFC'!D132=0),"",'Pl 2016-20 PFC'!D132) -> 2000000 | D21: =IF(('Pl 2016-20 PFC'!E132=0),"",'Pl 2016-20 PFC'!E132) | E21: =IF(('Pl 2016-20 PFC'!F132=0),"",'Pl 2016-20 PFC'!F132) -> 2000000 | F21: =IF(('Pl 2016-20 PFC'!D170=0),"",'Pl 2016-20 PFC'!D170) -> 1000000 | G21: =IF(('Pl 2016-20 PFC'!E170=0),"",'Pl 2016-20 PFC'!E170) | H21: =IF(('Pl 2016-20 PFC'!F170=0),"",'Pl 2016-20 PFC'!F170) -> 1000000 | L21: =IF(('Pl 2016-20 PFC'!D305=0),"",'Pl 2016-20 PFC'!D305) -> 45500000 | M21: =IF(('Pl 2016-20 PFC'!E305=0),"",'Pl 2016-20 PFC'!E305) | N21: =IF(('Pl 2016-20 PFC'!F305=0),"",'Pl 2016-20 PFC'!F305) -> 45500000 | O21: =IF(('Pl 2016-20 PFC'!D324=0),"",'Pl 2016-20 PFC'!D324) -> 1500000 | P21: =IF(('Pl 2016-20 PFC'!E324=0),"",'Pl 2016-20 PFC'!E324) | Q21: =IF(('Pl 2016-20 PFC'!F324=0),"",'Pl 2016-20 PFC'!F324) -> 1500000 | U21: =IF((SUM(C21,F21,I21,L21,O21,R21)=0),"",(SUM(C21,F21,I21,L21,O21,R21))) -> 50000000 | V21: =IF((SUM(D21,G21,J21,M21,P21,S21)=0),"0",(SUM(D21,G21,J21,M21,P21,S21))) -> 0 | W21: =IF((SUM(E21,H21,K21,N21,Q21,T21)=0),"",(SUM(E21,H21,K21,N21,Q21,T21))) -> 50000000 | X21: ="$#ODWOŁANIE$#ODWOŁANIE"/"$#ODWOŁANIE$#ODWOŁANIE"% -> #VALUE!
A22: b) | B22: realizacja programów wspieranych za środków pomocowych UE art. 47 ust. 1 pkt 2 | C22: =IF((SUM(C23:C24)=0),"",SUM(C23:C24)) -> 3000000 | D22: =IF((SUM(D23:D24)=0),"",SUM(D23:D24)) | E22: =IF((SUM(E23:E24)=0),"",SUM(E23:E24)) -> 3000000 | F22: =IF((SUM(F23:F24)=0),"",SUM(F23:F24)) | G22: =IF((SUM(G23:G24)=0),"",SUM(G23:G24)) | H22: =IF((SUM(H23:H24)=0),"",SUM(H23:H24)) | R22: =IF((SUM(R23:R24)=0),"",SUM(R23:R24)) | S22: =IF((SUM(S23:S24)=0),"",SUM(S23:S24)) | T22: =IF((SUM(T23:T24)=0),"",SUM(T23:T24)) | U22: =IF((SUM(C22,F22,I22,L22,O22,R22)=0),"",(SUM(C22,F22,I22,L22,O22,R22))) -> 3000000 | V22: =IF((SUM(D22,G22,J22,M22,P22,S22)=0),"0",(SUM(D22,G22,J22,M22,P22,S22))) -> 0 | W22: =IF((SUM(E22,H22,K22,N22,Q22,T22)=0),"",(SUM(E22,H22,K22,N22,Q22,T22))) -> 3000000 | X22: =SUM(X23:X24) -> #VALUE!
B23: - finansowanie ze środków UE (§ xxx7) | C23: =IF(('Pl 2016-20 PFC'!D215=0),"",'Pl 2016-20 PFC'!D215) -> 2910000 | D23: =IF(('Pl 2016-20 PFC'!E215=0),"",'Pl 2016-20 PFC'!E215) | E23: =IF(('Pl 2016-20 PFC'!F215=0),"",'Pl 2016-20 PFC'!F215) -> 2910000 | F23: =IF(('Pl 2016-20 PFC'!D216=0),"",'Pl 2016-20 PFC'!D216) | G23: =IF(('Pl 2016-20 PFC'!E216=0),"",'Pl 2016-20 PFC'!E216) | H23: =IF(('Pl 2016-20 PFC'!F216=0),"",'Pl 2016-20 PFC'!F216) | U23: =IF((SUM(C23,F23,I23,L23,O23,R23)=0),"",(SUM(C23,F23,I23,L23,O23,R23))) -> 2910000 | V23: =IF((SUM(D23,G23,J23,M23,P23,S23)=0),"",(SUM(D23,G23,J23,M23,P23,S23))) | W23: =IF((SUM(E23,H23,K23,N23,Q23,T23)=0),"",(SUM(E23,H23,K23,N23,Q23,T23))) -> 2910000 | X23: ="$#ODWOŁANIE$#ODWOŁANIE"/"$#ODWOŁANIE$#ODWOŁANIE"% -> #VALUE!
B24: - współfinansowanie (§ xxx9) | C24: =IF(('Pl 2016-20 PFC'!D131=0),"",'Pl 2016-20 PFC'!D131) -> 90000 | D24: =IF(('Pl 2016-20 PFC'!E131=0),"",'Pl 2016-20 PFC'!E131) | E24: =IF(('Pl 2016-20 PFC'!F131=0),"",'Pl 2016-20 PFC'!F131) -> 90000 | F24: =IF(('Pl 2016-20 PFC'!D169=0),"",'Pl 2016-20 PFC'!D169) | G24: =IF(('Pl 2016-20 PFC'!E169=0),"",'Pl 2016-20 PFC'!E169) | H24: =IF(('Pl 2016-20 PFC'!F169=0),"",'Pl 2016-20 PFC'!F169) | U24: =IF((SUM(C24,F24,I24,L24,O24,R24)=0),"",(SUM(C24,F24,I24,L24,O24,R24))) -> 90000 | V24: =IF((SUM(D24,G24,J24,M24,P24,S24)=0),"",(SUM(D24,G24,J24,M24,P24,S24))) | W24: =IF((SUM(E24,H24,K24,N24,Q24,T24)=0),"",(SUM(E24,H24,K24,N24,Q24,T24))) -> 90000 | X24: ="$#ODWOŁANIE$#ODWOŁANIE"/"$#ODWOŁANIE$#ODWOŁANIE"% -> #VALUE!
A25: d) | B25: dofinansowanie rekompensaty dla gmin art. 47 ust. 2 | C25: =IF(('Pl 2016-20 PFC'!D133=0),"",'Pl 2016-20 PFC'!D133) -> 57000000 | D25: =IF(('Pl 2016-20 PFC'!E133=0),"",'Pl 2016-20 PFC'!E133) | E25: =IF(('Pl 2016-20 PFC'!F133=0),"",'Pl 2016-20 PFC'!F133) -> 57000000 | U25: =IF((SUM(C25,F25,I25,L25,O25,R25)=0),"",(SUM(C25,F25,I25,L25,O25,R25))) -> 57000000 | V25: =IF((SUM(D25,G25,J25,M25,P25,S25)=0),"0",(SUM(D25,G25,J25,M25,P25,S25))) -> 0 | W25: =IF((SUM(E25,H25,K25,N25,Q25,T25)=0),"",(SUM(E25,H25,K25,N25,Q25,T25))) -> 57000000 | X25: ="$#ODWOŁANIE$#ODWOŁANIE"/"$#ODWOŁANIE$#ODWOŁANIE"% -> #VALUE!
A26: e) | B26: refundacja kosztów wydawania certyfikatów przez podmioty uprawnione do szkolenia psów asystujących art. 20b | F26: =IF(('Pl 2016-20 PFC'!D174=0),"",'Pl 2016-20 PFC'!D174) -> 15000 | G26: =IF(('Pl 2016-20 PFC'!E174=0),"",'Pl 2016-20 PFC'!E174) | H26: =IF(('Pl 2016-20 PFC'!F174=0),"",'Pl 2016-20 PFC'!F174) -> 15000 | U26: =IF((SUM(C26,F26,I26,L26,O26,R26)=0),"",(SUM(C26,F26,I26,L26,O26,R26))) -> 15000 | V26: =IF((SUM(D26,G26,J26,M26,P26,S26)=0),"0",(SUM(D26,G26,J26,M26,P26,S26))) -> 0 | W26: =IF((SUM(E26,H26,K26,N26,Q26,T26)=0),"",(SUM(E26,H26,K26,N26,Q26,T26))) -> 15000 | X26: ="$#ODWOŁANIE$#ODWOŁANIE"/"$#ODWOŁANIE$#ODWOŁANIE"% -> #VALUE!
A27: f) | B27: Refundacja składek na ubezpieczenia społeczne - art. 25a | F27: =IF(('Pl 2016-20 PFC'!D165=0),"",'Pl 2016-20 PFC'!D165) -> 103000000 | G27: =IF(('Pl 2016-20 PFC'!E165=0),"",'Pl 2016-20 PFC'!E165) | H27: =IF(('Pl 2016-20 PFC'!F165=0),"",'Pl 2016-20 PFC'!F165) -> 103000000 | U27: =IF((SUM(C27,F27,I27,L27,O27,R27)=0),"",(SUM(C27,F27,I27,L27,O27,R27))) -> 103000000 | V27: =IF((SUM(D27,G27,J27,M27,P27,S27)=0),"0",(SUM(D27,G27,J27,M27,P27,S27))) -> 0 | W27: =IF((SUM(E27,H27,K27,N27,Q27,T27)=0),"",(SUM(E27,H27,K27,N27,Q27,T27))) -> 103000000 | X27: ="$#ODWOŁANIE$#ODWOŁANIE"/"$#ODWOŁANIE$#ODWOŁANIE"% -> #VALUE!
A28: g) | B28: zadania zlecane art. 36 | C28: =IF(('Pl 2016-20 PFC'!D135=0),"",'Pl 2016-20 PFC'!D135) -> 50000 | D28: =IF(('Pl 2016-20 PFC'!E135=0),"",'Pl 2016-20 PFC'!E135) | E28: =IF(('Pl 2016-20 PFC'!F135=0),"",'Pl 2016-20 PFC'!F135) -> 50000 | F28: =IF(('Pl 2016-20 PFC'!D176=0),"",'Pl 2016-20 PFC'!D176) -> 244781000 | G28: =IF(('Pl 2016-20 PFC'!E176=0),"",'Pl 2016-20 PFC'!E176) | H28: =IF(('Pl 2016-20 PFC'!F176=0),"",'Pl 2016-20 PFC'!F176) -> 244781000 | L28: =IF(('Pl 2016-20 PFC'!D306=0),"",'Pl 2016-20 PFC'!D306) -> 450000 | M28: =IF(('Pl 2016-20 PFC'!E306=0),"",'Pl 2016-20 PFC'!E306) | N28: =IF(('Pl 2016-20 PFC'!F306=0),"",'Pl 2016-20 PFC'!F306) -> 450000 | O28: =IF(('Pl 2016-20 PFC'!D327=0),"",'Pl 2016-20 PFC'!D327) -> 1700000 | P28: =IF(('Pl 2016-20 PFC'!E327=0),"",'Pl 2016-20 PFC'!E327) | Q28: =IF(('Pl 2016-20 PFC'!F327=0),"",'Pl 2016-20 PFC'!F327) -> 1700000 | U28: =IF((SUM(C28,F28,I28,L28,O28,R28)=0),"",(SUM(C28,F28,I28,L28,O28,R28))) -> 246981000 | V28: =IF((SUM(D28,G28,J28,M28,P28,S28)=0),"0",(SUM(D28,G28,J28,M28,P28,S28))) -> 0 | W28: =IF((SUM(E28,H28,K28,N28,Q28,T28)=0),"",(SUM(E28,H28,K28,N28,Q28,T28))) -> 246981000 | X28: ="$#ODWOŁANIE$#ODWOŁANIE"/"$#ODWOŁANIE$#ODWOŁANIE"% -> #VALUE!
B29: Dofinansowanie do oprocentowania kredytów bankowych - art. 32 ust. 1 pkt 1 | F29: =IF(('Pl 2016-20 PFC'!D171=0),"",'Pl 2016-20 PFC'!D171) -> 2500000 | G29: =IF(('Pl 2016-20 PFC'!E171=0),"",'Pl 2016-20 PFC'!E171) | H29: =IF(('Pl 2016-20 PFC'!F171=0),"",'Pl 2016-20 PFC'!F171) -> 2500000 | U29: =IF((SUM(C29,F29,I29,L29,O29,R29)=0),"",(SUM(C29,F29,I29,L29,O29,R29))) -> 2500000 | V29: =IF((SUM(D29,G29,J29,M29,P29,S29)=0),"0",(SUM(D29,G29,J29,M29,P29,S29))) -> 0 | W29: =IF((SUM(E29,H29,K29,N29,Q29,T29)=0),"",(SUM(E29,H29,K29,N29,Q29,T29))) -> 2500000 | X29: ="$#ODWOŁANIE$#ODWOŁANIE"/"$#ODWOŁANIE$#ODWOŁANIE"% -> #VALUE!
A30: h) | B30: Zwrot kosztów budowy lub rozbudowy obiektów i pomieszczeń zakładu, transportowych i administracyjnych - art. 32 ust. 1 pkt 2 | F30: =IF(('Pl 2016-20 PFC'!D172=0),"",'Pl 2016-20 PFC'!D172) -> 6128000 | G30: =IF(('Pl 2016-20 PFC'!E172=0),"",'Pl 2016-20 PFC'!E172) | H30: =IF(('Pl 2016-20 PFC'!F172=0),"",'Pl 2016-20 PFC'!F172) -> 6128000 | O30: =IF(('Pl 2016-20 PFC'!D326=0),"",'Pl 2016-20 PFC'!D326) -> 1078000 | P30: =IF(('Pl 2016-20 PFC'!E326=0),"",'Pl 2016-20 PFC'!E326) | Q30: =IF(('Pl 2016-20 PFC'!F326=0),"",'Pl 2016-20 PFC'!F326) -> 1078000 | U30: =IF((SUM(C30,F30,I30,L30,O30,R30)=0),"",(SUM(C30,F30,I30,L30,O30,R30))) -> 7206000 | V30: =IF((SUM(D30,G30,J30,M30,P30,S30)=0),"0",(SUM(D30,G30,J30,M30,P30,S30))) -> 0 | W30: =IF((SUM(E30,H30,K30,N30,Q30,T30)=0),"",(SUM(E30,H30,K30,N30,Q30,T30))) -> 7206000 | X30: ="$#ODWOŁANIE$#ODWOŁANIE"/"$#ODWOŁANIE$#ODWOŁANIE"% -> #VALUE!
A31: i) | B31: dofinansowanie do wynagrodzeń pracowników niepełnosprawnych art. 26a | F31: =IF(('Pl 2016-20 PFC'!D173=0),"",'Pl 2016-20 PFC'!D173) -> 3000000000 | G31: =IF(('Pl 2016-20 PFC'!E173=0),"",'Pl 2016-20 PFC'!E173) | H31: =IF(('Pl 2016-20 PFC'!F173=0),"",'Pl 2016-20 PFC'!F173) -> 3000000000 | R31: =IF((SUM(R32:R33)=0),"",SUM(R32:R33)) | S31: =IF((SUM(S32:S33)=0),"",SUM(S32:S33)) | T31: =IF((SUM(T32:T33)=0),"",SUM(T32:T33)) | U31: =IF((SUM(C31,F31,I31,L31,O31,R31)=0),"",(SUM(C31,F31,I31,L31,O31,R31))) -> 3000000000 | V31: =IF((SUM(D31,G31,J31,M31,P31,S31)=0),"0",(SUM(D31,G31,J31,M31,P31,S31))) -> 0 | W31: =IF((SUM(E31,H31,K31,N31,Q31,T31)=0),"",(SUM(E31,H31,K31,N31,Q31,T31))) -> 3000000000 | X31: ="$#ODWOŁANIE$#ODWOŁANIE"/"$#ODWOŁANIE$#ODWOŁANIE"% -> #VALUE!
B32: - dotacja budżetowa | F32: =IF(('Pl 2016-20 PFC'!E96=0),"",'Pl 2016-20 PFC'!E96) | G32: =IF(('Pl 2016-20 PFC'!F96=0),"",'Pl 2016-20 PFC'!F96) -> 716860000 | H32: =IF(('Pl 2016-20 PFC'!#REF!=0),"",'Pl 2016-20 PFC'!#REF!) -> #REF! | U32: =IF((SUM(C32,F32,I32,L32,O32,R32)=0),"",(SUM(C32,F32,I32,L32,O32,R32))) | V32: =IF((SUM(D32,G32,J32,M32,P32,S32)=0),"",(SUM(D32,G32,J32,M32,P32,S32))) -> 716860000 | W32: =IF((SUM(E32,H32,K32,N32,Q32,T32)=0),"",(SUM(E32,H32,K32,N32,Q32,T32))) -> #REF! | X32: ="$#ODWOŁANIE$#ODWOŁANIE"/"$#ODWOŁANIE$#ODWOŁANIE"% -> #VALUE!
B33: - środki własne | F33: =IF((F31-F32=0),"",F31-F32) -> #VALUE! | G33: =IF((G31-G32=0),"",G31-G32) -> #VALUE! | H33: =IF((H31-H32=0),"",H31-H32) -> #REF! | U33: =IF((SUM(C33,F33,I33,L33,O33,R33)=0),"",(SUM(C33,F33,I33,L33,O33,R33))) -> #VALUE! | V33: =IF((SUM(D33,G33,J33,M33,P33,S33)=0),"",(SUM(D33,G33,J33,M33,P33,S33))) -> #VALUE! | W33: =IF((SUM(E33,H33,K33,N33,Q33,T33)=0),"",(SUM(E33,H33,K33,N33,Q33,T33))) -> #REF! | X33: ="$#ODWOŁANIE$#ODWOŁANIE"/"$#ODWOŁANIE$#ODWOŁANIE"% -> #VALUE!
B34: Dofinansowanie kosztów szkolenia, o których mowa w art. 18 ustawy o języku migowym i innych środkach komunikowania się - art. 47 ust 1 pkt. 5 lit. b | I34: =IF(('Pl 2016-20 PFC'!D196=0),"",'Pl 2016-20 PFC'!D196) -> 2800000 | J34: =IF(('Pl 2016-20 PFC'!E196=0),"",'Pl 2016-20 PFC'!E196) | K34: =IF(('Pl 2016-20 PFC'!F196=0),"",'Pl 2016-20 PFC'!F196) -> 2800000 | U34: =IF((SUM(C34,F34,I34,L34,O34,R34)=0),"",(SUM(C34,F34,I34,L34,O34,R34))) -> 2800000 | V34: =IF((SUM(D34,G34,J34,M34,P34,S34)=0),"0",(SUM(D34,G34,J34,M34,P34,S34))) -> 0 | W34: =IF((SUM(E34,H34,K34,N34,Q34,T34)=0),"",(SUM(E34,H34,K34,N34,Q34,T34))) -> 2800000 | X34: ="$#ODWOŁANIE$#ODWOŁANIE"/"$#ODWOŁANIE$#ODWOŁANIE"% -> #VALUE!
A35: j) | B35: dofinansowanie badań, ekspertyz, analiz art. 47 ust. 1 pkt 5 lit.a | C35: =IF(('Pl 2016-20 PFC'!D134=0),"",'Pl 2016-20 PFC'!D134) -> 1300000 | D35: =IF(('Pl 2016-20 PFC'!E134=0),"",'Pl 2016-20 PFC'!E134) | E35: =IF(('Pl 2016-20 PFC'!F134=0),"",'Pl 2016-20 PFC'!F134) -> 1300000 | F35: =IF(('Pl 2016-20 PFC'!D175=0),"",'Pl 2016-20 PFC'!D175) -> 1500000 | G35: =IF(('Pl 2016-20 PFC'!E175=0),"",'Pl 2016-20 PFC'!E175) | H35: =IF(('Pl 2016-20 PFC'!F175=0),"",'Pl 2016-20 PFC'!F175) -> 1500000 | I35: =IF(('Pl 2016-20 PFC'!M134=0),"",'Pl 2016-20 PFC'!M134) | J35: =IF(('Pl 2016-20 PFC'!N134=0),"",'Pl 2016-20 PFC'!N134) | K35: =IF(('Pl 2016-20 PFC'!O134=0),"",'Pl 2016-20 PFC'!O134) | L35: =IF(('Pl 2016-20 PFC'!D307=0),"",'Pl 2016-20 PFC'!D307) -> 100000 | M35: =IF(('Pl 2016-20 PFC'!E307=0),"",'Pl 2016-20 PFC'!E307) | N35: =IF(('Pl 2016-20 PFC'!F307=0),"",'Pl 2016-20 PFC'!F307) -> 100000 | O35: =IF(('Pl 2016-20 PFC'!D325=0),"",'Pl 2016-20 PFC'!D325) -> 100000 | P35: =IF(('Pl 2016-20 PFC'!E325=0),"",'Pl 2016-20 PFC'!E325) | Q35: =IF(('Pl 2016-20 PFC'!F325=0),"",'Pl 2016-20 PFC'!F325) -> 100000 | U35: =IF((SUM(C35,F35,I35,L35,O35,R35)=0),"",(SUM(C35,F35,I35,L35,O35,R35))) -> 3000000 | V35: =IF((SUM(D35,G35,J35,M35,P35,S35)=0),"0",(SUM(D35,G35,J35,M35,P35,S35))) -> 0 | W35: =IF((SUM(E35,H35,K35,N35,Q35,T35)=0),"",(SUM(E35,H35,K35,N35,Q35,T35))) -> 3000000 | X35: ="$#ODWOŁANIE$#ODWOŁANIE"/"$#ODWOŁANIE$#ODWOŁANIE"% -> #VALUE!
A36: C-2 | B36: Programy służące rehabilitacji społecznej i zawodowej art. 47 ust. 1 pkt 4 | C36: =IF((SUM(C37:C52)=0),"",SUM(C37:C52)) -> 76500000 | D36: =IF((SUM(D37:D52)=0),"",SUM(D37:D52)) | E36: =IF((SUM(E37:E52)=0),"",SUM(E37:E52)) -> 76500000 | F36: =IF((SUM(F37:F52)=0),"",SUM(F37:F52)) -> 11300000 | G36: =IF((SUM(G37:G52)=0),"",SUM(G37:G52)) | H36: =IF((SUM(H37:H52)=0),"",SUM(H37:H52)) -> 11300000 | I36: =IF((SUM(I37:I52)=0),"",SUM(I37:I52)) | J36: =IF((SUM(J37:J52)=0),"",SUM(J37:J52)) | ... T36: =IF((SUM(T37:T52)=0),"",SUM(T37:T52)) | U36: =IF((SUM(C36,F36,I36,L36,O36,R36)=0),"",(SUM(C36,F36,I36,L36,O36,R36))) -> 128000000 | V36: =IF((SUM(D36,G36,J36,M36,P36,S36)=0),"0",(SUM(D36,G36,J36,M36,P36,S36))) -> 0 | W36: =IF((SUM(E36,H36,K36,N36,Q36,T36)=0),"",(SUM(E36,H36,K36,N36,Q36,T36))) -> 128000000 | X36: =IF((SUM(X37:X52)=0),"",SUM(X37:X52)) -> #VALUE!
A37: a) | B37: "Junior" | C37: =IF(('Pl 2016-20 PFC'!D138=0),"",'Pl 2016-20 PFC'!D138) | D37: =IF(('Pl 2016-20 PFC'!E138=0),"",'Pl 2016-20 PFC'!E138) | E37: =IF(('Pl 2016-20 PFC'!F138=0),"",'Pl 2016-20 PFC'!F138) | U37: =IF((SUM(C37,F37,I37,L37,O37,R37)=0),"",(SUM(C37,F37,I37,L37,O37,R37))) | V37: =IF((SUM(D37,G37,J37,M37,P37,S37)=0),"",(SUM(D37,G37,J37,M37,P37,S37))) | W37: =IF((SUM(E37,H37,K37,N37,Q37,T37)=0),"",(SUM(E37,H37,K37,N37,Q37,T37))) | X37: ="$#ODWOŁANIE$#ODWOŁANIE"/"$#ODWOŁANIE$#ODWOŁANIE"% -> #VALUE!
A38: c) | B38: "Komputer dla Homera 2010" | I38: =IF(('Pl 2016-20 PFC'!D200=0),"",'Pl 2016-20 PFC'!D200) | J38: =IF(('Pl 2016-20 PFC'!E200=0),"",'Pl 2016-20 PFC'!E200) | K38: =IF(('Pl 2016-20 PFC'!F200=0),"",'Pl 2016-20 PFC'!F200) | U38: =IF((SUM(C38,F38,I38,L38,O38,R38)=0),"",(SUM(C38,F38,I38,L38,O38,R38))) | V38: =IF((SUM(D38,G38,J38,M38,P38,S38)=0),"",(SUM(D38,G38,J38,M38,P38,S38))) | W38: =IF((SUM(E38,H38,K38,N38,Q38,T38)=0),"",(SUM(E38,H38,K38,N38,Q38,T38))) | X38: ="$#ODWOŁANIE$#ODWOŁANIE"/"$#ODWOŁANIE$#ODWOŁANIE"% -> #VALUE!
A39: d) | B39: "Student II" | I39: =IF(('Pl 2016-20 PFC'!D201=0),"",'Pl 2016-20 PFC'!D201) | J39: =IF(('Pl 2016-20 PFC'!E201=0),"",'Pl 2016-20 PFC'!E201) | K39: =IF(('Pl 2016-20 PFC'!F201=0),"",'Pl 2016-20 PFC'!F201) | U39: =IF((SUM(C39,F39,I39,L39,O39,R39)=0),"",(SUM(C39,F39,I39,L39,O39,R39))) | V39: =IF((SUM(D39,G39,J39,M39,P39,S39)=0),"",(SUM(D39,G39,J39,M39,P39,S39))) | W39: =IF((SUM(E39,H39,K39,N39,Q39,T39)=0),"",(SUM(E39,H39,K39,N39,Q39,T39))) | X39: ="$#ODWOŁANIE$#ODWOŁANIE"/"$#ODWOŁANIE$#ODWOŁANIE"% -> #VALUE!
A40: e) | B40: "Pegaz 2003" | C40: =IF(('Pl 2016-20 PFC'!D149=0),"",'Pl 2016-20 PFC'!D149) | D40: =IF(('Pl 2016-20 PFC'!E149=0),"",'Pl 2016-20 PFC'!E149) | E40: =IF(('Pl 2016-20 PFC'!F149=0),"",'Pl 2016-20 PFC'!F149) | U40: =IF((SUM(C40,F40,I40,L40,O40,R40)=0),"",(SUM(C40,F40,I40,L40,O40,R40))) | V40: =IF((SUM(D40,G40,J40,M40,P40,S40)=0),"",(SUM(D40,G40,J40,M40,P40,S40))) | W40: =IF((SUM(E40,H40,K40,N40,Q40,T40)=0),"",(SUM(E40,H40,K40,N40,Q40,T40))) | X40: ="$#ODWOŁANIE$#ODWOŁANIE"/"$#ODWOŁANIE$#ODWOŁANIE"% -> #VALUE!
B41: "Pegaz 2010" | I41: =IF(('Pl 2016-20 PFC'!D202=0),"",'Pl 2016-20 PFC'!D202) | J41: =IF(('Pl 2016-20 PFC'!E202=0),"",'Pl 2016-20 PFC'!E202) | K41: =IF(('Pl 2016-20 PFC'!F202=0),"",'Pl 2016-20 PFC'!F202) | U41: =IF((SUM(C41,F41,I41,L41,O41,R41)=0),"",(SUM(C41,F41,I41,L41,O41,R41))) | V41: =IF((SUM(D41,G41,J41,M41,P41,S41)=0),"",(SUM(D41,G41,J41,M41,P41,S41))) | W41: =IF((SUM(E41,H41,K41,N41,Q41,T41)=0),"",(SUM(E41,H41,K41,N41,Q41,T41))) | X41: ="$#ODWOŁANIE$#ODWOŁANIE"/"$#ODWOŁANIE$#ODWOŁANIE"% -> #VALUE!
A42: g) | B42: "Pitagoras 2007" | C42: =IF(('Pl 2016-20 PFC'!D137=0),"",'Pl 2016-20 PFC'!D137) | D42: =IF(('Pl 2016-20 PFC'!E137=0),"",'Pl 2016-20 PFC'!E137) | E42: =IF(('Pl 2016-20 PFC'!F137=0),"",'Pl 2016-20 PFC'!F137) | F42: =IF(('Pl 2016-20 PFC'!D179=0),"",'Pl 2016-20 PFC'!D179) | G42: =IF(('Pl 2016-20 PFC'!E179=0),"",'Pl 2016-20 PFC'!E179) | H42: =IF(('Pl 2016-20 PFC'!F179=0),"",'Pl 2016-20 PFC'!F179) | U42: =IF((SUM(C42,F42,I42,L42,O42,R42)=0),"",(SUM(C42,F42,I42,L42,O42,R42))) | V42: =IF((SUM(D42,G42,J42,M42,P42,S42)=0),"",(SUM(D42,G42,J42,M42,P42,S42))) | W42: =IF((SUM(E42,H42,K42,N42,Q42,T42)=0),"",(SUM(E42,H42,K42,N42,Q42,T42))) | X42: ="$#ODWOŁANIE$#ODWOŁANIE"/"$#ODWOŁANIE$#ODWOŁANIE"% -> #VALUE!
A43: m) | B43: "Aktywny Samorząd" | C43: =IF(('Pl 2016-20 PFC'!D153=0),"",'Pl 2016-20 PFC'!D153) -> 64980000 | D43: =IF(('Pl 2016-20 PFC'!E153=0),"",'Pl 2016-20 PFC'!E153) | E43: =IF(('Pl 2016-20 PFC'!F153=0),"",'Pl 2016-20 PFC'!F153) -> 64980000 | L43: =IF(('Pl 2016-20 PFC'!D319=0),"",'Pl 2016-20 PFC'!D319) -> 35800000 | M43: =IF(('Pl 2016-20 PFC'!E319=0),"",'Pl 2016-20 PFC'!E319) | N43: =IF(('Pl 2016-20 PFC'!F319=0),"",'Pl 2016-20 PFC'!F319) -> 35800000 | U43: =IF((SUM(C43,F43,I43,L43,O43,R43)=0),"0",(SUM(C43,F43,I43,L43,O43,R43))) -> 100780000 | V43: =IF((SUM(D43,G43,J43,M43,P43,S43)=0),"0",(SUM(D43,G43,J43,M43,P43,S43))) -> 0 | W43: =IF((SUM(E43,H43,K43,N43,Q43,T43)=0),"0",(SUM(E43,H43,K43,N43,Q43,T43))) -> 100780000 | X43: ="$#ODWOŁANIE$#ODWOŁANIE"/"$#ODWOŁANIE$#ODWOŁANIE"% -> #VALUE!
...

Sheet BZ-zmiany (2)
B3: Wydatki Państwowego Funduszu Rehabilitacji Osób Niepełnosprawnych w układzie zadaniowym w 2017 roku
B5: Część D
B6: Lp. | C6: Nazwa funkcji/zadania/podzadania/ działania | D6: Cel | E6: Miernik | H6: Planowane wydatki w 2017 r.
E7: Nazwa | F7: Wartość bazowa (2014r.) | G7: 2016 r. | H7: Ogółem MEMORIAŁ (kol.9+12) | I7: Ogółem KASA | J7: stałe | K7: % kasowy | L7: Plan - zadania ustawowe i programy zatwierdzone przez RN | M7: zmiany | N7: Po zmianach zadania ustawowe i programy zatwierdzone przez RN | O7: realizacja zadań | Q7: inwestycyjne | R7: =K7 -> % kasowy | S7: razem zadania i inwestycyjne (kol.10+11) | T7: razem zadania i inwestycyjne kasowo (kol.10+12)
P8: w tym inwestycje
B9: 1 | C9: 2 | D9: 4 | E9: 5 | F9: 6 | G9: 7 | H9: 8 | J9: 9 | L9: 10 | M9: 10 | N9: 10 | O9: 10 | P9: 11 | Q9: 11 | S9: 12 | T9: 12
C11: WYDATKI OGÓŁEM | F11: =SUM(F35,F101) -> 883251 | G11: =SUM(G35,G101) -> 989796 | H11: =J11+S11 -> 4913734 | I11: =K11+T11 -> 4721271 | J11: =('Plan 2014-17 Wydatki'!U53+'Plan 2014-17 Wydatki'!U57)/1000 -> 328435 | K11: =((('Plan 2014-17 Wydatki'!U53+'Plan 2014-17 Wydatki'!U57))-('Pl 2014-17 PFC MF'!G54+'Pl 2014-17 PFC MF'!G56))/1000 -> 135972 | L11: =L35+L101 -> 4513802 | N11: =N35+N101 -> 4533802 | Q11: ='Plan 2014-17 Wydatki'!U62/1000 -> 51497 | R11: ='Pl 2014-17 PFC MF'!G58/1000 -> 51497 | S11: =SUM(N11:Q11) -> 4585299 | T11: =N11+R11 -> 4585299 | U11: =J11-J46 -> 326237 | V11: =Q11-Q46 -> 42986 | W11: 133774 | X11: 42986
B12: 13.1. | C12: Pomoc i integracja społeczna | D12: Umożliwienie osobom i rodzinom przezwyciężenia trudnych sytuacji życiowych | E12: Stosunek liczby osób korzystających z pomocy niepieniężnej do ogólnej liczby osób korzystających z pomocy społecznej | F12: [-] Zmiany dotyczące sprawozdań statystycznych, umożliwiających obliczenie wartości miernika, zostały zgłoszone do GUS i zostaną wprowadzone w roku 2011 | G12: Zmiany dotyczące sprawozdań statystycznych, umożliwiających obliczenie wartości miernika, zostały zgłoszone do GUS i zostaną wprowadzone w roku 2011
B13: 13.1.1. | C13: Wspieranie osób zagrożonych wykluczeniem społecznym | D13: Wspieranie lokalnych inicjatyw w obszarze pomocy i integracji społecznej | E13: Liczba dobrych praktyk otrzymujących wsparcie finansowe | F13: [2009] 260 | G13: 260
B14: 13.1.1.1. | C14: Przeciwdziałanie bezdomności
B15: 13.1.1.2. | C15: Wspieranie osób z zaburzeniami psychicznymi
B16: 13.1.1.3. | C16: Wspieranie alternatywnych, nowatorskich form zatrudnienia
B17: 13.1.1.4. | C17: Aktywizacja poprzez prace społecznie użyteczne i roboty publiczne
B18: 13.1.1.5. | C18: Integracja społeczna dzieci i młodzieży
B19: 13.1.1.6. | C19: Dofinansowanie realizacji programu wieloletniego "Pomoc państwa w zakresie dożywiania"
B20: 13.1.2. | C20: Tworzenie, wdrażanie oraz realizacja przepisów o pomocy społecznej | D20: Zapewnienie dobrej jakości usług oraz usprawnianie działalności podmiotów realizujących przepisy o pomocy społecznej | E20: Odsetek instytucji pomocy społecznej, które osiągnęły wymagane standardy | F20: [2009] 12% | G20: 15%
B21: 13.1.2.1. | C21: Tworzenie i opiniowanie projektów nowych rozwiązań w obszarze pomocy społecznej w zakresie wpływu i zgodności z systemem pomocy społecznej w Polsce
B22: 13.1.2.2. | C22: Udział w procedurze nadzoru i kontroli w zakresie obowiązujących w systemie pomocy społecznej standardów oraz prawidłowej realizacji zadań z zakresu pomocy społecznej
B23: 13.1.2.3. | C23: Projektowanie rozstrzygnięć w II instancji w zakresie wydawania zezwoleń na prowadzenie określonych w Ustawie o pomocy społecznej jednostek organizacyjnych pomocy społecznej i placówek
B24: 13.1.2.4. | C24: Szkolenia w ramach Krajowego Programu Zwalczania i Zapobiegania Handlowi Ludźmi
B25: 13.1.2.5. | C25: Zobowiązania wynikające z umów o charakterze międzynarodowym, między innymi składka Eurosocial
B26: 13.1.3. | C26: Zapewnienie jakości kształcenia i doskonalenia zawodowego służb społecznych | D26: Podnoszenie kompetencji służb społecznych | E26: Udział liczby pracowników socjalnych, którzy zdobyli I i II stopień specjalizacji w ogólnej liczbie pracowników socjalnych | F26: [2009] 8% | G26: 8%
B27: 13.1.3.1. | C27: Działalność Centralnej Komisji Egzaminacyjnej
B28: 13.1.3.2. | C28: Przyznawanie nagród specjalnych przez Ministra do spraw zabezpieczenia społecznego za wybitne osiągnięcia w obszarze pomocy społecznej wraz z organizacją uroczystości z tym związanych, w tym nagrody dla pracowników socjalnych
B29: 13.1.3.3. | C29: Działalność Rady Redakcyjnej "Biblioteka pracownika socjalnego"
B30: 13.1.4. | C30: Działalność badawcza, doradcza i informacyjna | D30: Poszerzenie wiedzy z zakresu pomocy społecznej | E30: Udział kwoty przeznaczonej na działalność badawczą, doradczą i informacyjną w stosunku do ogólnej kwoty przeznaczonej na pomoc i integrację społeczną | F30: [2009] 2,5% | G30: 2,5%
B31: 13.1.4.1. | C31: Badania z obszaru pomocy społecznej, w tym obliczanie minimum egzystencji, minimum socjalnego i progu interwencji socjalnej
B32: 13.1.4.2. | C32: Działalność Rady Pomocy Społecznej
B33: 13.1.4.3. | C33: Organizacja kampanii społecznych, w tym kampanii na rzecz przeciwdziałania przemocy w rodzinie
B34: 13.1.4.4. | C34: Spotkania z kadrą pomocy społecznej, w tym podróże krajowe
B35: 13.1. | C35: Pomoc i integracja społeczna | D35: Przeciwdziałanie wykluczeniu społecznemu osób niepełnosprawnych | E35: Brak | F35: =SUM(F40,F43:F47,F49) -> 507821 | G35: =SUM(G40,G43:G47,G49) -> 610756 | H35: =J35+S35 -> 1298604.2 | I35: =K35+T35 -> 1246639.2 | J35: =J36 -> 90281.99 | K35: =K36 -> 38316.98 | L35: =SUM(L36) -> 1188205 | N35: =SUM(N36) -> 1188205 | Q35: =+Q36 -> 20117.22 | R35: =+R36 -> 20117.22 | S35: =SUM(N35:Q35) -> 1208322.2 | T35: =N35+R35 -> 1208322.2 | U35: =L35*100/L11 -> 26.323817 | V35: =S35*100/S11 -> 26.352092 | W35: =SUM(J35,J101) -> 328435 | X35: =SUM(Q35,Q101) -> 51497
B36: 13.1.3. | C36: Wyrównywanie szans zawodowych i integracja społeczna osób niepełnosprawnych | D36: Objęcie całej populacji osób niepełnosprawnych różnymi formami rehabilitacji adekwatnymi do profilu niepełnosprawności | E36: Liczba osób niepełnosprawnych,objętych wsparciem w zakresie rehabilitacji | F36: =SUM(F37,F42,F102) -> 883251 | G36: =SUM(G37,G42,G102) -> 989796 | H36: =J36+S36 -> 1298604.2 | I36: =K36+T36 -> 1246639.2 | J36: =J37+J42+J93 -> 90281.99 | K36: =K37+K42+K93 -> 38316.98 | L36: =SUM(L37+L42+L93) -> 1188205 | N36: =SUM(N37+N42+N93) -> 1188205 | Q36: =+Q37+Q42+Q93 -> 20117.22 | R36: =+R37+R42+R93 -> 20117.22 | S36: =SUM(N36:Q36) -> 1208322.2 | T36: =N36+R36 -> 1208322.2 | U36: =L36*100/L11 -> 26.323817 | V36: =S36*100/S11 -> 26.352092 | W36: =SUM(J37,J42,J93) -> 90281.99 | X36: =SUM(Q37,Q42,Q93) -> 20117.22
B37: 13.1.3.1. | C37: Koordynacja i wspieranie rehabilitacji społecznej, realizowanej przez JST | D37: objęcie wsparciem pośrednim osób niepełnosprawnych w zakresie rehabilitacji społecznej realizowanych zadań przez JST | E37: Liczba osób niepełnosprawnych objętych wsparciem pośrednim w zakresie zadań rehabilitacji społecznej realizowanych przez JST | F37: =SUM(F40) -> 477957 | G37: =SUM(G40) -> 489736 | H37: =J37+S37+1 -> 843870.14 | I37: =K37+T37+1 -> 809226.8 | J37: =$U$11*18% -> 58722.66 | K37: =$W$11*18% -> 24079.32 | L37: =SUM(L38:L41) -> 777409 | N37: =SUM(N38:N41) -> 777409 | Q37: =V11*18% -> 7737.48 | R37: =X11*18% -> 7737.48 | S37: =SUM(N37:Q37) -> 785146.48 | T37: =N37+R37 -> 785146.48 | U37: =L37*100/L11 -> 17.222931 | V37: =S37*100/S11 -> 17.123125
C38: samorządy wojewódzkie na realizację zadań | F38: 901 | G38: 867 | L38: 62920 | M38: =('Plan 2014-17 Wydatki'!V14*90%)/1000 -> 0 | N38: =SUM(L38:M38) -> 62920 | T38: =N38+R38 -> 62920
